BEGIN:VCALENDAR
VERSION:2.0
PRODID:-//ENDO - ECPv6.15.14//NONSGML v1.0//EN
CALSCALE:GREGORIAN
METHOD:PUBLISH
X-WR-CALNAME:ENDO
X-ORIGINAL-URL:https://endo.gr/en
X-WR-CALDESC:Events for ENDO
REFRESH-INTERVAL;VALUE=DURATION:PT1H
X-Robots-Tag:noindex
X-PUBLISHED-TTL:PT1H
BEGIN:VTIMEZONE
TZID:Europe/Athens
BEGIN:DAYLIGHT
TZOFFSETFROM:+0200
TZOFFSETTO:+0300
TZNAME:EEST
DTSTART:20230326T010000
END:DAYLIGHT
BEGIN:STANDARD
TZOFFSETFROM:+0300
TZOFFSETTO:+0200
TZNAME:EET
DTSTART:20231029T010000
END:STANDARD
BEGIN:DAYLIGHT
TZOFFSETFROM:+0200
TZOFFSETTO:+0300
TZNAME:EEST
DTSTART:20240331T010000
END:DAYLIGHT
BEGIN:STANDARD
TZOFFSETFROM:+0300
TZOFFSETTO:+0200
TZNAME:EET
DTSTART:20241027T010000
END:STANDARD
BEGIN:DAYLIGHT
TZOFFSETFROM:+0200
TZOFFSETTO:+0300
TZNAME:EEST
DTSTART:20250330T010000
END:DAYLIGHT
BEGIN:STANDARD
TZOFFSETFROM:+0300
TZOFFSETTO:+0200
TZNAME:EET
DTSTART:20251026T010000
END:STANDARD
END:VTIMEZONE
BEGIN:VEVENT
DTSTART;VALUE=DATE:20241213
DTEND;VALUE=DATE:20241215
DTSTAMP:20260423T022502
CREATED:20241117T115051Z
LAST-MODIFIED:20241209T111427Z
UID:19055-1734130800-1734217199@endo.gr
SUMMARY:Πυρηνική Ιατρική στην Ενδοκρινολογία\, Αίθουσα "Δώμα" ΓΝΑ "Ευαγγελισμός"
DESCRIPTION:Ξεκίνησε η αντίστροφη μέτρηση για την επιστημονική ημερίδα με τίτλο «Πυρηνική Ιατρική στην Ενδοκρινολογία»\, την οποία διοργανώνει η Ελληνική Εταιρεία Πυρηνικής Ιατρικής & Μοριακής Απεικόνισης (ΕΕΠΙ&ΜΑ)\, σε συνεργασία με την Ελληνική Ενδοκρινολογική Εταιρεία | Πανελλήνια Ένωση Ενδοκρινολόγων. \nΗ εκδήλωση θα πραγματοποιηθεί στην Αθήνα\, στην αίθουσα «Δώμα» του Γ.Ν.Α «Ο Ευαγγελισμός»\, το Σάββατο\, 14 Δεκεμβρίου 2024\, με ώρα προσέλευσης 09:30. Η συμμετοχή στην ημερίδα είναι δωρεάν. \n\nΗμερίδα Συνεχιζόμενης Εκπαίδευσης | Πυρηνική Ιατρική στην Ενδοκρινολογία\nΣάββατο\, 14 Δεκεμβρίου 2024 | «Δώμα» | Γ.Ν.Α. Ο Ευαγγελισμός \n 
URL:https://endo.gr/en/event/%cf%80%cf%85%cf%81%ce%b7%ce%bd%ce%b9%ce%ba%ce%ae-%ce%b9%ce%b1%cf%84%cf%81%ce%b9%ce%ba%ce%ae-%cf%83%cf%84%ce%b7%ce%bd-%ce%b5%ce%bd%ce%b4%ce%bf%ce%ba%cf%81%ce%b9%ce%bd%ce%bf%ce%bb%ce%bf%ce%b3%ce%af/
CATEGORIES:Εκδηλώσεις E.E.E.,Συνδιοργάνωση με την Εταιρεία
ATTACH;FMTTYPE=image/png:https://endo.gr/wp-content/uploads/2024/11/PYRHNIKH-ENDOKRINOLOGIA.png
END:VEVENT
END:VCALENDAR