BEGIN:VCALENDAR
VERSION:2.0
PRODID:-//ENDO - ECPv6.15.14//NONSGML v1.0//EN
CALSCALE:GREGORIAN
METHOD:PUBLISH
X-WR-CALNAME:ENDO
X-ORIGINAL-URL:https://endo.gr/en
X-WR-CALDESC:Events for ENDO
REFRESH-INTERVAL;VALUE=DURATION:PT1H
X-Robots-Tag:noindex
X-PUBLISHED-TTL:PT1H
BEGIN:VTIMEZONE
TZID:Europe/Athens
BEGIN:DAYLIGHT
TZOFFSETFROM:+0200
TZOFFSETTO:+0300
TZNAME:EEST
DTSTART:20240331T010000
END:DAYLIGHT
BEGIN:STANDARD
TZOFFSETFROM:+0300
TZOFFSETTO:+0200
TZNAME:EET
DTSTART:20241027T010000
END:STANDARD
BEGIN:DAYLIGHT
TZOFFSETFROM:+0200
TZOFFSETTO:+0300
TZNAME:EEST
DTSTART:20250330T010000
END:DAYLIGHT
BEGIN:STANDARD
TZOFFSETFROM:+0300
TZOFFSETTO:+0200
TZNAME:EET
DTSTART:20251026T010000
END:STANDARD
BEGIN:DAYLIGHT
TZOFFSETFROM:+0200
TZOFFSETTO:+0300
TZNAME:EEST
DTSTART:20260329T010000
END:DAYLIGHT
BEGIN:STANDARD
TZOFFSETFROM:+0300
TZOFFSETTO:+0200
TZNAME:EET
DTSTART:20261025T010000
END:STANDARD
END:VTIMEZONE
BEGIN:VEVENT
DTSTART;TZID=Europe/Athens:20251212T090000
DTEND;TZID=Europe/Athens:20251212T140000
DTSTAMP:20260421T185839
CREATED:20251119T110728Z
LAST-MODIFIED:20251119T110847Z
UID:25060-1765530000-1765548000@endo.gr
SUMMARY:Δωρεάν Υπερηχογραφική Εξέταση Θυρεοειδούς
DESCRIPTION:
URL:https://endo.gr/en/event/%ce%b4%cf%89%cf%81%ce%b5%ce%ac%ce%bd-%cf%85%cf%80%ce%b5%cf%81%ce%b7%cf%87%ce%bf%ce%b3%cf%81%ce%b1%cf%86%ce%b9%ce%ba%ce%ae-%ce%b5%ce%be%ce%ad%cf%84%ce%b1%cf%83%ce%b7-%ce%b8%cf%85%cf%81%ce%b5%ce%bf/
LOCATION:A΄ΚΑΠΗ ΔΗΜΟΥ ΜΕΤΑΜΟΡΦΩΣΗΣ\, Κώστα Βάρναλη 34\, Μεταμόρφωση\, 14451\, Greece
CATEGORIES:Εκδηλώσεις E.E.E.,Συνδιοργάνωση με την Εταιρεία
ATTACH;FMTTYPE=image/jpeg:https://endo.gr/wp-content/uploads/2025/11/DimosMetamAfisa12-12-25_1a-002.jpg
END:VEVENT
END:VCALENDAR