BEGIN:VCALENDAR
VERSION:2.0
PRODID:-//ENDO - ECPv6.15.14//NONSGML v1.0//EN
CALSCALE:GREGORIAN
METHOD:PUBLISH
X-ORIGINAL-URL:https://endo.gr/en
X-WR-CALDESC:Events for ENDO
REFRESH-INTERVAL;VALUE=DURATION:PT1H
X-Robots-Tag:noindex
X-PUBLISHED-TTL:PT1H
BEGIN:VTIMEZONE
TZID:Europe/Athens
BEGIN:DAYLIGHT
TZOFFSETFROM:+0200
TZOFFSETTO:+0300
TZNAME:EEST
DTSTART:20250330T010000
END:DAYLIGHT
BEGIN:STANDARD
TZOFFSETFROM:+0300
TZOFFSETTO:+0200
TZNAME:EET
DTSTART:20251026T010000
END:STANDARD
BEGIN:DAYLIGHT
TZOFFSETFROM:+0200
TZOFFSETTO:+0300
TZNAME:EEST
DTSTART:20260329T010000
END:DAYLIGHT
BEGIN:STANDARD
TZOFFSETFROM:+0300
TZOFFSETTO:+0200
TZNAME:EET
DTSTART:20261025T010000
END:STANDARD
BEGIN:DAYLIGHT
TZOFFSETFROM:+0200
TZOFFSETTO:+0300
TZNAME:EEST
DTSTART:20270328T010000
END:DAYLIGHT
BEGIN:STANDARD
TZOFFSETFROM:+0300
TZOFFSETTO:+0200
TZNAME:EET
DTSTART:20271031T010000
END:STANDARD
END:VTIMEZONE
BEGIN:VEVENT
DTSTART;VALUE=DATE:20260305
DTEND;VALUE=DATE:20260308
DTSTAMP:20260419T171454
CREATED:20250723T082708Z
LAST-MODIFIED:20260305T113133Z
UID:24776-1772668800-1772927999@endo.gr
SUMMARY:29ος Κύκλος Εντατικής Εκπαίδευσης στην Ενδοκρινολογία (Ενδοκρινολογία Αναπαραγωγής - Παιδιατρική Ενδοκρινολογία)
DESCRIPTION:Σας ενημερώνουμε ότι ο 29ος Κύκλος Εντατικής Εκπαίδευσης στην Ενδοκρινολογία με θέμα: “Ενδοκρινολογία Αναπαραγωγής – Παιδιατρική Ενδοκρινολογία” και το 4th Hormones Symposia “Menelaos Batrinos”\, θα πραγματοποιηθούν στις 5-7 Μαρτίου 2026\, στο Πολεμικό Μουσείο\, στην Αθήνα. \nΣτο Συνέδριο σύμφωνα με τα κριτήρια της UEMS – EACCME χορηγούνται 19.5 μόρια Συνεχιζόμενης Ιατρικής Εκπαίδευσης (ECMECs). \nΚόστος εγγραφής:\nΕιδικευμένοι: 100€\nΕιδικευόμενοι: 40€\nΟι τιμές επιβαρύνονται με ΦΠΑ 24% με την έκδοση του τιμολογίου μετά το πέρας του συνεδρίου.
URL:https://endo.gr/en/event/29%ce%bf%cf%82-%ce%ba%cf%8d%ce%ba%ce%bb%ce%bf%cf%82-%ce%b5%ce%bd%cf%84%ce%b1%cf%84%ce%b9%ce%ba%ce%ae%cf%82-%ce%b5%ce%ba%cf%80%ce%b1%ce%af%ce%b4%ce%b5%cf%85%cf%83%ce%b7%cf%82-%cf%83%cf%84%ce%b7%ce%bd/
LOCATION:Πολεμικό Μουσείο\, Rizari 2-4\, Athina 106 75\, Athens\, Greece
CATEGORIES:Εκδηλώσεις E.E.E.,Κύκλοι Εντατικής Εκπαίδευσης
ATTACH;FMTTYPE=image/jpeg:https://endo.gr/wp-content/uploads/2025/07/Afisa-29os-kyklos-entatikis-ekpaideusis-stin-endokrinologia_42x58_2.jpg
END:VEVENT
END:VCALENDAR