BEGIN:VCALENDAR
VERSION:2.0
PRODID:-//ENDO - ECPv6.15.14//NONSGML v1.0//EN
CALSCALE:GREGORIAN
METHOD:PUBLISH
X-ORIGINAL-URL:https://endo.gr/en
X-WR-CALDESC:Events for ENDO
REFRESH-INTERVAL;VALUE=DURATION:PT1H
X-Robots-Tag:noindex
X-PUBLISHED-TTL:PT1H
BEGIN:VTIMEZONE
TZID:Europe/Athens
BEGIN:DAYLIGHT
TZOFFSETFROM:+0200
TZOFFSETTO:+0300
TZNAME:EEST
DTSTART:20250330T010000
END:DAYLIGHT
BEGIN:STANDARD
TZOFFSETFROM:+0300
TZOFFSETTO:+0200
TZNAME:EET
DTSTART:20251026T010000
END:STANDARD
BEGIN:DAYLIGHT
TZOFFSETFROM:+0200
TZOFFSETTO:+0300
TZNAME:EEST
DTSTART:20260329T010000
END:DAYLIGHT
BEGIN:STANDARD
TZOFFSETFROM:+0300
TZOFFSETTO:+0200
TZNAME:EET
DTSTART:20261025T010000
END:STANDARD
BEGIN:DAYLIGHT
TZOFFSETFROM:+0200
TZOFFSETTO:+0300
TZNAME:EEST
DTSTART:20270328T010000
END:DAYLIGHT
BEGIN:STANDARD
TZOFFSETFROM:+0300
TZOFFSETTO:+0200
TZNAME:EET
DTSTART:20271031T010000
END:STANDARD
END:VTIMEZONE
BEGIN:VEVENT
DTSTART;VALUE=DATE:20260522
DTEND;VALUE=DATE:20260524
DTSTAMP:20260419T171711
CREATED:20260115T130713Z
LAST-MODIFIED:20260417T133110Z
UID:25818-1779408000-1779580799@endo.gr
SUMMARY:3ο Σχολείο Ενδοκρινολογίας (Θυρεοειδής)
DESCRIPTION:Σας ενημερώνουμε ότι η Ελληνική Ενδοκρινολογική Εταιρεία προτίθεται να διοργανώσει Κύκλο Μαθημάτων με τίτλο “Σχολεία Ενδοκρινολογίας” με συμμετοχή 40 Επαγγελματιών Υγείας\, μέλη της ΕΕΕ-ΠΕΕ\, σε κάθε εκδήλωση. \nΤο 3ο Σχολείο Ενδοκρινολογίας (Θυρεοειδής)\, θα πραγματοποιηθεί στο Αριστοτέλειο Πανεπιστήμιο\, στη Θεσσαλονίκη\, από 22-23 Μαΐου 2026. \nΓια εγγραφές μπορείτε να στέλνετε στο info@endo.gr .
URL:https://endo.gr/en/event/3%ce%bf-%cf%83%cf%87%ce%bf%ce%bb%ce%b5%ce%af%ce%bf-%ce%b5%ce%bd%ce%b4%ce%bf%ce%ba%cf%81%ce%b9%ce%bd%ce%bf%ce%bb%ce%bf%ce%b3%ce%af%ce%b1%cf%82-%ce%b8%cf%85%cf%81%ce%b5%ce%bf%ce%b5%ce%b9%ce%b4%ce%ae/
LOCATION:ΑΡΙΣΤΟΤΕΛΕΙΟ ΠΑΝΕΠΙΣΤΗΜΙΟ ΘΕΣΣΑΛΟΝΙΚΗΣ\, Thessaloniki\, 541 24\, Greece
CATEGORIES:Εκδηλώσεις E.E.E.,Κύκλοι Εντατικής Εκπαίδευσης
ATTACH;FMTTYPE=image/jpeg:https://endo.gr/wp-content/uploads/2026/01/Thyroid-school-conv-1-scaled.jpeg
END:VEVENT
END:VCALENDAR