BEGIN:VCALENDAR
VERSION:2.0
PRODID:-//ENDO - ECPv6.15.14//NONSGML v1.0//EN
CALSCALE:GREGORIAN
METHOD:PUBLISH
X-ORIGINAL-URL:https://endo.gr/en
X-WR-CALDESC:Events for ENDO
REFRESH-INTERVAL;VALUE=DURATION:PT1H
X-Robots-Tag:noindex
X-PUBLISHED-TTL:PT1H
BEGIN:VTIMEZONE
TZID:Europe/Athens
BEGIN:DAYLIGHT
TZOFFSETFROM:+0200
TZOFFSETTO:+0300
TZNAME:EEST
DTSTART:20210328T010000
END:DAYLIGHT
BEGIN:STANDARD
TZOFFSETFROM:+0300
TZOFFSETTO:+0200
TZNAME:EET
DTSTART:20211031T010000
END:STANDARD
BEGIN:DAYLIGHT
TZOFFSETFROM:+0200
TZOFFSETTO:+0300
TZNAME:EEST
DTSTART:20220327T010000
END:DAYLIGHT
BEGIN:STANDARD
TZOFFSETFROM:+0300
TZOFFSETTO:+0200
TZNAME:EET
DTSTART:20221030T010000
END:STANDARD
BEGIN:DAYLIGHT
TZOFFSETFROM:+0200
TZOFFSETTO:+0300
TZNAME:EEST
DTSTART:20230326T010000
END:DAYLIGHT
BEGIN:STANDARD
TZOFFSETFROM:+0300
TZOFFSETTO:+0200
TZNAME:EET
DTSTART:20231029T010000
END:STANDARD
END:VTIMEZONE
BEGIN:VEVENT
DTSTART;VALUE=DATE:20220124
DTEND;VALUE=DATE:20220129
DTSTAMP:20260425T150711
CREATED:20220124T113326Z
LAST-MODIFIED:20250121T113532Z
UID:21530-1642982400-1643414399@endo.gr
SUMMARY:Adrenal masterclass 2022
DESCRIPTION:Adrenal masterclass 2022 \nThe Radboudumc Adrenal Masterclass presents state of the art lectures and workshops on clinical and pathophysiological aspects of adrenal diseases. It serves an audience of adult and pediatric endocrinologists\, clinical fellows\, internists and clinical chemists who are involved in the management of patients with adrenal disease. \nThe duration of the masterclass is 4\,5 days\, from Monday to Friday. Many national and international experts contribute to an intensive program that encompasses all major adrenal disorders: hyper- and hypocortisolism\, congenital adrenal hyperplasia\, incidentaloma\, adrenocortical cancer\, pheochromocytoma/ paraganglioma and primary aldosteronism. Apart from overview lectures on theoretical and practical issues\, there will be interactive sessions on patient cases with challenging diagnostic and therapeutic issues. Participants are encouraged to present their own cases. \nSpecial attention will be paid to indications and interpretation of testing\, including imaging procedures. In addition\, essential and practical methodological aspects of specific procedures such as adrenal venous sampling and minimally invasive adrenal surgery are demonstrated and discussed.
URL:https://endo.gr/en/event/adrenal-masterclass-2022/
LOCATION:Adrenal masterclass
CATEGORIES:Διεθνείς Εκδηλώσεις,Εκδηλώσεις E.E.E.
ATTACH;FMTTYPE=image/png:https://endo.gr/wp-content/uploads/2025/01/logo-navbar.png
END:VEVENT
END:VCALENDAR