BEGIN:VCALENDAR
VERSION:2.0
PRODID:-//ENDO - ECPv6.15.14//NONSGML v1.0//EN
CALSCALE:GREGORIAN
METHOD:PUBLISH
X-ORIGINAL-URL:https://endo.gr/en
X-WR-CALDESC:Events for ENDO
REFRESH-INTERVAL;VALUE=DURATION:PT1H
X-Robots-Tag:noindex
X-PUBLISHED-TTL:PT1H
BEGIN:VTIMEZONE
TZID:Europe/Athens
BEGIN:DAYLIGHT
TZOFFSETFROM:+0200
TZOFFSETTO:+0300
TZNAME:EEST
DTSTART:20210328T010000
END:DAYLIGHT
BEGIN:STANDARD
TZOFFSETFROM:+0300
TZOFFSETTO:+0200
TZNAME:EET
DTSTART:20211031T010000
END:STANDARD
BEGIN:DAYLIGHT
TZOFFSETFROM:+0200
TZOFFSETTO:+0300
TZNAME:EEST
DTSTART:20220327T010000
END:DAYLIGHT
BEGIN:STANDARD
TZOFFSETFROM:+0300
TZOFFSETTO:+0200
TZNAME:EET
DTSTART:20221030T010000
END:STANDARD
BEGIN:DAYLIGHT
TZOFFSETFROM:+0200
TZOFFSETTO:+0300
TZNAME:EEST
DTSTART:20230326T010000
END:DAYLIGHT
BEGIN:STANDARD
TZOFFSETFROM:+0300
TZOFFSETTO:+0200
TZNAME:EET
DTSTART:20231029T010000
END:STANDARD
END:VTIMEZONE
BEGIN:VEVENT
DTSTART;VALUE=DATE:20220910
DTEND;VALUE=DATE:20220914
DTSTAMP:20260425T050111
CREATED:20250121T095621Z
LAST-MODIFIED:20250121T095621Z
UID:21410-1662768000-1663113599@endo.gr
SUMMARY:ETA 2022 in Brussels – Belgium / 09-13 SEPT
DESCRIPTION:It is my pleasure and honour to announce to you that the 44th Annual European Thyroid Association (ETA) meeting will be held in Brussels / September 10-13\, 2022. \nPlease cf the website www.eta2022.com for more details. \nI would be grateful if you could distribute this mail among your members and/or copy the meeting link on the website of your organisation / journal. \nKind Regards and hope to see you in September \nKris G Poppe (on behalf of the LOC- ETA Meeting 2022) \n44th Annual Meeting of the European Thyroid Association\n10. – 13.09.2022\, Brussels / Belgium \neurothyroid .com – eta2022 .com
URL:https://endo.gr/en/event/eta-2022-in-brussels-belgium-09-13-sept/
LOCATION:Brussels – Belgium
CATEGORIES:Διεθνείς Εκδηλώσεις,Εκδηλώσεις E.E.E.
ATTACH;FMTTYPE=image/png:https://endo.gr/wp-content/uploads/2025/01/eta2022-232x300-1.png
END:VEVENT
BEGIN:VEVENT
DTSTART;TZID=Europe/Athens:20220919T080000
DTEND;TZID=Europe/Athens:20220923T170000
DTSTAMP:20260425T050111
CREATED:20220919T085227Z
LAST-MODIFIED:20250121T095430Z
UID:21406-1663574400-1663952400@endo.gr
SUMMARY:58th Annual Meeting of the European Association For The Study Of Diabetes (EASD 2022 in Stockholm\, Sweden)
DESCRIPTION:58th Annual Meeting of the European Association For The Study Of Diabetes (EASD 2022 in Stockholm\, Sweden)
URL:https://endo.gr/en/event/58th-annual-meeting-of-the-european-association-for-the-study-of-diabetes-easd-2022-in-stockholm-sweden/
LOCATION:Stockholm\, Sweden
CATEGORIES:Διεθνείς Εκδηλώσεις,Εκδηλώσεις E.E.E.
ATTACH;FMTTYPE=image/png:https://endo.gr/wp-content/uploads/2025/01/download.png
END:VEVENT
END:VCALENDAR