BEGIN:VCALENDAR
VERSION:2.0
PRODID:-//ENDO - ECPv6.15.14//NONSGML v1.0//EN
CALSCALE:GREGORIAN
METHOD:PUBLISH
X-ORIGINAL-URL:https://endo.gr/en
X-WR-CALDESC:Events for ENDO
REFRESH-INTERVAL;VALUE=DURATION:PT1H
X-Robots-Tag:noindex
X-PUBLISHED-TTL:PT1H
BEGIN:VTIMEZONE
TZID:Europe/Athens
BEGIN:DAYLIGHT
TZOFFSETFROM:+0200
TZOFFSETTO:+0300
TZNAME:EEST
DTSTART:20210328T010000
END:DAYLIGHT
BEGIN:STANDARD
TZOFFSETFROM:+0300
TZOFFSETTO:+0200
TZNAME:EET
DTSTART:20211031T010000
END:STANDARD
BEGIN:DAYLIGHT
TZOFFSETFROM:+0200
TZOFFSETTO:+0300
TZNAME:EEST
DTSTART:20220327T010000
END:DAYLIGHT
BEGIN:STANDARD
TZOFFSETFROM:+0300
TZOFFSETTO:+0200
TZNAME:EET
DTSTART:20221030T010000
END:STANDARD
BEGIN:DAYLIGHT
TZOFFSETFROM:+0200
TZOFFSETTO:+0300
TZNAME:EEST
DTSTART:20230326T010000
END:DAYLIGHT
BEGIN:STANDARD
TZOFFSETFROM:+0300
TZOFFSETTO:+0200
TZNAME:EET
DTSTART:20231029T010000
END:STANDARD
END:VTIMEZONE
BEGIN:VEVENT
DTSTART;TZID=Europe/Athens:20221203T090000
DTEND;TZID=Europe/Athens:20221203T160000
DTSTAMP:20260423T182151
CREATED:20221203T120941Z
LAST-MODIFIED:20250120T121228Z
UID:21325-1670058000-1670083200@endo.gr
SUMMARY:8th Birmingham Pituitary Preceptorship International Meeting 2022
DESCRIPTION:Date: Saturday 3rd December 2022\nTime: 9.00-16.00\nCost: £45 per person \nThe course will be held virtually. The link for the course will be sent 2 days before the event. The registration page will close on Thursday 1st Dec 2022 at 16.00 hrs (UK time). \nIf you have any queries regarding the event please contact n.karavitaki@bham.ac.uk. \nYou can view the programme here.
URL:https://endo.gr/en/event/8th-birmingham-pituitary-preceptorship-international-meeting-2022/
CATEGORIES:Διεθνείς Εκδηλώσεις,Εκδηλώσεις E.E.E.
ATTACH;FMTTYPE=image/png:https://endo.gr/wp-content/uploads/2025/01/main_633e9b27595ff-150x150-1.png
END:VEVENT
END:VCALENDAR