BEGIN:VCALENDAR
VERSION:2.0
PRODID:-//ENDO - ECPv6.15.14//NONSGML v1.0//EN
CALSCALE:GREGORIAN
METHOD:PUBLISH
X-WR-CALNAME:ENDO
X-ORIGINAL-URL:https://endo.gr/en
X-WR-CALDESC:Events for ENDO
REFRESH-INTERVAL;VALUE=DURATION:PT1H
X-Robots-Tag:noindex
X-PUBLISHED-TTL:PT1H
BEGIN:VTIMEZONE
TZID:Europe/Athens
BEGIN:DAYLIGHT
TZOFFSETFROM:+0200
TZOFFSETTO:+0300
TZNAME:EEST
DTSTART:20200329T010000
END:DAYLIGHT
BEGIN:STANDARD
TZOFFSETFROM:+0300
TZOFFSETTO:+0200
TZNAME:EET
DTSTART:20201025T010000
END:STANDARD
BEGIN:DAYLIGHT
TZOFFSETFROM:+0200
TZOFFSETTO:+0300
TZNAME:EEST
DTSTART:20210328T010000
END:DAYLIGHT
BEGIN:STANDARD
TZOFFSETFROM:+0300
TZOFFSETTO:+0200
TZNAME:EET
DTSTART:20211031T010000
END:STANDARD
BEGIN:DAYLIGHT
TZOFFSETFROM:+0200
TZOFFSETTO:+0300
TZNAME:EEST
DTSTART:20220327T010000
END:DAYLIGHT
BEGIN:STANDARD
TZOFFSETFROM:+0300
TZOFFSETTO:+0200
TZNAME:EET
DTSTART:20221030T010000
END:STANDARD
END:VTIMEZONE
BEGIN:VEVENT
DTSTART;VALUE=DATE:20210701
DTEND;VALUE=DATE:20210704
DTSTAMP:20260426T051234
CREATED:20210701T074452Z
LAST-MODIFIED:20260117T100631Z
UID:22671-1625097600-1625356799@endo.gr
SUMMARY:48ο Πανελλήνιο Συνέδριο Ενδοκρινολογίας\, Μεταβολισμού & Σακχαρώδη Διαβήτη\, Ζάππειο Μέγαρο\, Αθήνα\, 1-3 Ιουλίου 2021
DESCRIPTION:Ημερομηνία / Ώρα\nΗμερομηνία – 01/07/2021 – 03/07/2021\n00:00 \n  \nΔείτε εδώ το πρόγραμμα \nΔείτε εδώ το πρόγραμμα (pdf) \nΔείτε εδώ το Abstract Book \nΓια περισσότερες πληροφορίες δείτε εδώ. \nΑγαπητοί Συνάδελφοι\, \nΣας ενημερώνουμε ότι το 48ο Πανελλήνιο Συνέδριο Ενδοκρινολογίας\, Μεταβολισμού & Σακχαρώδη Διαβήτη\, θα πραγματοποιηθεί στις 1-3 Ιουλίου 2021\, στο Ζάππειο Μέγαρο\, στην Αθήνα. \nΤο Συνέδριο θα μοριοδοτηθεί με Μόρια Συνεχιζόμενης Ιατρικής Εκπαίδευσης (C.M.E. credits) αναγνωρισμένα από τον ΠΙΣ. \nΤα poster θα αναρτηθούν ηλεκτρονικά. \nΜπορείτε να υποβάλετε τις εργασίες σας μέχρι τις 20 Απριλίου 2021. \nΔείτε εδώ υπόδειγμα εργασίας με οδηγίες για σωστή υποβολή. \n(Η εργασία που παρουσιάζεται σαν υπόδειγμα έχει υποβληθεί στο 37ο ΠΕΣ και η επιλογή της είναι τυχαία) \nΟΔΗΓΙΕΣ ΓΙΑ ΤΗΝ ΥΠΟΒΟΛΗ ΥΠΟΨΗΦΙΟΤΗΤΩΝ ΓΙΑ ΤΑ  ΒΡΑΒΕΙΑ σε εργασίες που δημοσιεύθηκαν το 2020 σε περιοδικό που αναφέρεται στο PubMed με IMPACT FACTOR\n1. Οι εργασίες πρέπει να έχουν σχεδιασθεί και εκτελεσθεί εξ ολοκλήρου στην Ελλάδα.\n2. Κάθε εργασία υποβάλλεται στην  πλήρη δημοσιευμένη της μορφή (PDF) από το αντίστοιχο επιστημονικό περιοδικό \n\nΚάθε εργασία υποβάλλεται για ένα μόνο βραβείο\, το οποίο καθορίζεται από τον υποψήφιο.\nΓια κάθε βραβείο μπορεί να υποβληθεί μία μόνο εργασία με τον ίδιο συγγραφέα.\n\nΤα Βραβεία είναι: \n\nΒραβείο Δ. Ίκκου 1500€\nΑπονέμεται στην καλύτερη κλινική εργασία στην Ενδοκρινολογία. Ο πρώτος συγγραφέας πρέπει να είναι είτε τακτικό ή δόκιμο μέλος της ΕΕΕ-ΠΕΕ είτε Παιδοενδοκρινολόγος – πάρεδρο μέλος.\nΒραβείο Κ. Χλουβεράκη 1500€\nΑπονέμεται στην καλύτερη κλινική εργασία με θέμα το σακχαρώδη σιαβήτη. Ο πρώτος συγγραφέας πρέπει να είναι είτε τακτικό ή δόκιμο μέλος της ΕΕΕ-ΠΕΕ είτε Παιδοενδοκρινολόγος – πάρεδρο μέλος.\nΒραβείο Δ. Κούτρα 1500€\nΑπονέμεται στην καλύτερη εργασία με\, κατά προτίμηση\, κλινικό θέμα στο θυρεοειδή αδένα και\, εν ελλείψει του\, με εργαστηριακό ή πειραματικό θέμα στο θυρεοειδή (όχι ανασκόπηση). Ο πρώτος συγγραφέας πρέπει να είναι ιατρός\, τακτικό\, ή δόκιμο μέλος της ΕΕΕ-ΠΕΕ.\nΒραβείο Γ. Τόλη 1500€\nΑπονέμεται στην καλύτερη εργασία με έμφαση στη βασική έρευνα στην Eνδοκρινολογία. Ο πρώτος ή ο τελευταίος συγγραφέας θα πρέπει να είναι τακτικό\, πάρεδρο ή δόκιμο μέλος της ΕΕΕ-ΠΕΕ.\n\nΕπιπλέον στην τελετή λήξεως του Πανελληνίου Συνεδρίου Ενδοκρινολογίας\, Μεταβολισμού & Σακχαρώδη Διαβήτη απονέμονται τα παρακάτω βραβεία: \n\nΒραβείο I. Αλιβιζάτου : στην καλύτερη εργασία του συνεδρίου στον Σακχαρώδη Διαβήτη\nΒραβείο Ι. Γιαννάτου: στην καλύτερη εργασία του συνεδρίου στην κλινική Ενδοκρινολογία\nΒραβείο Ν. Θαλασσινού: στην καλύτερη εργασία του συνεδρίου απότοκο συνεργασίας Ενδοκρινολόγου με άλλες ειδικότητες\nΒραβείο Σ. Πιτούλη: στην καλύτερη εργασία του συνεδρίου με θέμα τη εργαστηριακή Ενδοκρινολογία\nΒραβείο A. Φαρμακιώτη: στην καλύτερη αναρτημένη ανακοίνωση\n\nΓια τα βραβεία αυτά δεν χρειάζεται υποβολή υποψηφιότητας από τους συγγραφείς. \nΕυχαριστούμε και ελπίζουμε στη συμμετοχή σας \nΓια την Ελληνική Ενδοκρινολογική Εταιρεία \n(ως προσωρινή Διοίκηση δυνάμει της από 22.10.20 ΠΔ) \nΗ  Πρόεδρος                               Η Γεν. Γραμματέας \nΑ. Βρυωνίδου-Μπομποτά         Μ. Τζανέλα \n  \nΑπολογισμός Παρακολούθησης \nΜοναδικοί σύνεδροι που παραβρέθηκαν συνολικά στο χώρο του Συνεδρίου: 335\nΜοναδικοί σύνεδροι που παρακολούθησαν είτε διαδικτυακά είτε ζωντανά: 671\nΜοναδικοί σύνεδροι που επισκέφτηκαν τον χώρο της ηλεκτρονικής έκθεσης: 237
URL:https://endo.gr/en/event/48%ce%bf-%cf%80%ce%b1%ce%bd%ce%b5%ce%bb%ce%bb%ce%ae%ce%bd%ce%b9%ce%bf-%cf%83%cf%85%ce%bd%ce%ad%ce%b4%cf%81%ce%b9%ce%bf-%ce%b5%ce%bd%ce%b4%ce%bf%ce%ba%cf%81%ce%b9%ce%bd%ce%bf%ce%bb%ce%bf%ce%b3%ce%af/
LOCATION:48ο Πανελλήνιο Συνέδριο Ενδοκρινολογίας
CATEGORIES:Εκδηλώσεις E.E.E.,Πανελλήνια Ενδοκρινολογικά Συνέδρια
ATTACH;FMTTYPE=image/jpeg:https://endo.gr/wp-content/uploads/2025/02/48oPanellinio-Synedrio-Endokrinologias_PosterA3-2-212x300-1.jpg
END:VEVENT
END:VCALENDAR