BEGIN:VCALENDAR
VERSION:2.0
PRODID:-//ENDO - ECPv6.15.14//NONSGML v1.0//EN
CALSCALE:GREGORIAN
METHOD:PUBLISH
X-ORIGINAL-URL:https://endo.gr/en
X-WR-CALDESC:Events for ENDO
REFRESH-INTERVAL;VALUE=DURATION:PT1H
X-Robots-Tag:noindex
X-PUBLISHED-TTL:PT1H
BEGIN:VTIMEZONE
TZID:Europe/Athens
BEGIN:DAYLIGHT
TZOFFSETFROM:+0200
TZOFFSETTO:+0300
TZNAME:EEST
DTSTART:20220327T010000
END:DAYLIGHT
BEGIN:STANDARD
TZOFFSETFROM:+0300
TZOFFSETTO:+0200
TZNAME:EET
DTSTART:20221030T010000
END:STANDARD
BEGIN:DAYLIGHT
TZOFFSETFROM:+0200
TZOFFSETTO:+0300
TZNAME:EEST
DTSTART:20230326T010000
END:DAYLIGHT
BEGIN:STANDARD
TZOFFSETFROM:+0300
TZOFFSETTO:+0200
TZNAME:EET
DTSTART:20231029T010000
END:STANDARD
BEGIN:DAYLIGHT
TZOFFSETFROM:+0200
TZOFFSETTO:+0300
TZNAME:EEST
DTSTART:20240331T010000
END:DAYLIGHT
BEGIN:STANDARD
TZOFFSETFROM:+0300
TZOFFSETTO:+0200
TZNAME:EET
DTSTART:20241027T010000
END:STANDARD
END:VTIMEZONE
BEGIN:VEVENT
DTSTART;VALUE=DATE:20230504
DTEND;VALUE=DATE:20230507
DTSTAMP:20260424T215756
CREATED:20230503T210048Z
LAST-MODIFIED:20250319T114134Z
UID:20878-1683158400-1683417599@endo.gr
SUMMARY:50o Πανελλήνιο Συνέδριο Ενδοκρινολογίας\, Μεταβολισμού και Σακχαρώδη Διαβήτη\, 4-6 Μαΐου 2023\, Θεσσαλονίκη
DESCRIPTION:Δείτε το πρόγραμμα \nΔείτε εδώ το Abstract Book \nΣας ενημερώνουμε ότι στις 4-6 Μαΐου 2023\, η Ελληνική Ενδοκρινολογική Εταιρεία διοργανώνει στη Θεσσαλονίκη\, τo 50o Πανελλήνιο Συνέδριο Ενδοκρινολογίας\, Μεταβολισμού και Σακχαρώδη Διαβήτη\, στο Ξενοδοχείο Makedonia Palace\, στη Θεσσαλονίκη. \nΤο Συνέδριο θα μοριοδοτηθεί με 21 Μόρια Συνεχιζόμενης Ιατρικής Εκπαίδευσης (C.M.E. credits) αναγνωρισμένα από τον ΠΙΣ. \nΤα poster θα αναρτηθούν ηλεκτρονικά. \nΜπορείτε να υποβάλετε τις εργασίες σας μέχρι την και την 5η Μαρτίου 2023 \n  \nΔείτε εδώ υπόδειγμα εργασίας με οδηγίες για σωστή υποβολή. \n(Η εργασία που παρουσιάζεται σαν υπόδειγμα έχει υποβληθεί στο 37ο ΠΕΣ και η επιλογή της είναι τυχαία) \nΟΔΗΓΙΕΣ ΓΙΑ ΤΗΝ ΥΠΟΒΟΛΗ ΥΠΟΨΗΦΙΟΤΗΤΩΝ ΓΙΑ ΤΑ  ΒΡΑΒΕΙΑ σε εργασίες που δημοσιεύθηκαν το 2022 σε περιοδικό που αναφέρεται στο PubMed με IMPACT FACTOR\n1. Οι εργασίες πρέπει να έχουν σχεδιασθεί και εκτελεσθεί εξ ολοκλήρου στην Ελλάδα.\n2. Κάθε εργασία υποβάλλεται στην  πλήρη δημοσιευμένη της μορφή (PDF) από το αντίστοιχο επιστημονικό περιοδικό \n\nΚάθε εργασία υποβάλλεται για ένα μόνο βραβείο\, το οποίο καθορίζεται από τον υποψήφιο.\nΓια κάθε βραβείο μπορεί να υποβληθεί μία μόνο εργασία με τον ίδιο συγγραφέα.\n\nΤα Βραβεία είναι: \n\nΒραβείο Δ. Ίκκου 1500€\nΑπονέμεται στην καλύτερη κλινική εργασία στην Ενδοκρινολογία. Ο πρώτος συγγραφέας πρέπει να είναι είτε τακτικό ή δόκιμο μέλος της ΕΕΕ-ΠΕΕ είτε Παιδοενδοκρινολόγος – πάρεδρο μέλος.\nΒραβείο Κ. Χλουβεράκη 1500€\nΑπονέμεται στην καλύτερη κλινική εργασία με θέμα το σακχαρώδη σιαβήτη. Ο πρώτος συγγραφέας πρέπει να είναι είτε τακτικό ή δόκιμο μέλος της ΕΕΕ-ΠΕΕ είτε Παιδοενδοκρινολόγος – πάρεδρο μέλος.\nΒραβείο Δ. Κούτρα 1500€\nΑπονέμεται στην καλύτερη εργασία με\, κατά προτίμηση\, κλινικό θέμα στο θυρεοειδή αδένα και\, εν ελλείψει του\, με εργαστηριακό ή πειραματικό θέμα στο θυρεοειδή (όχι ανασκόπηση). Ο πρώτος συγγραφέας πρέπει να είναι ιατρός\, τακτικό\, ή δόκιμο μέλος της ΕΕΕ-ΠΕΕ.\nΒραβείο Γ. Τόλη 1500€\nΑπονέμεται στην καλύτερη εργασία με έμφαση στη βασική έρευνα στην Eνδοκρινολογία. Ο πρώτος ή ο τελευταίος συγγραφέας θα πρέπει να είναι τακτικό\, πάρεδρο ή δόκιμο μέλος της ΕΕΕ-ΠΕΕ.\n\nΕπιπλέον στην τελετή λήξεως του Πανελληνίου Συνεδρίου Ενδοκρινολογίας\, Μεταβολισμού & Σακχαρώδη Διαβήτη απονέμονται τα παρακάτω βραβεία: \n\nΒραβείο I. Αλιβιζάτου 1500€\nΑπονέμεται στην καλύτερη εργασία του Συνεδρίου με θέμα τον σακχαρώδη διαβήτη.\n\n\nΒραβείο Ι. Γιαννάτου 1500€\nΑπονέμεται στην καλύτερη εργασία του Συνεδρίου με θέμα την κλινική Ενδοκρινολογία.\n\n\nΒραβείο Ν. Θαλασσινού 1500€\nΑπονέμεται στην καλύτερη εργασία του Συνεδρίου απότοκο συνεργασίας ενδοκρινολόγου με άλλες ειδικότητες.\n\n\nΒραβείο Σ. Πιτούλη 1500€\nΑπονέμεται στην καλύτερη εργασία του Συνεδρίου με θέμα την εργαστηριακή Ενδοκρινολογία\n\n\nΒραβείο A. Φαρμακιώτη 1500€\nΑπονέμεται στην καλύτερη αναρτημένη ανακοίνωση του Συνεδρίου\n\nΓια τα βραβεία αυτά δεν χρειάζεται υποβολή υποψηφιότητας από τους συγγραφείς. \nΕυχαριστούμε και ελπίζουμε στη συμμετοχή σας \nΓια την Ελληνική Ενδοκρινολογική Εταιρεία \nΗ  Πρόεδρος                               Ο Γεν. Γραμματέας \nΑ. Βρυωνίδου-Μπομποτά         Φ. Ταλίδης
URL:https://endo.gr/en/event/50o-%cf%80%ce%b1%ce%bd%ce%b5%ce%bb%ce%bb%ce%ae%ce%bd%ce%b9%ce%bf-%cf%83%cf%85%ce%bd%ce%ad%ce%b4%cf%81%ce%b9%ce%bf-%ce%b5%ce%bd%ce%b4%ce%bf%ce%ba%cf%81%ce%b9%ce%bd%ce%bf%ce%bb%ce%bf%ce%b3%ce%af%ce%b1/
CATEGORIES:Εκδηλώσεις E.E.E.,Πανελλήνια Ενδοκρινολογικά Συνέδρια
ATTACH;FMTTYPE=image/jpeg:https://endo.gr/wp-content/uploads/2025/01/FINAL-AFISA-217x300-1.jpg
END:VEVENT
END:VCALENDAR