BEGIN:VCALENDAR
VERSION:2.0
PRODID:-//ENDO - ECPv6.15.14//NONSGML v1.0//EN
CALSCALE:GREGORIAN
METHOD:PUBLISH
X-WR-CALNAME:ENDO
X-ORIGINAL-URL:https://endo.gr/en
X-WR-CALDESC:Events for ENDO
REFRESH-INTERVAL;VALUE=DURATION:PT1H
X-Robots-Tag:noindex
X-PUBLISHED-TTL:PT1H
BEGIN:VTIMEZONE
TZID:Europe/Athens
BEGIN:DAYLIGHT
TZOFFSETFROM:+0200
TZOFFSETTO:+0300
TZNAME:EEST
DTSTART:20240331T010000
END:DAYLIGHT
BEGIN:STANDARD
TZOFFSETFROM:+0300
TZOFFSETTO:+0200
TZNAME:EET
DTSTART:20241027T010000
END:STANDARD
BEGIN:DAYLIGHT
TZOFFSETFROM:+0200
TZOFFSETTO:+0300
TZNAME:EEST
DTSTART:20250330T010000
END:DAYLIGHT
BEGIN:STANDARD
TZOFFSETFROM:+0300
TZOFFSETTO:+0200
TZNAME:EET
DTSTART:20251026T010000
END:STANDARD
BEGIN:DAYLIGHT
TZOFFSETFROM:+0200
TZOFFSETTO:+0300
TZNAME:EEST
DTSTART:20260329T010000
END:DAYLIGHT
BEGIN:STANDARD
TZOFFSETFROM:+0300
TZOFFSETTO:+0200
TZNAME:EET
DTSTART:20261025T010000
END:STANDARD
END:VTIMEZONE
BEGIN:VEVENT
DTSTART;VALUE=DATE:20250905
DTEND;VALUE=DATE:20250907
DTSTAMP:20260419T035832
CREATED:20250625T094209Z
LAST-MODIFIED:20250625T094209Z
UID:24732-1757030400-1757203199@endo.gr
SUMMARY:9η Μετεκπαιδευτική Επιστημονική Συνάντηση ΕΙΕΠ
DESCRIPTION:Με χαρά σας ενημερώνουμε για την 9η Μετεκπαιδευτική Επιστημονική Συνάντηση «Μετεκπαίδευση από τη βασική έρευνα και την επικαιροποιημένη γνώση\, στην καθημερινή κλινική πράξη αντιμετώπισης της παχυσαρκίας» που διοργανώνει η Ελληνική Ιατρική Εταιρεία Παχυσαρκίας στις 5 και 6 Σεπτεμβρίου 2025\, στο ξενοδοχείο Stratos Vassilikos\, στην Αθήνα. \nΗ συνάντηση\, θεσμός πλέον στον ιατρικό χώρο κάθε Σεπτέμβριο\, επικεντρώνεται στην επικαιροποιημένη επιστημονική γνώση για τη θεραπευτική αντιμετώπιση της παχυσαρκίας. Στόχος της είναι η μετεκπαίδευση των επαγγελματιών υγείας σε ένα από τα πλέον σύνθετα και επιτακτικά ζητήματα δημόσιας υγείας\, η ανταλλαγή γνώσης και εμπειριών\, αλλά και η ενίσχυση της διεπιστημονικής συνεργασίας για μια ολιστική προσέγγιση στην παχυσαρκία και τις σχετιζόμενες παθήσεις. \nΓια περισσότερες πληροφορίες και δηλώσεις συμμετοχής\, μπορείτε να απευθύνεστε στη γραμματεία του συνεδρίου στο eiepmeeting2025@convin.gr και στο τηλέφωνο 210 6833600\, Convin Α.Ε.
URL:https://endo.gr/en/event/9%ce%b7-%ce%bc%ce%b5%cf%84%ce%b5%ce%ba%cf%80%ce%b1%ce%b9%ce%b4%ce%b5%cf%85%cf%84%ce%b9%ce%ba%ce%ae-%ce%b5%cf%80%ce%b9%cf%83%cf%84%ce%b7%ce%bc%ce%bf%ce%bd%ce%b9%ce%ba%ce%ae-%cf%83%cf%85%ce%bd%ce%ac/
LOCATION:Stratos Vassilikos\, Μιχαλακοπούλου 114\, Αθήνα\, ATTIKI\, 11527\, Greece
CATEGORIES:Άλλων Εταιρειών
ATTACH;FMTTYPE=image/jpeg:https://endo.gr/wp-content/uploads/2025/06/8.α-SAVE-THE-DATE_210x140mm_FIN_Page_1.jpg
END:VEVENT
END:VCALENDAR