BEGIN:VCALENDAR
VERSION:2.0
PRODID:-//ENDO - ECPv6.15.14//NONSGML v1.0//EN
CALSCALE:GREGORIAN
METHOD:PUBLISH
X-WR-CALNAME:ENDO
X-ORIGINAL-URL:https://endo.gr/en
X-WR-CALDESC:Events for ENDO
REFRESH-INTERVAL;VALUE=DURATION:PT1H
X-Robots-Tag:noindex
X-PUBLISHED-TTL:PT1H
BEGIN:VTIMEZONE
TZID:Europe/Athens
BEGIN:DAYLIGHT
TZOFFSETFROM:+0200
TZOFFSETTO:+0300
TZNAME:EEST
DTSTART:20210328T010000
END:DAYLIGHT
BEGIN:STANDARD
TZOFFSETFROM:+0300
TZOFFSETTO:+0200
TZNAME:EET
DTSTART:20211031T010000
END:STANDARD
BEGIN:DAYLIGHT
TZOFFSETFROM:+0200
TZOFFSETTO:+0300
TZNAME:EEST
DTSTART:20220327T010000
END:DAYLIGHT
BEGIN:STANDARD
TZOFFSETFROM:+0300
TZOFFSETTO:+0200
TZNAME:EET
DTSTART:20221030T010000
END:STANDARD
BEGIN:DAYLIGHT
TZOFFSETFROM:+0200
TZOFFSETTO:+0300
TZNAME:EEST
DTSTART:20230326T010000
END:DAYLIGHT
BEGIN:STANDARD
TZOFFSETFROM:+0300
TZOFFSETTO:+0200
TZNAME:EET
DTSTART:20231029T010000
END:STANDARD
END:VTIMEZONE
BEGIN:VEVENT
DTSTART;TZID=Europe/Athens:20220319T110000
DTEND;TZID=Europe/Athens:20220319T233000
DTSTAMP:20260424T223757
CREATED:20250121T105256Z
LAST-MODIFIED:20250128T123558Z
UID:21479-1647687600-1647732600@endo.gr
SUMMARY:Webinar 19/3/2022\, Παρουσίαση περιστατικών ΓΝΑ ΕΛΕΝΑ ΒΕΝΙΖΕΛΟΥ\, ΠΝΑ «ΑΡΕΤΑΙΕΙΟΝ»\, ΝΑΥΤΙΚΟ ΝΟΣΟΚΟΜΕΙΟ ΑΘΗΝΩΝ – (ΝΝΑ)
DESCRIPTION:Αγαπητοί Συνάδελφοι\, \nΤο Σάββατο 19/3/2022 στις 11.00 π.μ. πραγματοποιείται το 3ο Webinar της Ελληνικής Ενδοκρινολογικής Εταιρείας\, στο πλαίσιο των μετεκπαιδευτικών της μαθημάτων μέσω διαδικτύου για το 2022. \n1ο ΠΕΡΙΣΤΑΤΙΚΟ: ΓΝΑ ΕΛΕΝΑ ΒΕΝΙΖΕΛΟΥ \nΤίτλος: Άποιος διαβήτης στην κύηση και διαφορική διάγνωσή του \nΘα παρουσιαστούν δύο περιστατικά. Το πρώτο αφορά σε γυναίκα με εγκατεστημένο κεντρικό άποιο διαβήτη\, υπό αγωγή με δεσμοπρεσσίνη\, η οποία παρακολουθήθηκε στο τμήμα μας κατά την εγκυμοσύνη της.\nΤο δεύτερο αναφέρεται σε έγκυο με αιφνίδια εγκατεστημένη πολυουρία και πολυδιψία από την 26η εβδομάδα της κύησης. Διερευνήθηκαν οι πιθανές αιτίες αυτής της κλινικής εικόνας\, που περιλάμβαναν και τον παροδικό άποιο διαβήτη της κύησης. \nΠαρουσίαση: Βασιλική Παπαδοπούλου\, MD\, MSc\, ειδικευόμενη Ενδοκρινολογίας\, Τμήμα Ενδοκρινολογίας\, Διαβήτη και Μεταβολισμού\, Γενικό Νοσοκομείο-\nΜαιευτήριο “Έλενα Βενιζέλου”\nΙωάννης Ηλίας\, MD\, PhD\, Ενδοκρινολόγος\, Διευθυντής ΕΣΥ\, τμήμα Ενδοκρινολογίας\, Διαβήτη και Μεταβολισμού\, Γενικό Νοσοκομείο-Μαιευτήριο\n“Έλενα Βενιζέλου” \nΥπεύθυνη: Ευτυχία Κούκκου\, MD\, PhD\, Ενδοκρινολόγος\, Συντονίστρια Διευθύντρια τμήματος Ενδοκρινολογίας\, Διαβήτη και Μεταβολισμού\, Γενικό Νοσοκομείο-Μαιευτήριο\n“Έλενα Βενιζέλου” \nΣχολιάστρια: Βασιλική Βασιλείου\, Ενδοκρινολόγος\, Διευθύντρια ΕΣΥ\, ΓΝΑ ΑΛΕΞΑΝΔΡΑ \n———————————————————–\n2ο ΠΕΡΙΣΤΑΤΙΚΟ: ΠΝΑ «ΑΡΕΤΑΙΕΙΟΝ» \nΤίτλος: Περίπτωση Αντίστασης στα Ανδρογόνα \nΚορίτσι 16 ετών\, παραπέμφθηκε από γυναικολόγο λόγω πρωτοπαθούς αμηνόρροιας χωρίς παθολογικά ευρήματα κατά τον αρχικό γυναικολογικό έλεγχο έξω και έσω γεννητικών οργάνων. Κατά την κλινική εξέταση διαπιστώθηκε διόγκωση μαστών (Tanner III) και τρίχωση εφηβαίου (Tanner ΙΙ-ΙΙΙ) χωρίς σημεία αρρενοποίησης. Κατά τον εργαστηριακό έλεγχο βρέθηκαν υψηλές τιμές τεστοστερόνης και ωχρινοτρόπου ορμόνης και καρυότυπος περιφερικού αίματος 46\,ΧΧ ενώ στον απεικονιστικό έλεγχο δεν κατέστη δυνατό να βρεθούν δομές έσω γεννητικών οργάνων. Παρουσιάζεται η διερεύνηση που οδήγησε στη διάγνωση του συνδρόμου πλήρους αντίστασης στα ανδρογόνα καθώς και η αντιμετώπιση. \nΠαρουσίαση: Κατερίνα Καπαμά\, φοιτήτρια του Μεταπτυχιακού Προγράμματος Σπουδών “Έρευνα στη γυναικεία στην αναπαραγωγή”\, υποψήφια ειδικευόμενη ενδοκρινολογίας υπό την καθοδήγηση της κυρίας Παπαγιάννη Μαρίας (Επ. Καθηγήτρια\, Παν/μιο Θεσσαλίας) και του Γ. Μαστοράκου\, Καθηγητή Ενδοκρινολογίας ΕΚΠΑ. \nΣχολιασμός: Παπαγιάννη Μαρία\, Επίκ. Καθηγήτρια Παιδιατρικής Ενδοκρινολογίας\, Μεταβολισμού και Διατροφής στο Παιδί και στον Έφηβο\, Πανεπιστήμιο Θεσσαλίας \n——————————————————————-\n3ο ΠΕΡΙΣΤΑΤΙΚΟ: ΝΑΥΤΙΚΟ ΝΟΣΟΚΟΜΕΙΟ ΑΘΗΝΩΝ – (ΝΝΑ) \nΤίτλος: Διερεύνηση γυναίκας με νεφρολιθίαση \nΠρόκειται για ασθενή 37 ετών που παραπέμφθηκε στο εξωτερικό ιατρείο της Ενδοκρινολογικής Κλινικής του ΝΝΑ τον 11/19 για διερεύνηση νεφρολιθίασης. Από τον έλεγχο διαπιστώθηκαν αυξημένες τιμές παραθορμόνης\, ασβεστίου αίματος και ούρων\, συμβατές με 1οπαθή υπερπαραθυρεοειδισμό. Ο εντοπιστικός έλεγχος με σπινθηρογράφημα (sestamibi) αποκάλυψε αυξημένη πρόσληψη στην πύλη του Δε πνεύμονα\, που αντιστοιχούσε σε άτυπο καρκινοειδές 3.9cm. \nΠαρουσίαση: Φωτεινή Θανασούλα\, Ειδικευόμενη Παθολογίας στο Ναυτικό Νοσοκομείο Αθηνών (εν αναμονή ειδικότητας Ενδοκρινολογίας)\nΚομνηνός Ιωάννης\, Διευθυντής Ενδοκρινολογικής Κλινικής Ναυτικού Νοσοκομείου Αθηνών \nΣχολιασμός: Συμεών Τουρνής\, Ενδοκρινολόγος\, ΕΕΠΜΣ\, ΕΚΠΑ\, Νοσοκομείο ΚΑΤ.
URL:https://endo.gr/en/event/webinar-19-3-2022-%cf%80%ce%b1%cf%81%ce%bf%cf%85%cf%83%ce%af%ce%b1%cf%83%ce%b7-%cf%80%ce%b5%cf%81%ce%b9%cf%83%cf%84%ce%b1%cf%84%ce%b9%ce%ba%cf%8e%ce%bd-%ce%b3%ce%bd%ce%b1-%ce%b5%ce%bb%ce%b5%ce%bd/
LOCATION:Webinar Παρουσίαση περιστατικών
CATEGORIES:Webinars παρουσίασης περιστατικών,Εκδηλώσεις E.E.E.
END:VEVENT
END:VCALENDAR