BEGIN:VCALENDAR
VERSION:2.0
PRODID:-//ENDO - ECPv6.15.14//NONSGML v1.0//EN
CALSCALE:GREGORIAN
METHOD:PUBLISH
X-WR-CALNAME:ENDO
X-ORIGINAL-URL:https://endo.gr/en
X-WR-CALDESC:Events for ENDO
REFRESH-INTERVAL;VALUE=DURATION:PT1H
X-Robots-Tag:noindex
X-PUBLISHED-TTL:PT1H
BEGIN:VTIMEZONE
TZID:Europe/Athens
BEGIN:DAYLIGHT
TZOFFSETFROM:+0200
TZOFFSETTO:+0300
TZNAME:EEST
DTSTART:20210328T010000
END:DAYLIGHT
BEGIN:STANDARD
TZOFFSETFROM:+0300
TZOFFSETTO:+0200
TZNAME:EET
DTSTART:20211031T010000
END:STANDARD
BEGIN:DAYLIGHT
TZOFFSETFROM:+0200
TZOFFSETTO:+0300
TZNAME:EEST
DTSTART:20220327T010000
END:DAYLIGHT
BEGIN:STANDARD
TZOFFSETFROM:+0300
TZOFFSETTO:+0200
TZNAME:EET
DTSTART:20221030T010000
END:STANDARD
BEGIN:DAYLIGHT
TZOFFSETFROM:+0200
TZOFFSETTO:+0300
TZNAME:EEST
DTSTART:20230326T010000
END:DAYLIGHT
BEGIN:STANDARD
TZOFFSETFROM:+0300
TZOFFSETTO:+0200
TZNAME:EET
DTSTART:20231029T010000
END:STANDARD
END:VTIMEZONE
BEGIN:VEVENT
DTSTART;VALUE=DATE:20220625
DTEND;VALUE=DATE:20220626
DTSTAMP:20260424T182342
CREATED:20220625T092051Z
LAST-MODIFIED:20250121T102233Z
UID:21424-1656115200-1656201599@endo.gr
SUMMARY:Webinar 25/6/2022\, Παρουσίαση περιστατικών ΠΓΝ ΛΑΡΙΣΑΣ\, ΓΝΑ «ΙΠΠΟΚΡΑΤΕΙΟ» \, 251 ΓΕΝΙΚΟ ΝΟΣΟΚΟΜΕΙΟ ΑΕΡΟΠΟΡΙΑΣ
DESCRIPTION:Αγαπητοί Συνάδελφοι\, \nΤο Σάββατο 25/6/2022 στις 11.00 π.μ. πραγματοποιείται το 6ο Webinar της Ελληνικής Ενδοκρινολογικής Εταιρείας\, στο πλαίσιο των μετεκπαιδευτικών της μαθημάτων μέσω διαδικτύου για το 2022. \n\n1ο ΠΕΡΙΣΤΑΤΙΚΟ: ΠΓΝ ΛΑΡΙΣΑΣ\nΤΙΤΛΟΣ: “Άντρας 55 ετών υπό ανοσοθεραπεία για καρκίνο νεφρού και διαβητική κετοξέωση”. \nΠερίληψη: \nΆντρας 55 ετών με ιστορικό καρκίνου νεφρού από 3ετίας\, δεξιά νεφρεκτομής και πρόσφατες πνευμονικές μεταστάσεις υπό αγωγή με pembrolizumab προσέρχεται στα ΤΕΠ με ναυτία\, εμέτους και αφυδάτωση. Διαπιστώνεται υπεργλυκαιμία και οξέωση ενώ ο ασθενής δεν είχε γνωστό ιστορικό σακχαρώδους διαβήτη. \nΥΠΕΥΘΥΝΗ: \n\nΑλεξάνδρα Μπαργιώτα\, Αναπληρώτρια Καθηγήτρια Παθολογίας- Ενδοκρινολογίας Διευθύντρια Κλινικής Ενδοκρινολογίας και Μεταβολικών Νόσων\n\nΠΑΡΟΥΣΙΑΣΗ: \n\nΜπάρμπα Ελευθερία\, Eιδικευόμενη Ενδοκρινολογίας\, Κλινική Ενδοκρινολογίας και Μεταβολικών Νόσων του ΠΓΝ Λάρισας\n\nΣΧΟΛΙΑΣΜΟΣ: \n\nΚαλλιόπη Κώτσα\, Αναπλ. Καθηγήτρια Ενδοκρινολογίας-Διαβητολογίας Α.Π.Θ.\n\n\n2ο ΠΕΡΙΣΤΑΤΙΚΟ: ΓΝΑ «ΙΠΠΟΚΡΑΤΕΙΟ»\nΤΙΤΛΟΣ: ”Struma ovarii και ca θυρεοειδούς” \nΠερίληψη: \nΓυναίκα 48 ετών με ιστορικό αφαίρεσης ΑΡ ωοθήκης προ 7 ετίας υποβλήθηκε σε υστερεκτομή με αφαίρεση και του ΔΕ εξαρτήματος. Κατά το χειρουργείο αφαιρέθηκαν και κατ’ εξοχήν περιγραπτά οζίδια από την περιοχή του ΔΕ παραμητρίου  και τους γύρω ιστούς όπως και από την περιοχή του ορθοσιγμοειδούς. \nΥΠΕΥΘΥΝΟΣ:  \n\nΧρήστος Σαββίδης\, Επιμελητής Α’ Ενδοκρινολογίας\, Ενδοκρινολογικό Τμήμα Ιπποκρατείου Γενικού Νοσοκομείου Αθηνών.\n\nΠΑΡΟΥΣΙΑΣΗ: \n\nΓιώργος Γαβριήλογλου – Ειδικευόμενος Ενδοκρινολογίας\nΧρήστος Σαββίδης – Επιμελητής Α΄ Ενδοκρινολόγος\n\nΣΧΟΛΙΑΣΜΟΣ: \n\nΜαρίνα Μιχαλάκη\, Επίκουρη Καθηγήτρια Παθολογίας – Ενδοκρινολογίας\, Ιατρικού τμήματος Πανεπιστημίου Πατρών.\n\n\n3ο ΠΕΡΙΣΤΑΤΙΚΟ: 251 ΓΕΝΙΚΟ ΝΟΣΟΚΟΜΕΙΟ ΑΕΡΟΠΟΡΙΑΣ\nΤΙΤΛΟΣ: “Ασθενής με ιστορικό μεταστατικού μυελοειδούς καρκινώματος θυρεοειδούς“. \nΠερίληψη: \nΓυναίκα ασθενής 32 ετών με γνωστό ιστορικό μεταστατικού μυελοειδούς καρκινώματος θυρεοειδούς από το 2018 και εμμένουσα νόσο παρά τις 4 χειρουργικές παρεμβάσεις\, ενίοτε λόγω κινδύνου πιεστικών φαινομένων στο θώρακα. Η ασθενής έλαβε θεραπεία τόσο με cabozantinib όσο και με vandetanib στα οποία εμφάνισε έντονη δυσανεξία. Κατόπιν ανεύρεσης σωματικής μετάλλαξης του γονιδίου RET σε παρασκεύασμα του όγκου η ασθενής λαμβάνει πλέον στοχευμένη θεραπεία για τη συγκεκριμένη μετάλλαξη. \nΥΠΕΥΘΥΝΟΣ: \n\nΠαναγιώτης Κόκκορης\, Διευθυντής Ενδοκρινολογικής Κλινικής 251 ΓΝΑ.\n\nΠΑΡΟΥΣΙΑΣΗ: \n\nΠαναγιώτης Τοκμακίδης\, Ειδικευόμενος Ενδοκρινολογίας\nΧρήστος Γραββανης \, MD\, PhD(c)\, Ενδοκρινολόγος\, Επιμελητής Ενδοκρινολογικής Κλινικής\, 251 Γενικό Νοσοκομείο Αεροπορίας\n\nΣΧΟΛΙΑΣΜΟΣ: \n\nΚαλλιόπη Παζαΐτου – Παναγιώτου\, MD\, PhD\, Ενδοκρινολόγος\, Διευθύντρια Μονάδας Ενδοκρινολογίας –Ενδοκρινικής Ογκολογίας\, Ιατρικό Διαβαλκανικό Κέντρο\, Θεσσαλονίκη.\n\n\nΠροκειμένου να παρακολουθήσετε ελεύθερα το webinar\, μπορείτε να προεγγραφείτε μέσω της διεύθυνσης: \nhttps://attendee.gotowebinar.com/register/8436411306659182092\n(Webinar ID: 335-267-059) \nσυμπληρώνοντας το ονοματεπώνυμό σας και το email σας στη φόρμα εγγραφής\, ώστε να λάβετε αυτόματα ένα νέο e-mail που θα περιέχει τον σύνδεσμο (link) μέσω του οποίου θα μεταδοθεί το webinar.\nΠροσβλέποντας πάντα στην πολύτιμη ενεργό συμμετοχή σας. \nΓια την Ελληνική Ενδοκρινολογική Εταιρεία. \nΜε εκτίμηση\, \nΗ ΠΡΟΕΔΡΟΣ\nΑ. Βρυωνίδου \nΗ ΓΕΝ. ΓΡΑΜΜΑΤΕΑΣ\nΓ. Κάσση \n\n\n\n\n\n\n\n\n\n\n\n\n\n\n\n\n\n\n\n\n\n\n\n\n\n\n\n\n\n\n\n\n\nΑΝΑΛΥΤΙΚΕΣ ΟΔΗΓΙΕΣ ΣΥΝΔΕΣΗΣ\nΤην ημέρα και ώρα διεξαγωγής του webinar\, για να συνδεθείτε\, θα πατήσετε στον παραπάνω σύνδεσμο  και αφού συμπληρώσετε πάλι το Ονοματεπώνυμο και το email σας (εικόνα 1 πιο κάτω)\, θα πατήσετε στο κουμπί “Join Webinar in Progress” στο κάτω μέρος της φόρμας. Στη συνέχεια (εικόνα 2) θα δεχθείτε να “κατέβει” και “εγκατασταθεί” (ή “εκτελεστεί”) στον browser σας\, ένα μικρό πρόγραμμα με το όνομα GoToWebinar Opener (εικόνα 3)\, το οποίο είναι απαραίτητο για να δημιουργήσει στον Η/Υ σας το περιβάλλον παρακολούθησης και υποβολής ερωτημάτων (εικόνα 4). \n(εικόνα 1)\n \n(εικόνα 2)\n \n(εικόνα 3)\n \n(εικόνα 4)\n \nΜπορείτε να παρακολουθήσετε τα webinars είτε από σταθερό ή φορητό υπολογιστή είτε από άλλη κινητή συσκευή (tablet\, κινητό τηλέφωνο)\, κατεβάζοντας και εγκαθιστώντας την αντίστοιχη εφαρμογή για iOS ή για Android λειτουργικό. \nMπορείτε να υποβάλλετε τις ερωτήσεις σας στους εισηγητές\, είτε προφορικά (ενδείκνυται)\, πατώντας πρώτα το κουμπί με την παλάμη\, \n \nώστε ο τεχνικός συντονιστής να σας δώσει τον λόγο και να ανοίξει το μικρόφωνό σας για να σας ακούσουν όλοι οι συμμετέχοντες\, είτε γραπτά\, πληκτρολογώντας την ερώτησή σας στο πλαίσιο με τίτλο Question και στη συνέχεια πατώντας Send για να την παραλάβει ο τεχνικός συντονιστής και να την προωθήσει στον ομιλητή.
URL:https://endo.gr/en/event/webinar-25-6-2022-%cf%80%ce%b1%cf%81%ce%bf%cf%85%cf%83%ce%af%ce%b1%cf%83%ce%b7-%cf%80%ce%b5%cf%81%ce%b9%cf%83%cf%84%ce%b1%cf%84%ce%b9%ce%ba%cf%8e%ce%bd-%cf%80%ce%b3%ce%bd-%ce%bb%ce%b1%cf%81%ce%b9/
LOCATION:251 ΓΕΝΙΚΟ ΝΟΣΟΚΟΜΕΙΟ ΑΕΡΟΠΟΡΙΑΣ\, Leof. Panagioti Kanellopoulou 3\, Athina\, 11525\, Greece
CATEGORIES:Webinars παρουσίασης περιστατικών,Εκδηλώσεις E.E.E.
ATTACH;FMTTYPE=image/jpeg:https://endo.gr/wp-content/uploads/2025/01/e86526cc-500a-a5ae-b4dd-da520cf133c9-1.jpg
END:VEVENT
END:VCALENDAR