BEGIN:VCALENDAR
VERSION:2.0
PRODID:-//ENDO - ECPv6.15.14//NONSGML v1.0//EN
CALSCALE:GREGORIAN
METHOD:PUBLISH
X-WR-CALNAME:ENDO
X-ORIGINAL-URL:https://endo.gr/en
X-WR-CALDESC:Events for ENDO
REFRESH-INTERVAL;VALUE=DURATION:PT1H
X-Robots-Tag:noindex
X-PUBLISHED-TTL:PT1H
BEGIN:VTIMEZONE
TZID:Europe/Athens
BEGIN:DAYLIGHT
TZOFFSETFROM:+0200
TZOFFSETTO:+0300
TZNAME:EEST
DTSTART:20220327T010000
END:DAYLIGHT
BEGIN:STANDARD
TZOFFSETFROM:+0300
TZOFFSETTO:+0200
TZNAME:EET
DTSTART:20221030T010000
END:STANDARD
BEGIN:DAYLIGHT
TZOFFSETFROM:+0200
TZOFFSETTO:+0300
TZNAME:EEST
DTSTART:20230326T010000
END:DAYLIGHT
BEGIN:STANDARD
TZOFFSETFROM:+0300
TZOFFSETTO:+0200
TZNAME:EET
DTSTART:20231029T010000
END:STANDARD
BEGIN:DAYLIGHT
TZOFFSETFROM:+0200
TZOFFSETTO:+0300
TZNAME:EEST
DTSTART:20240331T010000
END:DAYLIGHT
BEGIN:STANDARD
TZOFFSETFROM:+0300
TZOFFSETTO:+0200
TZNAME:EET
DTSTART:20241027T010000
END:STANDARD
END:VTIMEZONE
BEGIN:VEVENT
DTSTART;VALUE=DATE:20230318
DTEND;VALUE=DATE:20230319
DTSTAMP:20260424T071143
CREATED:20230317T220005Z
LAST-MODIFIED:20250128T123426Z
UID:20867-1679097600-1679183999@endo.gr
SUMMARY:Webinar 18/3/2023\, Παρουσίαση περιστατικών ΓΝΑ ΕΛΕΝΑ ΒΕΝΙΖΕΛΟΥ\, ΠΝΑ «ΑΡΕΤΑΙΕΙΟΝ»\, ΝΑΥΤΙΚΟ ΝΟΣΟΚΟΜΕΙΟ ΑΘΗΝΩΝ – (ΝΝΑ)
DESCRIPTION:Αγαπητοί Συνάδελφοι\, \nΤο Σάββατο 18/3/2023 στις 11.00 π.μ. πραγματοποιείται το Webinar της Ελληνικής Ενδοκρινολογικής Εταιρείας\, στο πλαίσιο των μετεκπαιδευτικών της μαθημάτων μέσω διαδικτύου για το 2023. \nΠαρουσίαση Περιστατικού ΓΝΑ ΕΛΕΝΑ ΒΕΝΙΖΕΛΟΥ\, 18.03.2023\, ώρα 11:00-11:45 \nΤίτλος: Ασθενής με Ca μαστού χωρίς μεταστάσεις και αυτόματα κατάγματα πλευρών \nΑσθενής 50 ετών με ιστορικό Ca μαστού\, παρουσιάζει αυτόματα κατάγματα πλευρών\, χωρίς δευτεροπαθείς εντοπίσεις. Παραπέμπεται από το ογκολογικό τμήμα λόγω αυξημένης CT KAI PTH\, που ανευρέθηκαν στον έλεγχο που πραγματοποιήθηκε για την διερεύνηση των καταγμάτων. \nΥπεύθυνη: Ευτυχία Κούκκου\, MD\, PhD\, Ενδοκρινολόγος\, Συντονίστρια Διευθύντρια τμήματος Ενδοκρινολογίας\, Διαβήτη και Μεταβολισμού\, Γενικό Νοσοκομείο-Μαιευτήριο\n“Έλενα Βενιζέλου” \nΠαρουσίαση: Πουλιάση Φωτεινή\, Ειδικευόμενη \nΜίχου Αικατερίνη\, Επιμελήτρια Α’ \nΣχολιασμός: Μπουντίνα Μαρία\, Επιμελήτρια Α’ ΕΣΥ\, Ενδοκρινολογικό Τμήμα\, ‘’ΘΕΑΓΕΝΕΙΟ’’ Αντικαρκινικό Νοσοκομείο Θεσσαλονίκης \n____________________________________________ \nΠαρουσίαση Περιστατικού ΠΝΑ «ΑΡΕΤΑΙΕΙΟΝ»\, 18.03.2023\, ώρα 11:45 -12:30 \nΤίτλος: Ασθενής με VHL και μικρή πάχυνση πτυχής στομάχου σε μαγνητική τομογραφία \nΥπεύθυνος: Γεώργιος Μαστοράκος\, Καθηγητής Ενδοκρινολογίας ΕΚΠΑ. \nΠαρουσίαση: Αριάδνη Σπύρογλου\, Ακαδημαϊκή Υπότροφος Β’ Χειρουργική Κλινική Αρεταίειο Νοσοκομείο\nΓεώργιος Κυριακόπουλος\, Παθολογοανατόμος\, ΓΝΑ «ΕΥΑΓΓΕΛΙΣΜΟΣ» \nΣυντονίστρια: Κρυσταλλένια Αλεξανδράκη\, MD\, PhD\, MSc\, MSc\, Ενδοκρινολόγος\, Επιστημονικός Συνεργάτης Β’ Χειρουργικής Κλινικής\, Αρεταίειο Νοσοκομείο\, ΕΚΠΑ \nΣχολιασμός: Παρασκευή Ξεκούκη\, Επίκουρη Καθηγήτρια Ενδοκρινολογίας Ιατρικής Σχολής Πανεπιστημίου Κρήτης\, Διευθύντρια της Ενδοκρινολογικής & Διαβητολογικής Κλινικής\,\nΠανεπιστημιακού Γενικού Νοσοκομείου Ηρακλείου \n______________________________________________ \nΠαρουσίαση Περιστατικού ΝΑΥΤΙΚΟ ΝΟΣΟΚΟΜΕΙΟ ΑΘΗΝΩΝ – (ΝΝΑ)\, 18.03.2023\, ώρα 12:30 – 13:15 \nΤίτλος: Κορίτσι 15 ετών με πρωτοπαθή αμηνόρροια και θυρεοειδίτιδα Hashimoto – Μία αναμενόμενη(;) συνύπαρξη \nΚορίτσι 15 ετών προσήλθε για διερεύνηση και αντιμετώπιση πρωτοπαθούς αμηνόρροιας και πρωτοπαθούς υποθυρεοειδισμού. Πώς η αξιολόγηση του αδερφού της θα μπορούσε να κατευθύνει τη διαφορική διάγνωση. \nΥπεύθυνος: Κομνηνός Ιωάννης\, Διευθυντής Ενδοκρινολογικής Κλινικής Ναυτικού Νοσοκομείου Αθηνών. \nΠαρουσίαση: Γεώργιος A. Κανάκης MD\, PhD Ενδοκρινολόγος – Κλινικός Ανδρολόγος (ΕΑΑ Cert.) Επιμελητής\, Ενδοκρινολογικη Κλινική & ΜΙΥΑ ΝΝΑ\nΡάπτη Παναγιώτα MD\, Ιατρός Ενδοκρινολογικής Κλινικής Ναυτικού Νοσοκομείου Αθηνών \nΣχολιασμός: : Δρ. Χριστίνα Κανακά – Gantenbein MD\, PhD\, FMH (CH) Καθηγήτρια Παιδιατρικής-Παιδιατρικής Ενδοκρινολογίας Διευθύντρια Α’ Παιδιατρικής Κλινικής και Χωρεμείου\nΕρευνητικού Εργαστηρίου Ιατρικής Σχολής Εθνικού και Καποδιστριακού Πανεπιστημίου Αθηνών Νοσοκομείο Παίδων “Η Αγία Σοφία”\nΠρόεδρος Ινστιτούτου Υγείας του παιδιού\, Μέλος του Ανώτατου Υγειονομικού Συμβουλίου Μέλος της Εθνικής Επιτροπής για τα Σπάνια Νοσήματα Επιστημονική Υπεύθυνη του κέντρου εμπειρογνωμοσύνης για τα σπάνια ενδοκρινικά νοσήματα παίδων. \nΠροκειμένου να παρακολουθήσετε ελεύθερα το webinar\, μπορείτε να προεγγραφείτε μέσω της διεύθυνσης: \nhttps://attendee.gotowebinar.com/register/4454544246335733083\n(Webinar ID: 957-777-059) \nσυμπληρώνοντας το ονοματεπώνυμό σας και το email σας στη φόρμα εγγραφής\, ώστε να λάβετε αυτόματα ένα νέο e-mail που θα περιέχει τον σύνδεσμο (link) μέσω του οποίου θα μεταδοθεί το webinar. \nΠροσβλέποντας πάντα στην πολύτιμη ενεργό συμμετοχή σας. \nΓια την Ελληνική Ενδοκρινολογική Εταιρεία. \nΜε εκτίμηση\, \nΗ ΠΡΟΕΔΡΟΣ\nΑ. Βρυωνίδου \nΟ. ΓΕΝ. ΓΡΑΜΜΑΤΕΑΣ\nΦ. Ταλίδης
URL:https://endo.gr/en/event/webinar-18-3-2023-%cf%80%ce%b1%cf%81%ce%bf%cf%85%cf%83%ce%af%ce%b1%cf%83%ce%b7-%cf%80%ce%b5%cf%81%ce%b9%cf%83%cf%84%ce%b1%cf%84%ce%b9%ce%ba%cf%8e%ce%bd-%ce%b3%ce%bd%ce%b1-%ce%b5%ce%bb%ce%b5%ce%bd/
CATEGORIES:Webinars παρουσίασης περιστατικών
END:VEVENT
BEGIN:VEVENT
DTSTART;TZID=Europe/Athens:20230318T110000
DTEND;TZID=Europe/Athens:20230318T133000
DTSTAMP:20260424T071143
CREATED:20250116T111122Z
LAST-MODIFIED:20250116T111131Z
UID:20984-1679137200-1679146200@endo.gr
SUMMARY:Webinar 18/3/2023\, Παρουσίαση περιστατικών ΓΝΑ ΕΛΕΝΑ ΒΕΝΙΖΕΛΟΥ\, ΠΝΑ «ΑΡΕΤΑΙΕΙΟΝ»\, ΝΑΥΤΙΚΟ ΝΟΣΟΚΟΜΕΙΟ ΑΘΗΝΩΝ – (ΝΝΑ)
DESCRIPTION:Αγαπητοί Συνάδελφοι\, \nΤο Σάββατο 18/3/2023 στις 11.00 π.μ. πραγματοποιείται το Webinar της Ελληνικής Ενδοκρινολογικής Εταιρείας\, στο πλαίσιο των μετεκπαιδευτικών της μαθημάτων μέσω διαδικτύου για το 2023. \nΠαρουσίαση Περιστατικού ΓΝΑ ΕΛΕΝΑ ΒΕΝΙΖΕΛΟΥ\, 18.03.2023\, ώρα 11:00-11:45 \nΤίτλος: Ασθενής με Ca μαστού χωρίς μεταστάσεις και αυτόματα κατάγματα πλευρών \nΑσθενής 50 ετών με ιστορικό Ca μαστού\, παρουσιάζει αυτόματα κατάγματα πλευρών\, χωρίς δευτεροπαθείς εντοπίσεις. Παραπέμπεται από το ογκολογικό τμήμα λόγω αυξημένης CT KAI PTH\, που ανευρέθηκαν στον έλεγχο που πραγματοποιήθηκε για την διερεύνηση των καταγμάτων. \nΥπεύθυνη: Ευτυχία Κούκκου\, MD\, PhD\, Ενδοκρινολόγος\, Συντονίστρια Διευθύντρια τμήματος Ενδοκρινολογίας\, Διαβήτη και Μεταβολισμού\, Γενικό Νοσοκομείο-Μαιευτήριο\n“Έλενα Βενιζέλου” \nΠαρουσίαση: Πουλιάση Φωτεινή\, Ειδικευόμενη \nΜίχου Αικατερίνη\, Επιμελήτρια Α’ \nΣχολιασμός: Μπουντίνα Μαρία\, Επιμελήτρια Α’ ΕΣΥ\, Ενδοκρινολογικό Τμήμα\, ‘’ΘΕΑΓΕΝΕΙΟ’’ Αντικαρκινικό Νοσοκομείο Θεσσαλονίκης \n____________________________________________ \nΠαρουσίαση Περιστατικού ΠΝΑ «ΑΡΕΤΑΙΕΙΟΝ»\, 18.03.2023\, ώρα 11:45 -12:30 \nΤίτλος: Ασθενής με VHL και μικρή πάχυνση πτυχής στομάχου σε μαγνητική τομογραφία \nΥπεύθυνος: Γεώργιος Μαστοράκος\, Καθηγητής Ενδοκρινολογίας ΕΚΠΑ. \nΠαρουσίαση: Αριάδνη Σπύρογλου\, Ακαδημαϊκή Υπότροφος Β’ Χειρουργική Κλινική Αρεταίειο Νοσοκομείο\nΓεώργιος Κυριακόπουλος\, Παθολογοανατόμος\, ΓΝΑ «ΕΥΑΓΓΕΛΙΣΜΟΣ» \nΣυντονίστρια: Κρυσταλλένια Αλεξανδράκη\, MD\, PhD\, MSc\, MSc\, Ενδοκρινολόγος\, Επιστημονικός Συνεργάτης Β’ Χειρουργικής Κλινικής\, Αρεταίειο Νοσοκομείο\, ΕΚΠΑ \nΣχολιασμός: Παρασκευή Ξεκούκη\, Επίκουρη Καθηγήτρια Ενδοκρινολογίας Ιατρικής Σχολής Πανεπιστημίου Κρήτης\, Διευθύντρια της Ενδοκρινολογικής & Διαβητολογικής Κλινικής\,\nΠανεπιστημιακού Γενικού Νοσοκομείου Ηρακλείου \n______________________________________________ \nΠαρουσίαση Περιστατικού ΝΑΥΤΙΚΟ ΝΟΣΟΚΟΜΕΙΟ ΑΘΗΝΩΝ – (ΝΝΑ)\, 18.03.2023\, ώρα 12:30 – 13:15 \nΤίτλος: Κορίτσι 15 ετών με πρωτοπαθή αμηνόρροια και θυρεοειδίτιδα Hashimoto – Μία αναμενόμενη(;) συνύπαρξη \nΚορίτσι 15 ετών προσήλθε για διερεύνηση και αντιμετώπιση πρωτοπαθούς αμηνόρροιας και πρωτοπαθούς υποθυρεοειδισμού. Πώς η αξιολόγηση του αδερφού της θα μπορούσε να κατευθύνει τη διαφορική διάγνωση. \nΥπεύθυνος: Κομνηνός Ιωάννης\, Διευθυντής Ενδοκρινολογικής Κλινικής Ναυτικού Νοσοκομείου Αθηνών. \nΠαρουσίαση: Γεώργιος A. Κανάκης MD\, PhD Ενδοκρινολόγος – Κλινικός Ανδρολόγος (ΕΑΑ Cert.) Επιμελητής\, Ενδοκρινολογικη Κλινική & ΜΙΥΑ ΝΝΑ\nΡάπτη Παναγιώτα MD\, Ιατρός Ενδοκρινολογικής Κλινικής Ναυτικού Νοσοκομείου Αθηνών \nΣχολιασμός: : Δρ. Χριστίνα Κανακά – Gantenbein MD\, PhD\, FMH (CH) Καθηγήτρια Παιδιατρικής-Παιδιατρικής Ενδοκρινολογίας Διευθύντρια Α’ Παιδιατρικής Κλινικής και Χωρεμείου\nΕρευνητικού Εργαστηρίου Ιατρικής Σχολής Εθνικού και Καποδιστριακού Πανεπιστημίου Αθηνών Νοσοκομείο Παίδων “Η Αγία Σοφία”\nΠρόεδρος Ινστιτούτου Υγείας του παιδιού\, Μέλος του Ανώτατου Υγειονομικού Συμβουλίου Μέλος της Εθνικής Επιτροπής για τα Σπάνια Νοσήματα Επιστημονική Υπεύθυνη του κέντρου εμπειρογνωμοσύνης για τα σπάνια ενδοκρινικά νοσήματα παίδων. \nΠροκειμένου να παρακολουθήσετε ελεύθερα το webinar\, μπορείτε να προεγγραφείτε μέσω της διεύθυνσης: \nhttps://attendee.gotowebinar.com/register/4454544246335733083\n(Webinar ID: 957-777-059) \nσυμπληρώνοντας το ονοματεπώνυμό σας και το email σας στη φόρμα εγγραφής\, ώστε να λάβετε αυτόματα ένα νέο e-mail που θα περιέχει τον σύνδεσμο (link) μέσω του οποίου θα μεταδοθεί το webinar. \nΠροσβλέποντας πάντα στην πολύτιμη ενεργό συμμετοχή σας. \nΓια την Ελληνική Ενδοκρινολογική Εταιρεία. \nΜε εκτίμηση\, \nΗ ΠΡΟΕΔΡΟΣ\nΑ. Βρυωνίδου \nΟ. ΓΕΝ. ΓΡΑΜΜΑΤΕΑΣ\nΦ. Ταλίδης
URL:https://endo.gr/en/event/webinar-18-3-2023-%cf%80%ce%b1%cf%81%ce%bf%cf%85%cf%83%ce%af%ce%b1%cf%83%ce%b7-%cf%80%ce%b5%cf%81%ce%b9%cf%83%cf%84%ce%b1%cf%84%ce%b9%ce%ba%cf%8e%ce%bd-%ce%b3%ce%bd%ce%b1-%ce%b5%ce%bb%ce%b5%ce%bd-2/
LOCATION:ΝΑΥΤΙΚΟ ΝΟΣΟΚΟΜΕΙΟ ΑΘΗΝΩΝ – (ΝΝΑ)
CATEGORIES:Webinars παρουσίασης περιστατικών,Εκδηλώσεις E.E.E.
END:VEVENT
END:VCALENDAR