BEGIN:VCALENDAR
VERSION:2.0
PRODID:-//ENDO - ECPv6.15.14//NONSGML v1.0//EN
CALSCALE:GREGORIAN
METHOD:PUBLISH
X-ORIGINAL-URL:https://endo.gr/en
X-WR-CALDESC:Events for ENDO
REFRESH-INTERVAL;VALUE=DURATION:PT1H
X-Robots-Tag:noindex
X-PUBLISHED-TTL:PT1H
BEGIN:VTIMEZONE
TZID:Europe/Athens
BEGIN:DAYLIGHT
TZOFFSETFROM:+0200
TZOFFSETTO:+0300
TZNAME:EEST
DTSTART:20210328T010000
END:DAYLIGHT
BEGIN:STANDARD
TZOFFSETFROM:+0300
TZOFFSETTO:+0200
TZNAME:EET
DTSTART:20211031T010000
END:STANDARD
BEGIN:DAYLIGHT
TZOFFSETFROM:+0200
TZOFFSETTO:+0300
TZNAME:EEST
DTSTART:20220327T010000
END:DAYLIGHT
BEGIN:STANDARD
TZOFFSETFROM:+0300
TZOFFSETTO:+0200
TZNAME:EET
DTSTART:20221030T010000
END:STANDARD
BEGIN:DAYLIGHT
TZOFFSETFROM:+0200
TZOFFSETTO:+0300
TZNAME:EEST
DTSTART:20230326T010000
END:DAYLIGHT
BEGIN:STANDARD
TZOFFSETFROM:+0300
TZOFFSETTO:+0200
TZNAME:EET
DTSTART:20231029T010000
END:STANDARD
END:VTIMEZONE
BEGIN:VEVENT
DTSTART;VALUE=DATE:20220114
DTEND;VALUE=DATE:20220116
DTSTAMP:20260424T230813
CREATED:20220114T113747Z
LAST-MODIFIED:20250121T113935Z
UID:21538-1642118400-1642291199@endo.gr
SUMMARY:Μετεκπαιδευτικά Μαθήματα στην Ενδοκρινολογία\, τον Διαβήτη και τον Μεταβολισμό\, 14-15 Ιανουαρίου 2022
DESCRIPTION:Δείτε εδώ το πρόγραμμα \nΣας ενημερώνουμε για το προκαταρτικό πρόγραμμα της διοργάνωσης «Μετεκπαιδευτικά Μαθήματα στην Ενδοκρινολογία\, τον Διαβήτη και τον Μεταβολισμό»\, που πραγματοποιούνται 14-15 Ιανουαρίου 2022.\nΣημειώνεται ότι τα «Μετεκπαιδευτικά Μαθήματα» αποτελούν μία από τις πλέον παραδοσιακές εκδηλώσεις της ειδικότητας μας και πραγματοποιούνται για 18η φορά μετά από 35 χρόνια.
URL:https://endo.gr/en/event/%ce%bc%ce%b5%cf%84%ce%b5%ce%ba%cf%80%ce%b1%ce%b9%ce%b4%ce%b5%cf%85%cf%84%ce%b9%ce%ba%ce%ac-%ce%bc%ce%b1%ce%b8%ce%ae%ce%bc%ce%b1%cf%84%ce%b1-%cf%83%cf%84%ce%b7%ce%bd-%ce%b5%ce%bd%ce%b4%ce%bf%ce%ba/
CATEGORIES:Εκδηλώσεις E.E.E.
ATTACH;FMTTYPE=image/jpeg:https://endo.gr/wp-content/uploads/2025/01/18-213x300-1.jpg
END:VEVENT
BEGIN:VEVENT
DTSTART;VALUE=DATE:20220117
DTEND;VALUE=DATE:20220122
DTSTAMP:20260424T230813
CREATED:20220117T113545Z
LAST-MODIFIED:20250121T113741Z
UID:21534-1642377600-1642809599@endo.gr
SUMMARY:Προετοιμασία για την απόκτηση του τίτλου ειδικότητας (17-21 Ιανουαρίου 2022)
DESCRIPTION:Δείτε εδώ το Πρόγραμμα \nΒρείτε πιο κάτω τους συνδέσμους (links) για την εγγραφή και online παρακολούθηση κάθε ημέρας του Προγράμματος \n\nΔευτέρα 17/1/2022 – Απόγευμα (14:00 – 19:30) – ΕΡΓΑΣΤΗΡΙΑΚΗ ΕΝΔΟΚΡΙΝΟΛΟΓΙΑ – ΥΠΟΦΥΣΗ\nΤρίτη 18/1/2022 – Πρωί (09:00 – 14:30) – ΘΥΡΕΟΕΙΔΗΣ\nΤρίτη 18/1/2022 – Απόγευμα (16:00 – 20:00) – ΕΠΙΝΕΦΡΙΔΙΑ\nΤετάρτη 19/1/2022 – Πρωί (09:00 – 14:30) – ΕΝΔΟΚΡΙΝΟΛΟΓΙΑ ΤΗΣ ΑΝΑΠΑΡΑΓΩΓΗΣ\nΤετάρτη 19/1/2022 – Απόγευμα (16:00 – 19:00) – ΕΝΔΟΚΡΙΝΟΛΟΓΙΑ ΤΗΣ ΑΝΑΠΑΡΑΓΩΓΗΣ\nΠέμπτη 20/1/2022 – Πρωί (09:00 – 14:30) – ΜΕΤΑΒΟΛΙΣΜΟΣ ΑΣΒΕΣΤΙΟΥ – ΛΙΠΙΔΙΑ\nΠέμπτη 20/1/2022 – Απόγευμα (15:30 – 20:00) – ΣΑΚΧΑΡΩΔΗΣ ΔΙΑΒΗΤΗΣ\nΠαρασκευή 21/1/2022 – Πρωί (09:00 – 14:30) – ΠΑΙΔΙΑΤΡΙΚΗ ΕΝΔΟΚΡΙΝΟΛΟΓΙΑ\n\nΣύμφωνα με τα κριτήρια της UEMS – EACCME χορηγούνται 9 μόρια Συνεχιζόμενης Ιατρικής Εκπαίδευσης (CME-CPD credits). \n\nΑγαπητοί συνάδελφοι\, \nΌπως κάθε χρόνο η ΕΕΕ-ΠΕΕ οργανώνει και το 2022 τον φροντιστηριακό κύκλο προετοιμασίας για τις εξετάσεις ειδικότητας ενδοκρινολογίας από 17-21 Ιανουαρίου 2022. \nΤα μαθήματα απευθύνονται κυρίως στους ειδικευόμενους που διανύουν τον τελευταίο χρόνο ειδικότητας. Η άποψη του ΔΣ για τα μαθήματα αυτά είναι ότι θα πρέπει να αποφευχθούν οι θεωρητικές εισηγήσεις (στην εποχή μας οι ειδικευόμενοι έχουν πολλές δυνατότητες θεωρητικής ενημέρωσης). Αντίθετα η ανάπτυξη του κάθε θέματος θα πρέπει να γίνει με ανάλυση κλινικών περιπτώσεων που έχουν αντιμετωπίσει οι ομιλητές. \nΚατά συνέπεια για την επιλογή τους λάβαμε υπ’ όψιν την κλινική και διδακτική τους εμπειρία σε κέντρα που δίνουν ειδικότητα εκτός από την όποια ειδική ενασχόληση με το συγκεκριμένο θέμα καθώς βεβαίως και την βαθμολογία τους στα αντίστοιχα μαθήματα τις προηγούμενες χρονιές. \nΤέλος αποφασίστηκε να προστεθούν και εισηγήσεις σε εργαστηριακά θέματα (ορμονικών προσδιορισμών και γενετικού ελέγχου) που θεωρούμε πλέον ότι αποτελούν ακρογωνιαίο λίθο της Ενδοκρινολογικής κλινικής πρακτικής.
URL:https://endo.gr/en/event/%cf%80%cf%81%ce%bf%ce%b5%cf%84%ce%bf%ce%b9%ce%bc%ce%b1%cf%83%ce%af%ce%b1-%ce%b3%ce%b9%ce%b1-%cf%84%ce%b7%ce%bd-%ce%b1%cf%80%cf%8c%ce%ba%cf%84%ce%b7%cf%83%ce%b7-%cf%84%ce%bf%cf%85-%cf%84%ce%af%cf%84-3/
LOCATION:Προετοιμασία για την απόκτηση του τίτλου ειδικότητας
CATEGORIES:Εκδηλώσεις E.E.E.
ATTACH;FMTTYPE=image/png:https://endo.gr/wp-content/uploads/2025/01/eee-300x146-3-2.png
END:VEVENT
BEGIN:VEVENT
DTSTART;VALUE=DATE:20220124
DTEND;VALUE=DATE:20220129
DTSTAMP:20260424T230813
CREATED:20220124T113326Z
LAST-MODIFIED:20250121T113532Z
UID:21530-1642982400-1643414399@endo.gr
SUMMARY:Adrenal masterclass 2022
DESCRIPTION:Adrenal masterclass 2022 \nThe Radboudumc Adrenal Masterclass presents state of the art lectures and workshops on clinical and pathophysiological aspects of adrenal diseases. It serves an audience of adult and pediatric endocrinologists\, clinical fellows\, internists and clinical chemists who are involved in the management of patients with adrenal disease. \nThe duration of the masterclass is 4\,5 days\, from Monday to Friday. Many national and international experts contribute to an intensive program that encompasses all major adrenal disorders: hyper- and hypocortisolism\, congenital adrenal hyperplasia\, incidentaloma\, adrenocortical cancer\, pheochromocytoma/ paraganglioma and primary aldosteronism. Apart from overview lectures on theoretical and practical issues\, there will be interactive sessions on patient cases with challenging diagnostic and therapeutic issues. Participants are encouraged to present their own cases. \nSpecial attention will be paid to indications and interpretation of testing\, including imaging procedures. In addition\, essential and practical methodological aspects of specific procedures such as adrenal venous sampling and minimally invasive adrenal surgery are demonstrated and discussed.
URL:https://endo.gr/en/event/adrenal-masterclass-2022/
LOCATION:Adrenal masterclass
CATEGORIES:Διεθνείς Εκδηλώσεις,Εκδηλώσεις E.E.E.
ATTACH;FMTTYPE=image/png:https://endo.gr/wp-content/uploads/2025/01/logo-navbar.png
END:VEVENT
END:VCALENDAR