BEGIN:VCALENDAR
VERSION:2.0
PRODID:-//ENDO - ECPv6.15.14//NONSGML v1.0//EN
CALSCALE:GREGORIAN
METHOD:PUBLISH
X-ORIGINAL-URL:https://endo.gr/en
X-WR-CALDESC:Events for ENDO
REFRESH-INTERVAL;VALUE=DURATION:PT1H
X-Robots-Tag:noindex
X-PUBLISHED-TTL:PT1H
BEGIN:VTIMEZONE
TZID:Europe/Athens
BEGIN:DAYLIGHT
TZOFFSETFROM:+0200
TZOFFSETTO:+0300
TZNAME:EEST
DTSTART:20210328T010000
END:DAYLIGHT
BEGIN:STANDARD
TZOFFSETFROM:+0300
TZOFFSETTO:+0200
TZNAME:EET
DTSTART:20211031T010000
END:STANDARD
BEGIN:DAYLIGHT
TZOFFSETFROM:+0200
TZOFFSETTO:+0300
TZNAME:EEST
DTSTART:20220327T010000
END:DAYLIGHT
BEGIN:STANDARD
TZOFFSETFROM:+0300
TZOFFSETTO:+0200
TZNAME:EET
DTSTART:20221030T010000
END:STANDARD
BEGIN:DAYLIGHT
TZOFFSETFROM:+0200
TZOFFSETTO:+0300
TZNAME:EEST
DTSTART:20230326T010000
END:DAYLIGHT
BEGIN:STANDARD
TZOFFSETFROM:+0300
TZOFFSETTO:+0200
TZNAME:EET
DTSTART:20231029T010000
END:STANDARD
END:VTIMEZONE
BEGIN:VEVENT
DTSTART;VALUE=DATE:20220204
DTEND;VALUE=DATE:20220206
DTSTAMP:20260424T215651
CREATED:20220204T113056Z
LAST-MODIFIED:20250121T113304Z
UID:21527-1643932800-1644105599@endo.gr
SUMMARY:3o Σεμινάριο Τεχνολογίας στο Σακχαρώδη Διαβήτη\, 4-5/2/2022\, Γραφεία ΕΕΕ-ΠΕΕ
DESCRIPTION:Δείτε εδώ το πρόγραμμα \nH Ελληνική Ενδοκρινολογική Εταιρεία – Πανελλήνια Ένωση Ενδοκρινολόγων διοργανώνει το 3ο Σεμινάριο Τεχνολογίας στο Σακχαρώδη Διαβήτη\, στις 4 και 5 Φεβρουαρίου 2022\, στα γραφεία της ΕΕΕ-ΠΕΕ. \nΣύμφωνα με τα κριτήρια της UEMS – EACCME θα χορηγηθούν 9 μόρια Συνεχιζόμενης Ιατρικής Εκπαίδευσης (CME-CPD credits).
URL:https://endo.gr/en/event/3o-%cf%83%ce%b5%ce%bc%ce%b9%ce%bd%ce%ac%cf%81%ce%b9%ce%bf-%cf%84%ce%b5%cf%87%ce%bd%ce%bf%ce%bb%ce%bf%ce%b3%ce%af%ce%b1%cf%82-%cf%83%cf%84%ce%bf-%cf%83%ce%b1%ce%ba%cf%87%ce%b1%cf%81%cf%8e%ce%b4%ce%b7/
LOCATION:Γραφεία ΕΕΕ-ΠΕΕ
CATEGORIES:Εκδηλώσεις E.E.E.
ATTACH;FMTTYPE=image/png:https://endo.gr/wp-content/uploads/2025/01/eee-300x146-3-1.png
END:VEVENT
BEGIN:VEVENT
DTSTART;VALUE=DATE:20220205
DTEND;VALUE=DATE:20220206
DTSTAMP:20260424T215651
CREATED:20220502T102915Z
LAST-MODIFIED:20250121T113044Z
UID:21524-1644019200-1644105599@endo.gr
SUMMARY:Webinar 5/2/2022\, Παρουσίαση περιστατικών ΓΝΘ «ΙΠΠΟΚΡΑΤΕΙΟ» & ΝΠΑ «ΠΑΝΑΓΙΩΤΗ ΚΑΙ ΑΓΛΑΪΑΣ ΚΥΡΙΑΚΟΥ»
DESCRIPTION:Αγαπητοί Συνάδελφοι\, \nΤο Σάββατο 5/2/2022 στις 11.00 π.μ. πραγματοποιείται το 1ο Webinar της Ελληνικής Ενδοκρινολογικής Εταιρείας\, στο πλαίσιο των μετεκπαιδευτικών της μαθημάτων μέσω διαδικτύου για το 2022. \n\n1o Περιστατικό: ΓΝΘ “ΙΠΠΟΚΡΑΤΕΙΟ”\nΥΠΕΥΘΥΝΗ: \n\n Μαρίνα Κήτα\,  Διευθύντρια Ενδοκρινολογικής Κλινικής “Ιπποκράτειο” ΓΝ Θεσσαλονίκης.\n\nΤΙΤΛΟΣ: “Έκτοπο σύνδρομο Cushing: προκλήσεις κατά τη διάγνωση & αντιμετώπιση 3 περιστατικών”. \nΠερίληψη:  \nΈκτοπο Cushing: μία νόσος με πολλά πρόσωπα. Περιγραφή 3 περιπτώσεων ασθενών με έκτοπο Cushing\, οι οποίες διαφέρουν ως προς την αιτιολογία\, την κλινική εικόνα και βαρύτητα\, τους θεραπευτικούς χειρισμούς και την έκβαση. \nΠΑΡΟΥΣΙΑΣΗ: \n\nΕυστάθιος Διβάρης\, Ειδικευόμενος Ενδοκρινολογίας.\nΖωή Α. Ευσταθιάδου\, Διευθύντρια ΕΣΥ\, Ενδοκρινολογικό Τμήμα “Ιπποκράτειο” ΓΝ Θεσσαλονίκης.\n\nΣΧΟΛΙΑΣΜΟΣ: \n\nΣ. Τσαγκαράκης\, Συντονιστής Διευθυντής\, Ενδοκρινολογικής Κλινικής\, Διαβητολογικού Κέντρου και Κέντρου Εμπειρογνωμοσύνης Σπανίων Ενδοκρινικών νοσημάτων ΓΝΑ «Ο Ευαγγελισμός – Πολυκλινική».\n\n\n2o Περιστατικό: ΝΠΑ “ΠΑΝΑΓΙΩΤΗ & ΑΓΛΑΪΑΣ ΚΥΡΙΑΚΟΥ”\n  \nΥΠΕΥΘΥΝΟΣ:  \n\nΣτέφανος Μιχαλάκος\, Συντονιστής Διευθυντής Ενδοκρινολογικού-Αύξησης & Ανάπτυξης Τμήματος Γεν. Νοσ. Παίδων Αθηνών “Π. & Α. Κυριακού”.\n\nΤΙΤΛΟΣ: «Αδελφές με αυξημένα επίπεδα FSH\, υποπλαστικές γονάδες και αυτόματη εμμηναρχή. Ποια η διάγνωση;» \nΠερίληψη: \nΗ παρουσίαση αφορά στην περίπτωση  δυο κοριτσιών αδελφών με φυσιολογικό νοητικό επίπεδο\, χωρίς δυσμορφικά χαρακτηριστικά\, εικόνα υποπλαστικών ωοθηκών\, με ωστόσο αυτόματη εμμηναρχή. Ο γενετικός έλεγχος με μοριακό καρυότυπο ανέδειξε ενδιαφέρον παθολογικό εύρημα.\nΠΑΡΟΥΣΙΑΣΗ: \n\nΕιρήνη Δικαιάκου\, Επιμελήτρια Α’\, Τμήμα ενδοκρινολογικό – Αύξησης κι Ανάπτυξης Νοσοκ. Παίδων Π. Α\, Κυριακού\nΕλπίς – Αθηνά Βλαχοπαπαδοπούλου\, Διευθύντρια\, Τμήμα ενδοκρινολογικό – Αύξησης κι Ανάπτυξης Νοσοκ. Παίδων Π. Α\, Κυριακού.\n\nΣΧΟΛΙΑΣΜΟΣ: \n\nΜαρία Καράντζα – Χαρώνη\, Παιδίατρος Ενδοκρινολόγος\, Διευθύντρια Ενδοκρινολογικής Κλινικής «Παίδων Μητέρα».\n\n\nΠροκειμένου να παρακολουθήσετε ελεύθερα το webinar\, μπορείτε να προεγγραφείτε μέσω της διεύθυνσης: \nhttps://attendee.gotowebinar.com/register/4639805349480236043\n(Webinar ID: 688-535-883) \nσυμπληρώνοντας το ονοματεπώνυμό σας και το email σας στη φόρμα εγγραφής\, ώστε να λάβετε αυτόματα ένα νέο e-mail που θα περιέχει τον σύνδεσμο (link) μέσω του οποίου θα μεταδοθεί το webinar. \nΠροσβλέποντας πάντα στην πολύτιμη ενεργό συμμετοχή σας. \nΓια την Ελληνική Ενδοκρινολογική Εταιρεία. \nΜε εκτίμηση\, \n \n\n  \n\nΑΝΑΛΥΤΙΚΕΣ ΟΔΗΓΙΕΣ ΣΥΝΔΕΣΗΣ\nΤην ημέρα και ώρα διεξαγωγής του webinar\, για να συνδεθείτε\, θα πατήσετε στον παραπάνω σύνδεσμο  και αφού συμπληρώσετε πάλι το Ονοματεπώνυμο και το email σας (εικόνα 1 πιο κάτω)\, θα πατήσετε στο κουμπί “Join Webinar in Progress” στο κάτω μέρος της φόρμας. Στη συνέχεια (εικόνα 2) θα δεχθείτε να “κατέβει” και “εγκατασταθεί” (ή “εκτελεστεί”) στον browser σας\, ένα μικρό πρόγραμμα με το όνομα GoToWebinar Opener (εικόνα 3)\, το οποίο είναι απαραίτητο για να δημιουργήσει στον Η/Υ σας το περιβάλλον παρακολούθησης και υποβολής ερωτημάτων (εικόνα 4). \n(εικόνα 1)\n \n(εικόνα 2)\n \n(εικόνα 3)\n \n(εικόνα 4)\n \nΜπορείτε να παρακολουθήσετε τα webinars είτε από σταθερό ή φορητό υπολογιστή είτε από άλλη κινητή συσκευή (tablet\, κινητό τηλέφωνο)\, κατεβάζοντας και εγκαθιστώντας την αντίστοιχη εφαρμογή για iOS ή για Android λειτουργικό. \nMπορείτε να υποβάλλετε τις ερωτήσεις σας στους εισηγητές\, είτε προφορικά (ενδείκνυται)\, πατώντας πρώτα το κουμπί με την παλάμη\, \n \nώστε ο τεχνικός συντονιστής να σας δώσει τον λόγο και να ανοίξει το μικρόφωνό σας για να σας ακούσουν όλοι οι συμμετέχοντες\, είτε γραπτά\, πληκτρολογώντας την ερώτησή σας στο πλαίσιο με τίτλο Question και στη συνέχεια πατώντας Send για να την παραλάβει ο τεχνικός συντονιστής και να την προωθήσει στον ομιλητή.
URL:https://endo.gr/en/event/webinar-5-2-2022-%cf%80%ce%b1%cf%81%ce%bf%cf%85%cf%83%ce%af%ce%b1%cf%83%ce%b7-%cf%80%ce%b5%cf%81%ce%b9%cf%83%cf%84%ce%b1%cf%84%ce%b9%ce%ba%cf%8e%ce%bd-%ce%b3%ce%bd%ce%b8-%ce%b9%cf%80%cf%80/
LOCATION:«ΙΠΠΟΚΡΑΤΕΙΟ» & ΝΠΑ «ΠΑΝΑΓΙΩΤΗ ΚΑΙ ΑΓΛΑΪΑΣ ΚΥΡΙΑΚΟΥ»
CATEGORIES:Webinars παρουσίασης περιστατικών,Εκδηλώσεις E.E.E.
END:VEVENT
BEGIN:VEVENT
DTSTART;VALUE=DATE:20220218
DTEND;VALUE=DATE:20220221
DTSTAMP:20260424T215651
CREATED:20220218T112630Z
LAST-MODIFIED:20250121T112908Z
UID:21518-1645142400-1645401599@endo.gr
SUMMARY:ΕΝΔΟΡΑΜΑ ’21
DESCRIPTION:Δείτε εδώ το πρόγραμμα \nΓια περισσότερες πληροφορίες δείτε εδώ \nΤο Ιατρικό Συνέδριο ΕΝΔΟΡΑΜΑ είναι μια πρωτότυπη ετήσια ιατρική διημερίδα που διεξάγεται στο Πανεπιστήμιο Πατρών σε ετήσια βάση.  Στα πλαίσια αυτού παρουσιάζονται κλινικά περιστατικά και ιατρικά δεδομένα\, γίνεται ανασκόπηση των πλέον ενδιαφερόντων άρθρων που δημοσιεύτηκαν στη διεθνή βιβλιογραφία τη χρονιά που πέρασε σε όλα τα γνωστικά πεδία της Ενδοκρινολογίας. Επίσης παρουσιάζονται και συζητούνται τα τελευταία ερευνητικά αποτελέσματα\, ιδέες\, εξελίξεις και εφαρμογές στον τομέα της ενδοκρινολογίας καθώς παρουσιάζονται όλα τα αντίστοιχα νέα φάρμακα που κυκλοφόρησαν την ίδια περίοδο. \n\nΟι τομείς που παρουσιάζονται στο ΕΝΔΟΡΑΜΑ είναι οι εξής: \n\nΛιπίδια\nΓυναικεία Αναπαραγωγή\nΑνδρική Αναπαραγωγή\nΠαιδιατρική Ενδοκρινολογία\nΥπόφυση\nΣακχαρώδης Διαβήτης\nΔιατροφή\nΕπινεφρίδια\nΜεταβολισμός Οστών\nΘυροειδής\n\nΣε συνέχεια των προηγούμενων 13 συνεδρίων και ακολουθώντας τις εξελίξεις το ΕΝΔΟΡΑΜΑ ’20\, το οποίο διεξήχθει 29-30 Ιανουαρίου 2021 στο Συνεδριακό Κέντρο του Πανεπιστημίου Πατρών. \nΑπό το 2008 έως και το 2020 το ΕΝΔΟΡΑΜΑ διοργανώνεται κάθε χρόνο στο Συνεδριακό Κέντρο του Πανεπιστημίου Πατρών\, κατά το τελευταίο Σαββατοκύριακο του Ιανουαρίου. Το 2021 λόγω των υγειονομικών περιορισμών διεξήχθη ψηφιακά\, αλλά το φετινό συνέδριο\, σχεδιάζουμε να διεξαχθεί υβριδικά στον φιλόξενο και γνώριμο χώρο του  Συνεδριακού Κέντρου\, τηρώντας όλες τις οδηγίες και τα μέτρα των αρμόδιων αρχών\, για τον περιορισμό της διάδοσης του COVID-19 \nΟργανωτική Επιτροπή\nΑ.Γ. Βαγενάκης\nΝ.Α. Γεωργόπουλος\nΚ.Β. Μάρκου \nΟργάνωση\n \nΑιγίδα\nΕλληνική Ενδοκρινολογική Εταιρεία- Πανελλήνια Ένωση Ενδοκρινολόγων \nΓραμματεία Συνεδρίου
URL:https://endo.gr/en/event/%ce%b5%ce%bd%ce%b4%ce%bf%cf%81%ce%b1%ce%bc%ce%b1-21/
LOCATION:ΕΝΔΟΡΑΜΑ
CATEGORIES:Εκδηλώσεις E.E.E.,Υπό την αιγίδα της Εταιρείας
ATTACH;FMTTYPE=image/jpeg:https://endo.gr/wp-content/uploads/2025/01/endorama21-1080x1080-v2-150x150-1.jpg
END:VEVENT
BEGIN:VEVENT
DTSTART;TZID=Europe/Athens:20220226T110000
DTEND;TZID=Europe/Athens:20220226T133000
DTSTAMP:20260424T215651
CREATED:20220226T112445Z
LAST-MODIFIED:20250121T112604Z
UID:21515-1645873200-1645882200@endo.gr
SUMMARY:Webinar 26/2/2022\, Παρουσιάσεις Περιστατικών ΠΓΝ ΠΑΤΡΩΝ\, ΕΕΠΜΣ – ΝΟΣΟΚΟΜΕΙΟ ΚΑΤ
DESCRIPTION:• Παρουσίαση Περιστατικού ΠΓΝ ΠΑΤΡΩΝ\, 26.02.2022\, ώρα 11:00-11:45 \nΤίτλος: «Έφηβη 17 ετών με συγκοπτικά επεισόδια και υπασβεστιαιμία» \nΈφηβη 17 ετών με ελεύθερο ατομικό αναμνηστικό βρίσκεται υπό διερεύνηση σε εξωτερική βάση από παθολόγο\, καρδιολόγο και νευρολόγο το τελευταίο εξάμηνο λόγω συγκοπτικών επεισοδίων ιδίως κατά την άσκηση χωρίς να έχει πρόδρομη συμπτωματολογία πριν τα επεισόδια ή άλλα συνοδά συμπτώματα. Μετά από ένα συγκοπτικό επεισόδιο κατά την κολύμβηση επισκέφθηκε το τμήμα επειγόντων περιστατικών του νοσοκομείου μας όπου εισήχθη στην καρδιολογική κλινική λόγω επιμήκυνσης του διαστήματος QT. Διαπιστώθηκε στο βιοχημικό έλεγχο υπασβεστιαιμία με μη ανιχνεύσιμη παραθορμόνη στον ορό και κλήθηκε το ενδοκρινολογικό τμήμα για να προχωρήσει σε εκτίμηση της ασθενούς.\nΘα αναφερθούμε στην οξεία διαχείριση και διαφορική διάγνωση της υπασβεστιαιμίας με αφορμή το συγκεκριμένο περιστατικό όπως και στους θεραπευτικούς στόχους και προκλήσεις στη διαχείριση σε μακροπρόθεσμη βάση του πρωτοπαθούς υποπαραθυρεοειδισμού. \nΥπεύθυνος: Ιωάννης Χαμπαίος MD\, PhD\, Καθηγητής Παθολογίας-Ενδοκρινολογίας και Μεταβολικών Νοσημάτων\, Διευθυντής Ενδοκρινολογικού Τμήματος Πανεπιστημιακού Γενικού Νοσοκομείου Πατρών \nΠαρουσίαση: Παναγιώτης Μπουντούρης MD\, MSc \, ειδικευόμενος Ενδοκρινολογίας\, Τμήμα Ενδοκρινολογίας\, Παθολογική Κλινική\, Πανεπιστημιακό Γενικό Νοσοκομείο Πατρών \nΣχολιασμός: Ντάλη Γεωργία\, Επιμελήτρια Α’\, Ενδοκρινολογικό Τμήμα Διαβητολογικό Κέντρο\, ΓΝΑ “Ευαγγελισμός”. \n——————————————————————– \n• Παρουσίαση Περιστατικού Εργαστήριο έρευνας Παθήσεων Μυοσκελετικού Συστήματος «Θ. Γαροφαλλίδης»\, ΕΚΑΠ\, Νοσοκομείο ΚΑΤ\, 26.02.2022\, ώρα 12:30 – 13:30 \nΤίτλος: Γυναίκα ασθενής 60 ετών\, με ιστορικό θεραπευθέντος Ca παχέος εντέρου\, προσήλθε στο ΕΙ Οστεοπόρωσης λόγω πολλαπλών σπονδυλικών καταγμάτων μετά από διακοπή denosumab. \nΤο 1997 εμφάνισε κατάγματα Θ7\, Θ8 λόγω πτώσης εξ’ ιδίου ύψους. Μεταξύ 2000 και 2009 έλαβε καλσιτονίνη και διφωσφονικά. Από το 2009 έως το 2011 έλαβε τεριπαρατίδη\, ενώ μεταξύ 2011 και 2019 έλαβε denosumab με σωστή συμμόρφωση. Τελευταία δόση denosumab τον 5/2019. Τον 2/2020 εμφάνισε πόνο στη ράχη και διαπιστώθηκαν αυτόματα κατάγματα Ο1\, Ο2\, για τα οποία η ασθενής απευθύνθηκε στο ΕΙ Οστεοπόρωσης.\nΑπό το ατομικό αναμνηστικό: Ca παχέος εντέρου με κολεκτομή & χημειοθεραπεία το 2000 – έκτοτε είναι ελεύθερη νόσου.\nDXA (Lunar Prodigy\, 2/2020): BMD ΑΡ αυχένα μηριαίου 0.775 mg/cm2\, T-score: -3.4\nΑπό τον εργαστηριακό έλεγχο αποκλείστηκαν αιτίες Β/παθούς Οστεοπόρωσης.\nMRI ΟΜΣΣ (12/2/2020): πρόσφατα κατάγματα Ο1\, Ο2\nΤα κατάγματα της ασθενούς αποδόθηκαν σε rebound phenomenon λόγω διακοπής denosumab που λάμβανε επί 8 έτη. Αποφασίστηκε η επαναχορήγηση denosumab\, σε συνδυασμό με ανθρακικό ασβέστιο και χοληκαλσιφερόλη.\nΩστόσο\, τον 3/2020 και έχοντας λάβει μία δόση denosumab\, η ασθενής εμφάνισε εκ νέου ραχιαλγία. Σε MRI ΟΜΣΣ (20/3/2020) διαπιστώθηκαν νέα κατάγματα Θ12\, Ο3\, Ο4\, Ο5.\nΔιαγνωστική και θεραπευτική προσέγγιση. \nΠαρουσίαση: Μιχάλης Κρικέλης\, Ειδικευόμενος Ρευματολογίας\, Ρευματολογική Κλινική\, Νοσοκομείο ΚΑΤ\nΣυμεών Τουρνής\, Ενδοκρινολόγος\, ΕΕΠΜΣ\, ΕΚΠΑ\, Νοσοκομείο ΚΑΤ\nΣχολιασμός: Γεώργιος Τροβάς\, Ενδοκρινολόγος\, ΕΕΠΜΣ\, ΕΚΠΑ\, Νοσοκομείο ΚΑΤ
URL:https://endo.gr/en/event/webinar-26-2-2022-%cf%80%ce%b1%cf%81%ce%bf%cf%85%cf%83%ce%b9%ce%ac%cf%83%ce%b5%ce%b9%cf%82-%cf%80%ce%b5%cf%81%ce%b9%cf%83%cf%84%ce%b1%cf%84%ce%b9%ce%ba%cf%8e%ce%bd-%cf%80%ce%b3%ce%bd-%cf%80%ce%b1/
LOCATION:ΠΓΝ ΠΑΤΡΩΝ\, ΕΕΠΜΣ – ΝΟΣΟΚΟΜΕΙΟ ΚΑΤ
CATEGORIES:Webinars παρουσίασης περιστατικών,Εκδηλώσεις E.E.E.
END:VEVENT
BEGIN:VEVENT
DTSTART;VALUE=DATE:20220228
DTEND;VALUE=DATE:20220301
DTSTAMP:20260424T215651
CREATED:20220228T112328Z
LAST-MODIFIED:20250121T112438Z
UID:21510-1646006400-1646092799@endo.gr
SUMMARY:Upcoming Webinar: Acromegaly through the eyes of a Physician\, a Nurse\, and a Patient
DESCRIPTION:Upcoming Webinar: Acromegaly through the eyes of a Physician\, a Nurse\, and a Patient
URL:https://endo.gr/en/event/upcoming-webinar-acromegaly-through-the-eyes-of-a-physician-a-nurse-and-a-patient/
CATEGORIES:Διεθνείς Εκδηλώσεις,Εκδηλώσεις E.E.E.
ATTACH;FMTTYPE=image/png:https://endo.gr/wp-content/uploads/2025/01/iseedu.png
END:VEVENT
END:VCALENDAR