BEGIN:VCALENDAR
VERSION:2.0
PRODID:-//ENDO - ECPv6.15.14//NONSGML v1.0//EN
CALSCALE:GREGORIAN
METHOD:PUBLISH
X-ORIGINAL-URL:https://endo.gr/en
X-WR-CALDESC:Events for ENDO
REFRESH-INTERVAL;VALUE=DURATION:PT1H
X-Robots-Tag:noindex
X-PUBLISHED-TTL:PT1H
BEGIN:VTIMEZONE
TZID:Europe/Athens
BEGIN:DAYLIGHT
TZOFFSETFROM:+0200
TZOFFSETTO:+0300
TZNAME:EEST
DTSTART:20210328T010000
END:DAYLIGHT
BEGIN:STANDARD
TZOFFSETFROM:+0300
TZOFFSETTO:+0200
TZNAME:EET
DTSTART:20211031T010000
END:STANDARD
BEGIN:DAYLIGHT
TZOFFSETFROM:+0200
TZOFFSETTO:+0300
TZNAME:EEST
DTSTART:20220327T010000
END:DAYLIGHT
BEGIN:STANDARD
TZOFFSETFROM:+0300
TZOFFSETTO:+0200
TZNAME:EET
DTSTART:20221030T010000
END:STANDARD
BEGIN:DAYLIGHT
TZOFFSETFROM:+0200
TZOFFSETTO:+0300
TZNAME:EEST
DTSTART:20230326T010000
END:DAYLIGHT
BEGIN:STANDARD
TZOFFSETFROM:+0300
TZOFFSETTO:+0200
TZNAME:EET
DTSTART:20231029T010000
END:STANDARD
END:VTIMEZONE
BEGIN:VEVENT
DTSTART;TZID=Europe/Athens:20221004T080000
DTEND;TZID=Europe/Athens:20221006T170000
DTSTAMP:20260423T155655
CREATED:20221004T084846Z
LAST-MODIFIED:20250121T095040Z
UID:21400-1664870400-1665075600@endo.gr
SUMMARY:ESE Clinical Update on Calcium and Bone 2022 online
DESCRIPTION:ESE Clinical Update on Calcium and Bone 2022 online
URL:https://endo.gr/en/event/ese-clinical-update-on-calcium-and-bone-2022-online/
LOCATION:ESE Clinical Update on Calcium and Bone 2022 online
CATEGORIES:Διεθνείς Εκδηλώσεις,Εκδηλώσεις E.E.E.
ATTACH;FMTTYPE=image/jpeg:https://endo.gr/wp-content/uploads/2025/01/cu-calcium-bone-2022-online-ese-on-demand-event-tile-317x244px-_v1-300x231-1.jpg
END:VEVENT
BEGIN:VEVENT
DTSTART;TZID=Europe/Athens:20221008T110000
DTEND;TZID=Europe/Athens:20221008T233000
DTSTAMP:20260423T155655
CREATED:20221008T084638Z
LAST-MODIFIED:20250121T094832Z
UID:21397-1665226800-1665271800@endo.gr
SUMMARY:Webinar 8/10/2022\, Παρουσίαση περιστατικών ΓΝΑ ΚΟΡΓΙΑΛΕΝΕΙΟ – ΜΠΕΝΑΚΕΙΟ Ε.Ε.Σ.\, & ΑΝΘ «ΘΕΑΓΕΝΕΙΟ»
DESCRIPTION:Αγαπητοί Συνάδελφοι\, \nΤο Σάββατο 8/10/2022 στις 11.00 π.μ. πραγματοποιείται το Webinar της Ελληνικής Ενδοκρινολογικής Εταιρείας\, στο πλαίσιο των μετεκπαιδευτικών της μαθημάτων μέσω διαδικτύου για το 2022. \n1ο Περιστατικό\, ΓΝΑ ΚΟΡΓΙΑΛΕΝΕΙΟ – ΜΠΕΝΑΚΕΙΟ Ε.Ε.Σ. \nΤίτλος: Δύο ενδιαφέροντα περιστατικά μεγαλακρίας-Θεραπευτικές προκλήσεις \nΥπεύθυνη: Α. Βρυωνίδου – Μπομποτά\, Ενδοκρινολόγος\, Συντ. Διευθύντρια\, Ενδοκρινολογικό Τμήμα – Διαβητολογικό Κέντρο Γ.Ν.Α «Κοργιαλένειο – Μπενάκειο Ε.Ε.\nΠαρουσίαση: Aναστάσιος Τσιτσιμπής\, Ειδικευόμενος Ενδοκρινολογίας\nΝικόλαος Καλογερής\, Επιμελητής Α’\nΣχολιασμός: Ζωή Ευσταθιάδου\, Διευθύντρια ΕΣΥ\, Ενδοκρινολογικό Τμήμα “Ιπποκράτειο” ΓΝ Θεσσαλονίκης \n————————————————————————–\n2o Περιστατικό: ΑΝΘ «ΘΕΑΓΕΝΕΙΟ» \nΤίτλος: Ασυνήθεις εντοπίσεις θηλώδους καρκινώματος θυρεοειδή \nΥπεύθυνη: Α. Χρυσουλίδου\, Διευθύντρια Ενδοκρινολογικού Τμήματος\, Αντικαρκινικό Νοσοκομείο Θεσσαλονίκης\nΠαρουσίαση: Χρυσάνθη Μπαλοδήμου\, Ειδικευόμενη Ενδοκρινολογίας\, Χρυσάνθη Ζούλη\, Επιμελήτρια Β’\nΣχολιασμός: Κατερίνα Σαλτίκη\, MD\, PhD\, Ακαδημαϊκός Υπότροφος\, ΓΝΑ ΑΛΕΞΑΝΔΡΑ\, Θεραπευτική Κλινική\, ΕΚΠΑ \n______________________________________________________________ \nΠροκειμένου να παρακολουθήσετε ελεύθερα το webinar\, μπορείτε να προεγγραφείτε μέσω της διεύθυνσης: \nhttps://attendee.gotowebinar.com/register/3957252725713987340 \n(Webinar ID: 584-209-331)  \nσυμπληρώνοντας το ονοματεπώνυμό σας και το email σας στη φόρμα εγγραφής\, ώστε να λάβετε αυτόματα ένα νέο e-mail που θα περιέχει τον σύνδεσμο (link) μέσω του οποίου θα μεταδοθεί το webinar. \nΠροσβλέποντας πάντα στην πολύτιμη ενεργό συμμετοχή σας. \nΓια την Ελληνική Ενδοκρινολογική Εταιρεία. \nΜε εκτίμηση\,\nΗ ΠΡΟΕΔΡΟΣ\nΑ. Βρυωνίδου \nΗ ΓΕΝ. ΓΡΑΜΜΑΤΕΑΣ\nΓ. Κάσση
URL:https://endo.gr/en/event/webinar-8-10-2022-%cf%80%ce%b1%cf%81%ce%bf%cf%85%cf%83%ce%af%ce%b1%cf%83%ce%b7-%cf%80%ce%b5%cf%81%ce%b9%cf%83%cf%84%ce%b1%cf%84%ce%b9%ce%ba%cf%8e%ce%bd-%ce%b3%ce%bd%ce%b1-%ce%ba%ce%bf%cf%81%ce%b3/
LOCATION:ΜΠΕΝΑΚΕΙΟ Ε.Ε.Σ.\, & ΑΝΘ «ΘΕΑΓΕΝΕΙΟ»
CATEGORIES:Webinars παρουσίασης περιστατικών,Εκδηλώσεις E.E.E.
END:VEVENT
BEGIN:VEVENT
DTSTART;VALUE=DATE:20221014
DTEND;VALUE=DATE:20221015
DTSTAMP:20260423T155655
CREATED:20221014T084407Z
LAST-MODIFIED:20250121T094627Z
UID:21393-1665705600-1665791999@endo.gr
SUMMARY:ΕΚΠΑΙΔΕΥΤΙΚΗ ΗΜΕΡΙΔΑ ΕΝΔΟΚΡΙΝΟΛΟΓΙΑΣ\, 14/10/2022\, Hotel Divani Meteora
DESCRIPTION:Δείτε εδώ το πρόγραμμα \nΟι Κλινικές Ενδοκρινολογίας και Μεταβολικών Νόσων του Π.Γ.Ν.Λάρισας και του Π.Γ.Ν.Ιωαννίνων\, στα πλαίσια της συνεχιζόμενης εκπαίδευσης διοργανώνουν Κοινές Εκπαιδευτικές Ημερίδες που σκοπό έχουν την παρουσίαση και συζήτηση ενδιαφερόντων περιστατικών με θέματα ενδοκρινολογίας και Σακχαρώδη Διαβήτη\, την ενημέρωση σχετικά με την τελευταία αντίστοιχη βιβλιογραφία και παρουσίαση ενδιαφερόντων ερευνητικών πρωτοκόλλων των κλινικών. \nΟι ημερίδες γίνονται στο Hotel Divani Meteora στην Καλαμπάκα και είναι ανοιχτές σε όποιους επιθυμούν να συμμετάσχουν. \nΜε εκτίμηση \nΑλεξάνδρα Μπαργιώτα Στυλιανός Τίγκας\nΑναπλ. Καθηγήτρια Αναπλ. Καθηγητής
URL:https://endo.gr/en/event/%ce%b5%ce%ba%cf%80%ce%b1%ce%b9%ce%b4%ce%b5%cf%85%cf%84%ce%b9%ce%ba%ce%b7-%ce%b7%ce%bc%ce%b5%cf%81%ce%b9%ce%b4%ce%b1-%ce%b5%ce%bd%ce%b4%ce%bf%ce%ba%cf%81%ce%b9%ce%bd%ce%bf%ce%bb%ce%bf%ce%b3%ce%b9%ce%b1/
CATEGORIES:Εκδηλώσεις E.E.E.
ATTACH;FMTTYPE=image/jpeg:https://endo.gr/wp-content/uploads/2025/01/larisaioan1-300x105-1.jpg
END:VEVENT
BEGIN:VEVENT
DTSTART;VALUE=DATE:20221015
DTEND;VALUE=DATE:20221017
DTSTAMP:20260423T155655
CREATED:20221015T084124Z
LAST-MODIFIED:20250121T094401Z
UID:21388-1665792000-1665964799@endo.gr
SUMMARY:Διημερίδα Ενδοκρινολογικής Εταιρείας Κύπρου
DESCRIPTION:Δείτε εδώ το πρόγραμμα \n15-16/10/2020 \nΣε συνεργασία με τη Νεφρολογική Εταιρεία Κύπρου και την Ελληνική Ενδοκρινολογική Εταιρεία.\nΥπό την Αιγίδα του Παγκύπριου Ιατρικού Συλλόγου
URL:https://endo.gr/en/event/%ce%b4%ce%b9%ce%b7%ce%bc%ce%b5%cf%81%ce%af%ce%b4%ce%b1-%ce%b5%ce%bd%ce%b4%ce%bf%ce%ba%cf%81%ce%b9%ce%bd%ce%bf%ce%bb%ce%bf%ce%b3%ce%b9%ce%ba%ce%ae%cf%82-%ce%b5%cf%84%ce%b1%ce%b9%cf%81%ce%b5%ce%af%ce%b1/
LOCATION:Διημερίδα Ενδοκρινολογικής Εταιρείας Κύπρου
CATEGORIES:Εκδηλώσεις E.E.E.,Συνδιοργάνωση με την Εταιρεία
ATTACH;FMTTYPE=image/png:https://endo.gr/wp-content/uploads/2025/01/eee-300x146-1-1.png
END:VEVENT
BEGIN:VEVENT
DTSTART;VALUE=DATE:20221020
DTEND;VALUE=DATE:20221024
DTSTAMP:20260423T155655
CREATED:20221020T083850Z
LAST-MODIFIED:20250121T094118Z
UID:21383-1666224000-1666569599@endo.gr
SUMMARY:EndoBridge 2022\, Antalya\, Turkey\, October 20 – 23\, 2022.
DESCRIPTION:On behalf of the EndoBridge initiative\, we are delighted to invite you to attend the tenth EndoBridge meeting that will take place in Antalya\, Turkey\, October 20 – 23\, 2022. \nEndoBridge 2022 will provide a comprehensive update of recent advances in the full spectrum of endocrinology including diabetes and lipid disorders. The program involves state-of-the-art lectures delivered by world-renowned faculty as well as interactive case discussion sessions. \nThe official language of the meeting is English and simultaneous translation in Russian\, Arabic and Turkish will be provided. \nWe expect EndoBridge 2022 to bring together leading experts of endocrinology and a diverse and active international scientific community of clinicians and fellows to present and discuss clinical endocrinology topics. \nWe look forward to welcoming you in Antalya in October.
URL:https://endo.gr/en/event/endobridge-2022-antalya-turkey-october-20-23-2022/
LOCATION:Antalya\, Turkey
CATEGORIES:Διεθνείς Εκδηλώσεις,Εκδηλώσεις E.E.E.
ATTACH;FMTTYPE=image/png:https://endo.gr/wp-content/uploads/2025/01/endo-bridge-logo.png
END:VEVENT
BEGIN:VEVENT
DTSTART;VALUE=DATE:20221021
DTEND;VALUE=DATE:20221023
DTSTAMP:20260423T155655
CREATED:20221021T083627Z
LAST-MODIFIED:20250121T093828Z
UID:21379-1666310400-1666483199@endo.gr
SUMMARY:6o Σεμινάριο Τεχνολογίας στο Σακχαρώδη Διαβήτη\, 21-22/10/2022\, Γραφεία ΕΕΕ-ΠΕΕ
DESCRIPTION:Δείτε εδώ το πρόγραμμα \nH Ελληνική Ενδοκρινολογική Εταιρεία – Πανελλήνια Ένωση Ενδοκρινολόγων διοργανώνει το 6ο Σεμινάριο Τεχνολογίας στο Σακχαρώδη Διαβήτη\, στις 21 και 22 Οκτωβρίου 2022\, στα γραφεία της ΕΕΕ-ΠΕΕ. \nΣύμφωνα με τα κριτήρια της UEMS – EACCME θα χορηγηθούν 9 μόρια Συνεχιζόμενης Ιατρικής Εκπαίδευσης (CME-CPD credits).
URL:https://endo.gr/en/event/6o-%cf%83%ce%b5%ce%bc%ce%b9%ce%bd%ce%ac%cf%81%ce%b9%ce%bf-%cf%84%ce%b5%cf%87%ce%bd%ce%bf%ce%bb%ce%bf%ce%b3%ce%af%ce%b1%cf%82-%cf%83%cf%84%ce%bf-%cf%83%ce%b1%ce%ba%cf%87%ce%b1%cf%81%cf%8e%ce%b4%ce%b7/
LOCATION:Γραφεία ΕΕΕ-ΠΕΕ
CATEGORIES:Εκδηλώσεις E.E.E.
ATTACH;FMTTYPE=image/png:https://endo.gr/wp-content/uploads/2025/01/6o-Σεμινάριο-Τεχνολογίας-στο-Σακχαρώδη-Διαβήτη_Page_1-208x300-1.png
END:VEVENT
BEGIN:VEVENT
DTSTART;TZID=Europe/Athens:20221021T080000
DTEND;TZID=Europe/Athens:20221022T170000
DTSTAMP:20260423T155655
CREATED:20221021T083216Z
LAST-MODIFIED:20250121T093547Z
UID:21374-1666339200-1666458000@endo.gr
SUMMARY:7o Πανελλήνιο Επιστημονικό Συμπόσιο της Ελληνικής Εταιρείας Παιδικής & Εφηβικής Παχυσαρκίας
DESCRIPTION:Για περισσότερες πληροφορίες δείτε εδώ. \nΔείτε εδώ το πρόγραμμα \nΤο 7ο Πανελλήνιο Επιστημονικό Συμπόσιο της Ελληνικής Εταιρείας Παιδικής και Εφηβικής Παχυσαρκίας διεξάγεται για έκτη συνεχόμενη χρονιά στην Αθήνα\, στο Ξενοδοχείο Titania\, στις 21-22 Οκτωβρίου 2022.\nΣτο πλαίσιο του συμποσίου θα αναπτυχθούν θέματα αναφορικά με την παχυσαρκία και COVID-19\, νεότερα δεδομένα στην αντιμετώπιση της σοβαρής παχυσαρκίας\, η σημασία της εκπαίδευσης στη διαχείριση του Σακχαρώδη Διαβήτη τύπου 1\, προκλήσεις μετά τη μεταμόσχευση νεφρού στα παιδιά καθώς και επίκαιρα θέματα της εφηβείας.\nΗ συμμετοχή στο συμπόσιο είναι δωρεάν.\nΘα χορηγηθούν μόρια συνεχιζόμενης Ιατρικής Εκπαίδευσης (CME-CPD credits)
URL:https://endo.gr/en/event/7o-%cf%80%ce%b1%ce%bd%ce%b5%ce%bb%ce%bb%ce%ae%ce%bd%ce%b9%ce%bf-%ce%b5%cf%80%ce%b9%cf%83%cf%84%ce%b7%ce%bc%ce%bf%ce%bd%ce%b9%ce%ba%cf%8c-%cf%83%cf%85%ce%bc%cf%80%cf%8c%cf%83%ce%b9%ce%bf-%cf%84%ce%b7/
LOCATION:7o Πανελλήνιο Επιστημονικό Συμπόσιο
CATEGORIES:Εκδηλώσεις E.E.E.
ATTACH;FMTTYPE=image/jpeg:https://endo.gr/wp-content/uploads/2025/01/Poster-A3-7ο-Παχυσαρκίας-final-press_HYBRID-scaled-1.jpg
END:VEVENT
END:VCALENDAR