BEGIN:VCALENDAR
VERSION:2.0
PRODID:-//ENDO - ECPv6.15.14//NONSGML v1.0//EN
CALSCALE:GREGORIAN
METHOD:PUBLISH
X-ORIGINAL-URL:https://endo.gr/en
X-WR-CALDESC:Events for ENDO
REFRESH-INTERVAL;VALUE=DURATION:PT1H
X-Robots-Tag:noindex
X-PUBLISHED-TTL:PT1H
BEGIN:VTIMEZONE
TZID:Europe/Athens
BEGIN:DAYLIGHT
TZOFFSETFROM:+0200
TZOFFSETTO:+0300
TZNAME:EEST
DTSTART:20210328T010000
END:DAYLIGHT
BEGIN:STANDARD
TZOFFSETFROM:+0300
TZOFFSETTO:+0200
TZNAME:EET
DTSTART:20211031T010000
END:STANDARD
BEGIN:DAYLIGHT
TZOFFSETFROM:+0200
TZOFFSETTO:+0300
TZNAME:EEST
DTSTART:20220327T010000
END:DAYLIGHT
BEGIN:STANDARD
TZOFFSETFROM:+0300
TZOFFSETTO:+0200
TZNAME:EET
DTSTART:20221030T010000
END:STANDARD
BEGIN:DAYLIGHT
TZOFFSETFROM:+0200
TZOFFSETTO:+0300
TZNAME:EEST
DTSTART:20230326T010000
END:DAYLIGHT
BEGIN:STANDARD
TZOFFSETFROM:+0300
TZOFFSETTO:+0200
TZNAME:EET
DTSTART:20231029T010000
END:STANDARD
END:VTIMEZONE
BEGIN:VEVENT
DTSTART;TZID=Europe/Athens:20221113T103000
DTEND;TZID=Europe/Athens:20221113T163000
DTSTAMP:20260423T162940
CREATED:20221113T122940Z
LAST-MODIFIED:20250120T123151Z
UID:21351-1668335400-1668357000@endo.gr
SUMMARY:ΠΑΓΚΟΣΜΙΑ ΗΜΕΡΑ ΔΙΑΒΗΤΗ – ΕΚΔΗΛΩΣΗ ΜΕΤΡΟ ΣΥΝΤΑΓΜΑΤΟΣ\, ΚΥΡΙΑΚΗ 13 ΝΟΕΜΒΡΙΟΥ 2022
DESCRIPTION:Δείτε εδώ το Δελτίο Τύπου  \nΜε σύνθημα «Είναι θέμα εκπαίδευσης – Μαθαίνουμε για το Διαβήτη – Φροντίζουμε για το μέλλον μας»\, σας καλούμε στην ανοιχτή εκδήλωση για το κοινό\, την Κυριακή 13 Νοεμβρίου 2022\, 10:30-16:30\, στην αίθουσα του Μετρό Συντάγματος\, με την ευγενή πρόθεση την ενημέρωση του κοινού. \nΗ εκδήλωση αυτή είναι οργάνωση της Ελληνικής Ενδοκρινολογικής Εταιρείας\, του Συλλόγου Διαβητικών Αθήνας και της Λέσχης Αρχιμαγείρων Αττικής “Ακρόπολις”. \nΚατά τη διάρκεια της εκδήλωσης\, θα γίνει ενημέρωση και προληπτικός έλεγχος προς το ενδιαφερόμενο κοινό για τα παρακάτω: \n1. Μάθε το ΔΜΣ σου- Μην υποτιμάς το βάρος σου.\n2. Διατροφή & Άσκηση.\n3. Πρόλαβε το Σακχαρώδη Διαβήτη – έλεγχος παραγόντων κινδύνου για την ανάπτυξη διαβήτη.\n4. Χρήση αντλιών ινσουλίνης και συστημάτων συνεχούς καταγραφής γλυκόζης στο Σακχαρώδη Διαβήτη.\n5. Επίδειξη παρασκευής υγιεινού σνακ. \nΕπίσης θα γίνεται μέτρηση σακχάρου\, διανομή ενημερωτικού υλικού και προβολή ενημερωτικών βίντεο. \nΣας περιμένουμε \nΕΛΛΗΝΙΚΗ ΕΝΔΟΚΡΙΝΟΛΟΓΙΚΗ ΕΤΑΙΡΕΙΑ – ΠΑΝΕΛΛΗΝΙΑ ΕΝΩΣΗ ΕΝΔΟΚΡΙΝΟΛΟΓΩΝ
URL:https://endo.gr/en/event/%cf%80%ce%b1%ce%b3%ce%ba%ce%bf%cf%83%ce%bc%ce%b9%ce%b1-%ce%b7%ce%bc%ce%b5%cf%81%ce%b1-%ce%b4%ce%b9%ce%b1%ce%b2%ce%b7%cf%84%ce%b7-%ce%b5%ce%ba%ce%b4%ce%b7%ce%bb%cf%89%cf%83%ce%b7-%ce%bc%ce%b5/
LOCATION:ΜΕΤΡΟ ΣΥΝΤΑΓΜΑΤΟΣ
CATEGORIES:Εκδηλώσεις E.E.E.
ATTACH;FMTTYPE=image/jpeg:https://endo.gr/wp-content/uploads/2025/01/Afisa_pagosmia-imera-diaviti-2022-002-217x300-1.jpg
END:VEVENT
BEGIN:VEVENT
DTSTART;TZID=Europe/Athens:20221114T090000
DTEND;TZID=Europe/Athens:20221114T150000
DTSTAMP:20260423T162940
CREATED:20221114T122626Z
LAST-MODIFIED:20250120T122930Z
UID:21344-1668416400-1668438000@endo.gr
SUMMARY:Περίπτερο Ενημέρωσης των πολιτών για τον Σακχαρώδη Διαβήτη
DESCRIPTION:Σας ενημερώσουμε ότι το Περίπτερο Ενημέρωσης των πολιτών για τον Σακχαρώδη Διαβήτη θα βρίσκεται στον αύλειο χώρο του Ζάππειου Μεγάρου\, στο πλάι του κτιρίου\, από τις 9.00-15.00\, τη Δευτέρα 14 Νοεμβρίου. Η είσοδος στο χώρο είναι από την είσοδο επί της Βασ. Όλγας. \nΔείτε εδώ το Δελτίο Τύπου και το ενημερωτικό φυλλάδιο. \n\n\n\nEdit \n 
URL:https://endo.gr/en/event/%cf%80%ce%b5%cf%81%ce%af%cf%80%cf%84%ce%b5%cf%81%ce%bf-%ce%b5%ce%bd%ce%b7%ce%bc%ce%ad%cf%81%cf%89%cf%83%ce%b7%cf%82-%cf%84%cf%89%ce%bd-%cf%80%ce%bf%ce%bb%ce%b9%cf%84%cf%8e%ce%bd-%ce%b3%ce%b9%ce%b1/
LOCATION:Περίπτερο Ενημέρωσης των πολιτών
CATEGORIES:Εκδηλώσεις E.E.E.
ATTACH;FMTTYPE=image/jpeg:https://endo.gr/wp-content/uploads/2025/01/Pages-from-Layout-2-1-150x150-1.jpg
END:VEVENT
BEGIN:VEVENT
DTSTART;VALUE=DATE:20221118
DTEND;VALUE=DATE:20221121
DTSTAMP:20260423T162940
CREATED:20221118T122335Z
LAST-MODIFIED:20250120T122557Z
UID:21340-1668729600-1668988799@endo.gr
SUMMARY:ΠΑΝΕΛΛΗΝΙΟ “ΑΜΦΙΛΕΓΟΜΕΝΑ ΘΕΜΑΤΑ ΣΤΗΝ ΕΝΤΑΤΙΚΗ” | 18-20 ΝΟΕΜΒΡΙΟΥ | ΚΑΛΑΜΑΤΑ Δεν υπάρχει Χάρτης Ημερομηνία / Ώρα
DESCRIPTION:Σας ενημερώνουμε για τη διοργάνωση του Πανελλήνιου Συμποσίου «Αμφιλεγόμενα Θέματα στην Εντατική»\, που διοργανώνει η Ελληνική Εταιρεία Εντατικής Θεραπείας\, στο Elite Blue Conference Center\, στην Καλαμάτα\, από 18 έως 20 Νοεμβρίου 2022.
URL:https://endo.gr/en/event/%cf%80%ce%b1%ce%bd%ce%b5%ce%bb%ce%bb%ce%b7%ce%bd%ce%b9%ce%bf-%ce%b1%ce%bc%cf%86%ce%b9%ce%bb%ce%b5%ce%b3%ce%bf%ce%bc%ce%b5%ce%bd%ce%b1-%ce%b8%ce%b5%ce%bc%ce%b1%cf%84%ce%b1-%cf%83%cf%84%ce%b7/
LOCATION:ΚΑΛΑΜΑΤΑ
CATEGORIES:Εκδηλώσεις E.E.E.
ATTACH;FMTTYPE=image/png:https://endo.gr/wp-content/uploads/2025/01/Picture1-2-300x58-1.png
END:VEVENT
BEGIN:VEVENT
DTSTART;TZID=Europe/Athens:20221119T080000
DTEND;TZID=Europe/Athens:20221119T170000
DTSTAMP:20260423T162940
CREATED:20221119T122149Z
LAST-MODIFIED:20250120T122310Z
UID:21338-1668844800-1668877200@endo.gr
SUMMARY:Webinar 19/11/2022\, Παρουσίαση περιστατικών ΓΝΑ «ΕΥΑΓΓΕΛΙΣΜΟΣ»\, ΓΝΑ «Γ. ΓΕΝΝΗΜΑΤΑΣ»\, ΓΝΠ «ΑΓΙΟΣ ΠΑΝΤΕΛΕΗΜΩΝ»
DESCRIPTION:Αγαπητοί Συνάδελφοι\, \nΤο Σάββατο 19/11/2022 στις 11.00 π.μ. πραγματοποιείται το Webinar της Ελληνικής Ενδοκρινολογικής Εταιρείας\, στο πλαίσιο των μετεκπαιδευτικών της μαθημάτων μέσω διαδικτύου για το 2022. \n1ο Περιστατικό\, ΓΝΑ «ΕΥΑΓΓΕΛΙΣΜΟΣ» \nΤίτλος: Γυναίκα 69 ετών με καχεξία\, βαρειά καρδιακή ανεπάρκεια\, δερματικό εξάνθημα και όγκο του παγκρέατος \nΥπεύθυνος: Στυλιανός Τσαγκαράκης\, Συντονιστής Διευθυντής\, Ενδοκρινολογικής Κλινικής\, Διαβητολογικού Κέντρου και Κέντρου Εμπειρογνωμοσύνης Σπανίων Ενδοκρινικών νοσημάτων ΓΝΑ «Ο Ευαγγελισμός – Πολυκλινική». \nΠαρουσίαση: Β. Αντωνοπούλου\, ειδικευόμενη ιατρός τμήματος Ενδοκρινολογίας-Διαβητολογικού κέντρου ΓΝΑ «Ο Ευαγγελισμός»\nΓ. Κυριακόπουλος\, Επιμελητής Β\, Παθολογοανατομικό Τμήμα\, ΓΝΑ «Ο Ευαγγελισμός»\nΔήμητρα-Αργυρώ Βασιλειάδη\, Διευθύντρια Ενδοκρινολογικής Κλινικής\, Διαβητολογικού Κέντρου και Κέντρου Εμπειρογνωμοσύνης Σπανίων\nΕνδοκρινικών Νοσημάτων ΓΝΑ «Ο Ευαγγελισμός». \nΣχολιασμός: Κρυσταλλένια Αλεξανδράκη\, MD\, PhD\, MSc\, MSc\, Ενδοκρινολόγος\, Επιστημονικός Συνεργάτης Β’ Χειρουργικής Κλινικής\, Αρεταίειο Νοσοκομείο\, ΕΚΠΑ \n————————————————————————–\n2o Περιστατικό: ΓΝΑ «Γ. ΓΕΝΝΗΜΑΤΑΣ» \nΤίτλος: Υπονατριαιμία \nΗ υπονατριαιμία αποτελεί την πιο συχνή ηλεκτρολυτική διαταραχή που απαντάται στην κλινική πράξη. Παρατηρείται στο 30% των νοσηλευόμενων ασθενών και χαρακτηρίζεται από ένα ευρύ φάσμα κλινικών εκδηλώσεων\, οι οποίες μπορεί να είναι ήπιες έως και απειλητικές για τη ζωή του ασθενούς. Τα αίτια της υπονατριαιμίας είναι πολλαπλά\, έχουν διαφορετικούς παθοφυσιολικούς μηχανισμούς ενώ μπορούν και να συνυπάρχουν δυσχεραίνοντας τη θεραπευτική αντιμετώπιση της υπονατριαιμίας. Παρουσιάζουμε δύο περιπτώσεις νοσηλευόμενων ασθενών με υπονατριαιμία\, την διαγνωστική προσέγγιση των αιτιών της καθώς και τις προκλήσεις στην αντιμετώπιση της. \nΥπεύθυνη: Θεοδώρα Κουνάδη\, Ενδοκρινολόγος\, Διευθύντρια Ενδοκρινολογικής Μονάδας\, Μεταβολισμού & Κέντρου Διαβήτη ΓΝΑ “Γ. Γεννηματάς”.\nΠαρουσίαση: Καλιακάτσου Ειρήνη\, Ειδικευόμενη Ενδοκρινολογίας\nΚαλαντζή Αθανασία\, Ενδοκρινολόγος\, Επικουρική Επιμελήτρια \nΣχολιασμός: Σαριδάκη Αικατερίνη\, Ιατρός Ενδροκρινολόγος\, πρ. Διευθύντρια ΕΣΥ Ηράκλείο Κρήτης\, Διευθύντρια Β Ενδοκρινολογικού\, Σύμβουλος Ενδοκρινολόγος Γενικό Νοσοκομείο Ευρωκλινικής Αθηνών \n————————————————————————————–\n3ο Περιστατικό: ΓΝΠ «ΑΓΙΟΣ ΠΑΝΤΕΛΕΗΜΩΝ» \nΤίτλος: Μικτό καρκίνωμα θυρεοειδούς αδένα και μόρφωμα επινεφριδίου \nΠεριγράφουμε την περίπτωση ασθενούς\, ο οποίος προσήλθε προς αξιολόγηση υπερηχογραφήματος θυρεοειδούς\, που είχε κάνει στα πλαίσια γενικού ελέγχου.\nΣυγκεκριμένα\, αναφέρονται τα βήματα της διαγνωστικής προσέγγισης ασθενούς με οζώδη νόσο θυρεοειδούς\, καθώς και οι θεραπευτικές επιλογές σύμφωνα με τα αποτελέσματα\, τόσο του εργαστηριακού – απεικονιστικού ελέγχου\, όσο και του πορίσματος των ιστολογικών εξετάσεων.\nΑνεξάρτητα από το γεγονός\, ότι η συχνότητα του καρκίνου του θυρεοειδούς έχει αυξηθεί σημαντικά τα τελευταία χρόνια\, η ταυτόχρονη εμφάνιση πολλαπλών όγκων σε έναν θυρεοειδή αδένα είναι ακόμη ένα σπάνιο φαινόμενο.\nΈχουν προταθεί διάφορες θεωρίες ως αίτια σύγχρονης εκδήλωσης θηλώδους και μυελοειδούς καρκινώματος\, ωστόσο ο ακριβής μηχανισμός παραμένει αδιευκρίνιστος.\nΕπιπλέον\, η παρουσία μυελοειδούς καρκινώματος και μορφώματος επινεφριδίου σε έναν ασθενή\, χρήζει περαιτέρω ελέγχου\, στα πλαίσια διερεύνησης υποκείμενων γενετικών συνδρόμων. \nΥπεύθυνος: Χαράλαμπος Τσεντίδης\, Επιμελητής Α’ ΕΣΥ\, Επιστημονικά υπεύθυνος του τμήματος Ενδοκρινολογίας – Μεταβολισμού – Σακχαρώδη Διαβήτη του Γ.Ν.\nΝίκαιας-Πειραιώς «Άγιος Παντελεήμων» \nΠαρουσίαση: Λυμνιάτη Χριστίνα\, Ενδοκρινολόγος\, Επιμελήτρια Β΄ Ε.Σ.Υ. Γ. Ν. Νίκαιας Πειραιά «ΑΓ. Παντελεήμων» \nΣχολιασμός: Λαμπρινή Παπαναστασίου\, Ενδοκρινολόγος\, Διευθύντρια ΓΝΑ “Γ. Γεννηματάς” \nΠροκειμένου να παρακολουθήσετε ελεύθερα το webinar\, μπορείτε να προεγγραφείτε μέσω της διεύθυνσης:\nhttps://attendee.gotowebinar.com/register/2534121841252075024 \n(Webinar ID: 177-609-867) \nσυμπληρώνοντας το ονοματεπώνυμό σας και το email σας στη φόρμα εγγραφής\, ώστε να λάβετε αυτόματα ένα νέο e-mail που θα περιέχει τον σύνδεσμο (link) μέσω του οποίου θα μεταδοθεί το webinar. \nΠροσβλέποντας πάντα στην πολύτιμη ενεργό συμμετοχή σας. \nΓια την Ελληνική Ενδοκρινολογική Εταιρεία. \nΜε εκτίμηση\, \nΗ Πρόεδρος \nΑ. Βρυωνίδου
URL:https://endo.gr/en/event/webinar-19-11-2022-%cf%80%ce%b1%cf%81%ce%bf%cf%85%cf%83%ce%af%ce%b1%cf%83%ce%b7-%cf%80%ce%b5%cf%81%ce%b9%cf%83%cf%84%ce%b1%cf%84%ce%b9%ce%ba%cf%8e%ce%bd-%ce%b3%ce%bd%ce%b1-%ce%b5%cf%85%ce%b1/
LOCATION:Webinar Παρουσίαση περιστατικών
CATEGORIES:Webinars παρουσίασης περιστατικών,Εκδηλώσεις E.E.E.
END:VEVENT
BEGIN:VEVENT
DTSTART;VALUE=DATE:20221125
DTEND;VALUE=DATE:20221126
DTSTAMP:20260423T162940
CREATED:20221125T121604Z
LAST-MODIFIED:20250120T122124Z
UID:21333-1669334400-1669420799@endo.gr
SUMMARY:36η Μετεκπαιδευτική Συνάντηση\, 25-27 Νοεμβρίου 2022\, Domotel Xenia
DESCRIPTION:  \nΔείτε εδώ το πρόγραμμα \nΗ ΕΕΕ-ΠΕΕ διοργανώνει την 36η Μετεκπαιδευτική Συνάντηση\, από 25-27 Νοεμβρίου 2022\, στο Βόλο (Domotel Xenia). \nΓια πληροφορίες: \n \nΣυνέδρια\, Εκδηλώσεις\, Ταξίδια Κινήτρων & Επαγγελματικά\, Τουρισμός Αναψυχής\nΑσκληπιού 17\, 10680\, Αθήνα\n+30 210.36.34.944\n+30 210.36.31.690\ninfo@era.gr\nwww.era.gr
URL:https://endo.gr/en/event/36%ce%b7-%ce%bc%ce%b5%cf%84%ce%b5%ce%ba%cf%80%ce%b1%ce%b9%ce%b4%ce%b5%cf%85%cf%84%ce%b9%ce%ba%ce%ae-%cf%83%cf%85%ce%bd%ce%ac%ce%bd%cf%84%ce%b7%cf%83%ce%b7-25-27-%ce%bd%ce%bf%ce%b5%ce%bc%ce%b2%cf%81/
LOCATION:Domotel Xenia
CATEGORIES:Εκδηλώσεις E.E.E.
ATTACH;FMTTYPE=image/png:https://endo.gr/wp-content/uploads/2025/01/36h-SYNANTHSH_POSTER-3.3-1-150x150-1.png
END:VEVENT
END:VCALENDAR