BEGIN:VCALENDAR
VERSION:2.0
PRODID:-//ENDO - ECPv6.15.14//NONSGML v1.0//EN
CALSCALE:GREGORIAN
METHOD:PUBLISH
X-WR-CALNAME:ENDO
X-ORIGINAL-URL:https://endo.gr/en
X-WR-CALDESC:Events for ENDO
REFRESH-INTERVAL;VALUE=DURATION:PT1H
X-Robots-Tag:noindex
X-PUBLISHED-TTL:PT1H
BEGIN:VTIMEZONE
TZID:Europe/Athens
BEGIN:DAYLIGHT
TZOFFSETFROM:+0200
TZOFFSETTO:+0300
TZNAME:EEST
DTSTART:20220327T010000
END:DAYLIGHT
BEGIN:STANDARD
TZOFFSETFROM:+0300
TZOFFSETTO:+0200
TZNAME:EET
DTSTART:20221030T010000
END:STANDARD
BEGIN:DAYLIGHT
TZOFFSETFROM:+0200
TZOFFSETTO:+0300
TZNAME:EEST
DTSTART:20230326T010000
END:DAYLIGHT
BEGIN:STANDARD
TZOFFSETFROM:+0300
TZOFFSETTO:+0200
TZNAME:EET
DTSTART:20231029T010000
END:STANDARD
BEGIN:DAYLIGHT
TZOFFSETFROM:+0200
TZOFFSETTO:+0300
TZNAME:EEST
DTSTART:20240331T010000
END:DAYLIGHT
BEGIN:STANDARD
TZOFFSETFROM:+0300
TZOFFSETTO:+0200
TZNAME:EET
DTSTART:20241027T010000
END:STANDARD
END:VTIMEZONE
BEGIN:VEVENT
DTSTART;VALUE=DATE:20230121
DTEND;VALUE=DATE:20230618
DTSTAMP:20260423T220729
CREATED:20230120T220008Z
LAST-MODIFIED:20250117T093123Z
UID:20845-1674259200-1687046399@endo.gr
SUMMARY:Mαθήματα Εργαστηριακής Ανδρολογίας
DESCRIPTION:Μετά την διακοπή στις εκπαιδευτικές διαδικασίες που επέβαλε ο Covid\, το εργαστήριο Ιστολογίας-Εμβρυολογίας της Ιατρικής Σχολής του ΕΚΠΑ διοργανώνει για 8η χρονιά τα μαθήματα Εργαστηριακής Ανδρολογίας. \n1. Πρόγραμμα μαθ.1 21-1-2023 \n2. Πρόγραμμα μαθ. 2 11-2-2023 \n3. Πρόγραμμα μαθ. 3 18-3-2023 \n4. Πρόγραμμα μαθ. 4 8-4-2023 \n5. Πρόγραμμα μαθ. 5 6-5-2023 \n6. Πρόγραμμα μαθ. 6 17-6-2023 \n 
URL:https://endo.gr/en/event/m%ce%b1%ce%b8%ce%ae%ce%bc%ce%b1%cf%84%ce%b1-%ce%b5%cf%81%ce%b3%ce%b1%cf%83%cf%84%ce%b7%cf%81%ce%b9%ce%b1%ce%ba%ce%ae%cf%82-%ce%b1%ce%bd%ce%b4%cf%81%ce%bf%ce%bb%ce%bf%ce%b3%ce%af%ce%b1%cf%82/
LOCATION:Mαθήματα Εργαστηριακής Ανδρολογίας
CATEGORIES:Εκδηλώσεις E.E.E.,Υπό την αιγίδα της Εταιρείας
ATTACH;FMTTYPE=image/jpeg:https://endo.gr/wp-content/uploads/2025/01/Untitled-1-206x300-1.jpg
END:VEVENT
BEGIN:VEVENT
DTSTART;VALUE=DATE:20230601
DTEND;VALUE=DATE:20230603
DTSTAMP:20260423T220730
CREATED:20230531T210059Z
LAST-MODIFIED:20250116T121153Z
UID:20886-1685577600-1685750399@endo.gr
SUMMARY:Διημερίδα Πολυτραυματίας και Λοιμώξεις\, 1 και 2 Ιουνίου 2023\, Αμφιθέατρο Γ.Ν.Α “Ο Ευαγγελισμός”
DESCRIPTION:Σας ενημερώνουμε για τη διεξαγωγή της Διημερίδας Πολυτραυματίας και Λοιμώξεις\, που θα πραγματοποιηθεί την 1 και 2 Ιουνίου 2023 στο Αμφιθέατρο Γ.Ν.Α “Ο Ευαγγελισμός”\, και διοργανώνεται από την Α’ Κλινική Εντατικής Θεραπείας του Εθνικού Καποδιστριακού Πανεπιστημίου Αθηνών. \nΗ Διημερίδα θα μοριοδοτηθεί από τον Πανελλήνιο Ιατρικό Σύλλογο. \nΣτοιχεία Εκδήλωσης: Πολυτραυματίας και Λοιμώξεις \nΔιοργάνωση: Α’ Κλινική Εντατικής Θεραπείας Εθνικού και Καποδιστριακού Πανεπιστημίου Αθηνών \nΗμερομηνία Διεξαγωγής: 1 και 2 Ιουνίου 2023 \nΧώρος Διεξαγωγής: Αμφιθέατρο Γ.Ν.Α “Ο Ευαγγελισμός” \nΕπίσημη ιστοσελίδα: https://icu-trauma2023.concopco.com \nE – mail: dnikolopoulou@concopco.com \n  \nΘεματολογία \nΝεότερα Δεδομένα στην Εκτίμηση και Διαλογή (Triage) του Πολυτραυματία \nΟ Σύγχρονος Ρόλος του Νοσηλευτή στην Εκτίμηση και Διαλογή του Πολυτραυματία \nΚέντρα Επείγουσας Χειρουργικής και Τραύματος – Σύγχρονα Δεδομένα \nΔιαχείριση Αεραγωγού \nΗ Συμβολή της Αξονικής Τομογραφίας στην Εκτίμηση της Βαρύτητας της Κάκωσης \nΚρανιοεγκεφαλικές Κακώσεις \nΚακώσεις Σπονδυλικής Στήλης \nΚακώσεις Τραχήλου \nΤραύμα Θώρακος \nΚακώσεις Συμπαγών Οργάνων Κοιλίας \nΚακώσεις Σπλαχνικών και Περιφερικών Αγγείων \nΚακώσεις Νεφρού και Ουροδόχου Κύστεως \nΚακώσεις Κοίλων Σπλάχνων \nΚακώσεις Πυελικού Δακτυλίου \nΑνοιχτές Κακώσεις Άκρων \nΗ Θέση της Επεμβατικής Ακτινολογίας στην Αντιμετώπιση της Αιμορραγίας
URL:https://endo.gr/en/event/%ce%b4%ce%b9%ce%b7%ce%bc%ce%b5%cf%81%ce%af%ce%b4%ce%b1-%cf%80%ce%bf%ce%bb%cf%85%cf%84%cf%81%ce%b1%cf%85%ce%bc%ce%b1%cf%84%ce%af%ce%b1%cf%82-%ce%ba%ce%b1%ce%b9-%ce%bb%ce%bf%ce%b9%ce%bc%cf%8e%ce%be/
LOCATION:Αμφιθέατρο Γ.Ν.Α “Ο Ευαγγελισμός”
CATEGORIES:Εκδηλώσεις E.E.E.
ATTACH;FMTTYPE=image/jpeg:https://endo.gr/wp-content/uploads/2025/01/ΑΦΙΣΑ_ΠΟΛΥΤΡΑΥΜΑΤΙΑΣ-200x300-1.jpg
END:VEVENT
BEGIN:VEVENT
DTSTART;VALUE=DATE:20230609
DTEND;VALUE=DATE:20230611
DTSTAMP:20260423T220730
CREATED:20250115T100908Z
LAST-MODIFIED:20250116T121331Z
UID:20889-1686268800-1686441599@endo.gr
SUMMARY:8o Σεμινάριο Τεχνολογίας στο Σακχαρώδη Διαβήτη\, 9-10/6/2023\, Μέγαρο Μουσικής\, Θεσσαλονίκη
DESCRIPTION:Δείτε εδώ το πρόγραμμα \nH Ελληνική Ενδοκρινολογική Εταιρεία – Πανελλήνια Ένωση Ενδοκρινολόγων διοργανώνει το 8ο Σεμινάριο Τεχνολογίας στο Σακχαρώδη Διαβήτη\, στις 9 και 10 Ιουνίου 2023\, στο Μέγαρο Μουσικής\, στη Θεσσαλονίκη. \nΣύμφωνα με τα κριτήρια της UEMS – EACCME θα χορηγηθούν 9 μόρια Συνεχιζόμενης Ιατρικής Εκπαίδευσης (CME-CPD credits). \n \n \n \n  \n \n\n\n\n  \n  \n  \n  \n  \n  \n  \n  \n  \n 
URL:https://endo.gr/en/event/8o-%cf%83%ce%b5%ce%bc%ce%b9%ce%bd%ce%ac%cf%81%ce%b9%ce%bf-%cf%84%ce%b5%cf%87%ce%bd%ce%bf%ce%bb%ce%bf%ce%b3%ce%af%ce%b1%cf%82-%cf%83%cf%84%ce%bf-%cf%83%ce%b1%ce%ba%cf%87%ce%b1%cf%81%cf%8e%ce%b4%ce%b7/
LOCATION:Μέγαρο Μουσικής\, Θεσσαλονίκη
CATEGORIES:Εκδηλώσεις E.E.E.
END:VEVENT
BEGIN:VEVENT
DTSTART;VALUE=DATE:20230615
DTEND;VALUE=DATE:20230618
DTSTAMP:20260423T220730
CREATED:20230614T210034Z
LAST-MODIFIED:20250116T121429Z
UID:20892-1686787200-1687046399@endo.gr
SUMMARY:World Congress on Thyroid Cancer June 15-17\, 2023
DESCRIPTION:WCTC is pleased to announce that our next in-person meeting will be in the fabulous city of London\, UK June 15-17\, 2023. \nUnder the direction of Dr. Neil Tolley and the WCTC Board\, an exceptional educational program is being designed in addition to the opportunity to re-connect with our global colleagues. \nWe look forward to welcoming you to London next June.
URL:https://endo.gr/en/event/world-congress-on-thyroid-cancer-june-15-17-2023/
LOCATION:World Congress
CATEGORIES:Εκδηλώσεις E.E.E.
ATTACH;FMTTYPE=image/jpeg:https://endo.gr/wp-content/uploads/2025/01/wctc-banner-2023-300x67-1.jpg
END:VEVENT
BEGIN:VEVENT
DTSTART;TZID=Europe/Athens:20230624T080000
DTEND;TZID=Europe/Athens:20230624T170000
DTSTAMP:20260423T220730
CREATED:20230624T070027Z
LAST-MODIFIED:20250116T121517Z
UID:20895-1687593600-1687626000@endo.gr
SUMMARY:Webinar 24/6/2023\, Παρουσίαση περιστατικών ΠΓΝ ΛΑΡΙΣΑΣ\, 251 ΓΕΝΙΚΟ ΝΟΣΟΚΟΜΕΙΟ ΑΕΡΟΠΟΡΙΑΣ\, ΠΓΝ ΙΩΑΝΝΙΝΩΝ
DESCRIPTION:Αγαπητοί Συνάδελφοι\, \nΤο Σάββατο 24/6/2023 στις 10.00 π.μ. πραγματοποιείται το Webinar της Ελληνικής Ενδοκρινολογικής Εταιρείας\, στο πλαίσιο των μετεκπαιδευτικών της μαθημάτων μέσω διαδικτύου για το 2023. \nΠΕΡΙΣΤΑΤΙΚΟ ΠΓΝ ΛΑΡΙΣΑΣ   – ΣΑΒΒΑΤΟ 24.06.2023\, ΩΡΑ 10:00 – 10:45 \nΤίτλος: Ασθενής με θηλώδες καρκίνωμα του θυρεοειδούς αδένα και αιμορραγική δερματική βλάβη της πρόσθιας τραχηλικής χώρας \nΓυναίκα 79 ετών με χειρουργηθέν θηλώδες καρκίνωμα θυρεοειδούς αδένα με υποτροποιάζουσα συμπεριφορά και πολλαπλούς λεμφαδενικούς καθαρισμούς. Εμφανίζει από μηνός μια ταχέως αναπτυσσόμενη αιμορραγική δερματική βλάβη της πρόσθιας τραχηλικής χώρας ενώ από τον εργαστηριακό έλεγχο αναγνωρίζεται εκσεσημασμένη λευκοκυττάρωση. \nΥπεύθυνη:  Αλεξάνδρα Μπαργιώτα\, Αναπληρώτρια Καθηγήτρια Παθολογίας- Ενδοκρινολογίας Διευθύντρια Κλινικής Ενδοκρινολογίας και Μεταβολικών Νόσων \nΠαρουσίαση: Μπάρμπα Ελευθερία\, ειδικευόμενη\, Ενδοκρινολογική κλινική ΠΓΝ Λάρισας \nΣχολιασμός: Μαρίνα Μιχαλάκη\, Επίκουρη Καθηγήτρια Παθολογίας – Ενδοκρινολογίας\, Ιατρικού τμήματος Πανεπιστημίου Πατρών \n—————————————————————————————————————– \nΠΕΡΙΣΤΑΤΙΚΟ 251 ΓΕΝΙΚΟ ΝΟΣΟΚΟΜΕΙΟ ΑΕΡΟΠΟΡΙΑΣ   –  ΣΑΒΒΑΤΟ 24.06.2023 ΩΡΑ 11:00 – 11:45 \nΤίτλος: Γυναίκα με οστεομαλακία λόγω έλλειψης βιταμίνης D μετά από βαριατρική επέμβαση με Roux-en-Y Gastric Bypass (RYGB). Διαφορική Διάγνωση και αντιμετώπιση \nΆσθενής 45 ετών παραπέμπεται από Παθολογική Κλινική λόγω αυξημένων τιμών PTH. Μετά από κλινικοεργαστηριακό έλεγχο τίθεται η διάγνωση της οστεομαλακίας και η ασθενής τίθεται σε κατάλληλη φαρμακευτική αγωγή \nΥπεύθυνος:  Παναγιώτης Κόκκορης\, Διευθυντής Ενδοκρινολογικής Κλινικής 251 ΓΝΑ \nΠαρουσίαση: Χρήστος Γραββάνης\, Επιμελητής Ενδοκρινολογικής Κλινικής 251 ΓΝΑ \nΣχολιασμός:  Γεώργιος Τροβάς\, Ενδοκρινολόγος\, ΕΕΠΜΣ\, ΕΚΠΑ\, Νοσοκομείο ΚΑΤ \n————————————————————————————————- \nΠΕΡΙΣΤΑΤΙΚΟ ΠΓΝ ΙΩΑΝΝΙΝΩΝ  – ΣΑΒΒΑΤΟ 24.06.2023\, ΩΡΑ 11:45 – 12:30 \nΤίτλος: Γυναίκα 70 ετών με γνωστό σακχαρώδη διαβήτη\, πρόσφατη απώλεια βάρους και πτωχό γλυκαιμικό έλεγχο \nΠερίληψη: Παρουσιάζεται η περίπτωση γυναίκας 70 ετών με ιστορικό σακχαρώδη διαβήτη από επταετίας που παραπέμφθηκε στην Ενδοκρινολογική Κλινική – Διαβητολογικό Κέντρο του Παν. Γεν. Νοσοκoμείου Ιωαννίνων λόγω πρόσφατης απώλειας βάρους\, πτωχού γλυκαιμικού ελέγχου (A1c 9.3%) και ωσμωτικών συμπτωμάτων (πολυουρία\, πολυδιψία) με συνοδό αδυναμία και ναυτία. Είχε προηγηθεί εκτεταμένος εργαστηριακός έλεγχος που δεν ανέδειξε παθολογικά ευρήματα πέρα από εικόνα ατροφικής γαστρίτιδας στο άντρο του στομάχου στη γαστροσκόπηση. Η αντιδιαβητική αγωγή περιλάμβανε συνδυασμό μετφορμίνης και λιναγλιπτίνης\, βασική ινσουλίνη από έτους ενώ από τετραμήνου είχε προστεθεί και γευματική ινσουλίνη. \nΥπεύθυνος:  Στυλιανός Τίγκας\, Αν. Καθηγητής Ενδοκρινολογίας\, Τμήμα Ιατρικής\, Πανεπιστήμιο Ιωαννίνων \nΔιευθυντής Ενδοκρινολογικής Κλινικής & Διαβητολογικού Κέντρου ΠΓΝΙ \nΠαρουσίαση: Πασχάλης Καραγκιοζάκης\, ειδικευόμενος Ενδοκρινολογίας\, Ενδοκρινολογική Κλινική ΠΓΝΙ \nΣχολιασμός:  Σώμαλη Μαρία\, Ενδοκρινολόγος\, Τμήμα Ενδοκρινολογίας\, Μεταβολισμού και Σακχαρώδη Διαβήτη\, Διαβητολογικό Κέντρο\, Euromedica\, Γενική Κλινική Θεσσαλονίκης \n——————————————————————————————————- \nΠροκειμένου να παρακολουθήσετε ελεύθερα το webinar\, μπορείτε να προεγγραφείτε μέσω της διεύθυνσης: \nhttps://attendee.gotowebinar.com/register/3742434547655901019\n(Webinar ID: 120-162-163) \nσυμπληρώνοντας το ονοματεπώνυμό σας και το email σας στη φόρμα εγγραφής\, ώστε να λάβετε αυτόματα ένα νέο e-mail που θα περιέχει τον σύνδεσμο (link) μέσω του οποίου θα μεταδοθεί το webinar.
URL:https://endo.gr/en/event/webinar-24-6-2023-%cf%80%ce%b1%cf%81%ce%bf%cf%85%cf%83%ce%af%ce%b1%cf%83%ce%b7-%cf%80%ce%b5%cf%81%ce%b9%cf%83%cf%84%ce%b1%cf%84%ce%b9%ce%ba%cf%8e%ce%bd-%cf%80%ce%b3%ce%bd-%ce%bb%ce%b1%cf%81%ce%b9/
LOCATION:Webinar Παρουσίαση περιστατικών
CATEGORIES:Webinars παρουσίασης περιστατικών,Εκδηλώσεις E.E.E.
END:VEVENT
END:VCALENDAR