BEGIN:VCALENDAR
VERSION:2.0
PRODID:-//ENDO - ECPv6.15.14//NONSGML v1.0//EN
CALSCALE:GREGORIAN
METHOD:PUBLISH
X-WR-CALNAME:ENDO
X-ORIGINAL-URL:https://endo.gr/en
X-WR-CALDESC:Events for ENDO
REFRESH-INTERVAL;VALUE=DURATION:PT1H
X-Robots-Tag:noindex
X-PUBLISHED-TTL:PT1H
BEGIN:VTIMEZONE
TZID:Europe/Athens
BEGIN:DAYLIGHT
TZOFFSETFROM:+0200
TZOFFSETTO:+0300
TZNAME:EEST
DTSTART:20220327T010000
END:DAYLIGHT
BEGIN:STANDARD
TZOFFSETFROM:+0300
TZOFFSETTO:+0200
TZNAME:EET
DTSTART:20221030T010000
END:STANDARD
BEGIN:DAYLIGHT
TZOFFSETFROM:+0200
TZOFFSETTO:+0300
TZNAME:EEST
DTSTART:20230326T010000
END:DAYLIGHT
BEGIN:STANDARD
TZOFFSETFROM:+0300
TZOFFSETTO:+0200
TZNAME:EET
DTSTART:20231029T010000
END:STANDARD
BEGIN:DAYLIGHT
TZOFFSETFROM:+0200
TZOFFSETTO:+0300
TZNAME:EEST
DTSTART:20240331T010000
END:DAYLIGHT
BEGIN:STANDARD
TZOFFSETFROM:+0300
TZOFFSETTO:+0200
TZNAME:EET
DTSTART:20241027T010000
END:STANDARD
END:VTIMEZONE
BEGIN:VEVENT
DTSTART;VALUE=DATE:20230901
DTEND;VALUE=DATE:20230904
DTSTAMP:20260423T175235
CREATED:20230831T210018Z
LAST-MODIFIED:20250116T125018Z
UID:20900-1693526400-1693785599@endo.gr
SUMMARY:7η Μετεκπαιδευτική Επιστημονική Συνάντηση | Πόρος | 1-3/9/2023
DESCRIPTION:Δείτε εδώ το πρόγραμμα \nΗ Ελληνική Ιατρική Εταιρεία Παχυσαρκίας διοργανώνει την 7η Μετεκπαιδευτική Επιστημονική Συνάντηση\, από την Παρασκευή 1 έως την Κυριακή 3 Σεπτεμβρίου 2023\, στον Πόρο\, με θέμα: «Μετεκπαίδευση από τη βασική έρευνα και την επικαιροποιημένη γνώση\, στην καθημερινή κλινική πράξη αντιμετώπισης της παχυσαρκίας».
URL:https://endo.gr/en/event/7%ce%b7-%ce%bc%ce%b5%cf%84%ce%b5%ce%ba%cf%80%ce%b1%ce%b9%ce%b4%ce%b5%cf%85%cf%84%ce%b9%ce%ba%ce%ae-%ce%b5%cf%80%ce%b9%cf%83%cf%84%ce%b7%ce%bc%ce%bf%ce%bd%ce%b9%ce%ba%ce%ae-%cf%83%cf%85%ce%bd%ce%ac/
LOCATION:7η Μετεκπαιδευτική Επιστημονική Συνάντηση
CATEGORIES:Εκδηλώσεις E.E.E.
ATTACH;FMTTYPE=image/jpeg:https://endo.gr/wp-content/uploads/2025/01/8.γ-7h-Metek_Hmer_Paxys_Poster-200x300-1.jpg
END:VEVENT
BEGIN:VEVENT
DTSTART;VALUE=DATE:20230907
DTEND;VALUE=DATE:20230912
DTSTAMP:20260423T175235
CREATED:20230906T210004Z
LAST-MODIFIED:20250116T125110Z
UID:20903-1694044800-1694476799@endo.gr
SUMMARY:Σεμινάριο Βασικής Ανάλυσης Σπέρματος ESHRE
DESCRIPTION:Το τμήμα Ανδρολογίας της Ευρωπαικής Εταιρείας για την Ανθρώπινη Αναπαραγωγή και Εμβρυολογία (SIGA – ESHRE) διοργανώνει ξανά τα σεμινάρια για την Βασική Ανάλυση Σπέρματος. Όπως είναι γνωστό\, το σεμινάριο αυτό ξεκίνησε από το SIGA-ESHRE το 1989\, σε διαφορετικές χώρες του κόσμου στην τοπική γλώσσα και ήρθε στην Ελλάδα το 2004. Έχει το ίδιο περιεχόμενο σε όλες τις χώρες και συμπεριλαμβάνει τόσο θεωρητικό όσο και πρακτικό μέρος. \nΤο σεμινάριο θα πραγματοποιηθεί στο Εργαστήριο Ιστολογίας-Εμβρυολογίας\, της Ιατρικής σχολής του Πανεπιστημίου Αθηνών\, από τις 7 Σεπτεμβρίου έως τις 11 Σεπτεμβρίου 2023.
URL:https://endo.gr/en/event/%cf%83%ce%b5%ce%bc%ce%b9%ce%bd%ce%ac%cf%81%ce%b9%ce%bf-%ce%b2%ce%b1%cf%83%ce%b9%ce%ba%ce%ae%cf%82-%ce%b1%ce%bd%ce%ac%ce%bb%cf%85%cf%83%ce%b7%cf%82-%cf%83%cf%80%ce%ad%cf%81%ce%bc%ce%b1%cf%84%ce%bf/
LOCATION:Σεμινάριο Βασικής Ανάλυσης Σπέρματος
CATEGORIES:Εκδηλώσεις E.E.E.
ATTACH;FMTTYPE=image/jpeg:https://endo.gr/wp-content/uploads/2025/01/8.α-Αφίσα-2023-212x300-1.jpg
END:VEVENT
BEGIN:VEVENT
DTSTART;VALUE=DATE:20230916
DTEND;VALUE=DATE:20230917
DTSTAMP:20260423T175235
CREATED:20230915T210044Z
LAST-MODIFIED:20250117T093228Z
UID:20906-1694822400-1694908799@endo.gr
SUMMARY:Ημερίδα για την Αντισύλληψη\, 16 Σεπτεμβρίου 2023\, Αμφιθέατρο «ΑΛΚΗΣ ΑΡΓΥΡΙΑΔΗΣ»\, Κεντρικό Κτήριο ΕΚΠΑ
DESCRIPTION:Δείτε εδώ το πρόγραμμα \nΕκ μέρους των εταιρειών Ελληνική Ενδοκρινολογική Εταιρεία – Πανελλήνια Ένωση Ενδοκρινολόγων\, Ελληνική Εταιρεία Οικογενειακού Προγραμματισμού\, Αντισύλληψης & Αναπαραγωγικής Υγείας\, Ελληνική Εταιρεία Γυναικολογικής Ενδοκρινολογίας\, Ελληνική Ανδρολογική Εταιρεία\, Ελληνική Εταιρεία Παιδικής και Εφηβικής Ενδοκρινολογίας\, Ένωση Μαιευτήρων – Γυναικολόγων Ελλάδος\, Ελληνικό Κολλέγιο Παιδιάτρων και Έδρα UNESCO Υγείας και Ιατρικής ΕΚΠΑ\, σας προσκαλούμε στην εκδήλωση με θέμα την Αντισύλληψη\, που θα πραγματοποιηθεί στις 16 Σεπτεμβρίου 2023\, στο Αμφιθέατρο «ΑΛΚΗΣ ΑΡΓΥΡΙΑΔΗΣ»\, στο Κεντρικό Κτήριο του Εθνικού και Καποδιστριακού Πανεπιστημίου Αθηνών. \nΘα χαρούμε να μας τιμήσετε με την παρουσία σας.
URL:https://endo.gr/en/event/%ce%b7%ce%bc%ce%b5%cf%81%ce%af%ce%b4%ce%b1-%ce%b3%ce%b9%ce%b1-%cf%84%ce%b7%ce%bd-%ce%b1%ce%bd%cf%84%ce%b9%cf%83%cf%8d%ce%bb%ce%bb%ce%b7%cf%88%ce%b7-16-%cf%83%ce%b5%cf%80%cf%84%ce%b5%ce%bc%ce%b2%cf%81/
LOCATION:Αμφιθέατρο «ΑΛΚΗΣ ΑΡΓΥΡΙΑΔΗΣ»\, Κεντρικό Κτήριο ΕΚΠΑ
CATEGORIES:Εκδηλώσεις E.E.E.,Συνδιοργάνωση με την Εταιρεία
ATTACH;FMTTYPE=image/jpeg:https://endo.gr/wp-content/uploads/2025/01/POSTER-ΗΜΕΡΙΔΑ-2023-203x300-1.jpg
END:VEVENT
BEGIN:VEVENT
DTSTART;VALUE=DATE:20230916
DTEND;VALUE=DATE:20230917
DTSTAMP:20260423T175235
CREATED:20230916T093938Z
LAST-MODIFIED:20250117T093343Z
UID:20909-1694822400-1694908799@endo.gr
SUMMARY:Webinar Επιστημονικού Τμήματος Νευροενδοκρινολογίας – 16/9/2023
DESCRIPTION:Αγαπητοί Συνάδελφοι\, \nΤο Σάββατο 16/9/2023\, στις 10.00 π.μ.\, πραγματοποιείται το Webinar του Επιστημονικού Τμήματος Νευροενδοκρινολογίας της Ελληνικής Ενδοκρινολογικής Εταιρείας. \nWebinar Επιστημονικού Τμήματος Νευροενδοκρινολογίας της ΕΕΕ-ΠΕΕ \nΔιοικούσα Επιτροπή: Κώστογλου Αθανασίου Ιφιγένεια\, Ντάλη Γεωργία\, Φούντας Αθανάσιος \nΠρόγραμμα \nΠεριεγχειρητική παρακολούθηση ασθενών που υποβάλλονται σε χειρουργείο υπόφυσης \nΠροεδρείο: \nΝτάλη Γεωργία\, Ενδοκρινολόγος-Επιμελήτρια Α’ ΕΣΥ\, Ενδοκρινολογικό\, Τμήμα-Διαβητολογικό Κέντρο\, ΓΝΑ Ο Ευαγγελισμός \nΚώστογλου-Αθανασίου Ιφιγένεια\, Διδάκτωρ Πανεπιστημίου Αθηνών\, Διδάκτωρ Πανεπιστημίου Λονδίνου\, MSc Διοίκησης Μονάδων Υγείας\, Διευθύντρια Ενδοκρινολογικού Τμήματος\, Γ. Ν. Ασκληπιείο Βούλας \n10:00 – 10:30     Διάγνωση και αντιμετώπιση δευτεροπαθούς επινεφριδιακής ανεπάρκειας \nΝτάλη Γεωργία\, Ενδοκρινολόγος-Επιμελήτρια Α’ ΕΣΥ\, Ενδοκρινολογικό\, Τμήμα-Διαβητολογικό Κέντρο\, ΓΝΑ Ο Ευαγγελισμός \n10:30 – 11:00     Διάγνωση και αντιμετώπιση διαταραχών του μεταβολισμού ύδατος \nΦούντας Αθανάσιος\, Επιμελητής Β’ Ενδοκρινολογίας\, Επιστημονικά\, Υπεύθυνος Ιατρείου Υπόφυσης\, Τμήμα Ενδοκρινολογίας-Μεταβολισμού και Διαβητολογικό Κέντρο\, ΓΝΑ Γ. Γεννηματάς \n11:00 – 11:30     Διάγνωση και αντιμετώπιση νευροχειρουργικών επιπλοκών \nΜπάρκας Κωνσταντίνος\, Επ.Α’ Ε.Σ.Υ. Νευροχειρουργός\, Γ.Ν.Νίκαιας-Πειραιά «Αγ.Παντελεήμων»\n\n \nΠροκειμένου να παρακολουθήσετε ελεύθερα το webinar\, μπορείτε να προεγγραφείτε μέσω της διεύθυνσης:\nhttps://attendee.gotowebinar.com/register/8724823112291350109 \n(Webinar ID: 111-533-531) \nσυμπληρώνοντας το ονοματεπώνυμό σας και το email σας στη φόρμα εγγραφής\, ώστε να λάβετε αυτόματα ένα νέο e-mail που θα περιέχει τον σύνδεσμο (link) μέσω του οποίου θα μεταδοθεί το webinar. \nΠροσβλέποντας πάντα στην πολύτιμη ενεργό συμμετοχή σας. \nΓια την Ελληνική Ενδοκρινολογική Εταιρεία. \nΜε εκτίμηση\,\nΗ ΠΡΟΕΔΡΟΣ\nΑ. Βρυωνίδου \nΗ ΓΕΝ. ΓΡΑΜΜΑΤΕΑΣ\nΒ. Βασιλείου
URL:https://endo.gr/en/event/webinar-%ce%b5%cf%80%ce%b9%cf%83%cf%84%ce%b7%ce%bc%ce%bf%ce%bd%ce%b9%ce%ba%ce%bf%cf%8d-%cf%84%ce%bc%ce%ae%ce%bc%ce%b1%cf%84%ce%bf%cf%82-%ce%bd%ce%b5%cf%85%cf%81%ce%bf%ce%b5%ce%bd%ce%b4%ce%bf%ce%ba/
LOCATION:Webinar Επιστημονικού Τμήματος Νευροενδοκρινολογίας
CATEGORIES:Webinars Επιστημονικών Τμημάτων,Εκδηλώσεις E.E.E.
END:VEVENT
BEGIN:VEVENT
DTSTART;TZID=Europe/Athens:20230923T100000
DTEND;TZID=Europe/Athens:20230923T130000
DTSTAMP:20260423T175235
CREATED:20230922T210055Z
LAST-MODIFIED:20250116T125744Z
UID:20912-1695463200-1695474000@endo.gr
SUMMARY:Webinar 23/9/2023\, Παρουσίαση περιστατικών ΠΓΝΘ ΑΧΕΠΑ\, ΓΝΑ ΛΑΪΚΟ\, ΤΜ. ΕΝΔΟΚΡΙΝΟΛΟΓΙΑΣ & ΣΔ\, ΟΜΙΛΟΥ ΥΓΕΙΑ
DESCRIPTION:Αγαπητοί Συνάδελφοι\, \nΤο Σάββατο 23/9/2023\, στις 10.00 π.μ. πραγματοποιείται το Webinar της Ελληνικής Ενδοκρινολογικής Εταιρείας\, στο πλαίσιο των μετεκπαιδευτικών της μαθημάτων μέσω διαδικτύου για το 2023. \n1ο Περιστατικό: ΤΜ. ΕΝΔΟΚΡΙΝΟΛΟΓΙΑΣ & ΣΔ\, ΟΜΙΛΟΥ ΥΓΕΙΑ\, 23.09.2023\, ΩΡΑ 11:30 – 12:15 \nΤίτλος: Υπερτιγλυκεριδαιμία στην IVF  \nΣύντομο ιστορικό: Ασθενής 50 ετών με IVF υπό ορμονοθεραπεία εισάγεται στη μονάδα εντατικής θεραπείας με παγκρεατίτιδα και υπερτριγλυκεριδαιμία. \nΥπεύθυνη: Ευανθία Διαμάντη – Κανδαράκη MD\, PhD\, Ενδοκρινολόγος – Διαβητολόγος\, Καθηγήτρια Ιατρικής Σχολής ΕΚΠΑ\, Διευθύντρια Τμήματος Ενδοκρινολογίας & Διαβήτη\, Νοσοκομείο Υγεία \nΠαρουσίαση: Κανέλλα Παππά\, Ενδοκρινολόγος – Διαβητολόγος \nΣχολιασμός:  Ευτυχία Κούκκου\, MD\, PhD\, Ενδοκρινολόγος\, Συντονίστρια Διευθύντρια τμήματος Ενδοκρινολογίας\, Διαβήτη και Μεταβολισμού\, Γενικό Νοσοκομείο-Μαιευτήριο “Έλενα Βενιζέλου” \n————————————————————————– \n2o Περιστατικό: ΠΓΝΘ ΑΧΕΠΑ\, 23.09.2023\, ΩΡΑ 10:00 – 10:45   \nΤίτλος: Ασθενής με σοβαρή εμμένουσα υπερασβεστιαιμία μετά από ημιθυρεοειδεκτομή και 5 χειρουργικές επεμβάσεις αφαίρεσης παραθυρεοειδών αδένων. \nΣύντομο ιστορικό: Ασθενής 65 ετών\, με ατομικό ιστορικό ημιθυρεοειδεκτομής και χειρουργηθέντος πρωτοπαθούς υπερπαραθυρεοειδισμού προσηλθε στο ΤΕΠ λόγω 2 αναφερόμενων επεισοδίων πτώσης\, με συνοδό ζάλη\, αδυναμία και τάση προς έμετο. Η ασθενής ανέφερε πρόσφατη αυτόβουλη διακοπή της φαρμακευτικής αγωγής που ελάμβανε. Από τον εργαστηριακό έλεγχο διαπιστώθηκε σοβαρή υπερασβεστιαιμία. Προσεκτικότερη λήψη αναλυτικού ατομικού ιστορικού αποκάλυψε 5 προηγηθέντα χειρουργεία στην περιοχή του τραχήλου προς αντιμετώπιση πρωτοπαθούς υπερπαραθυρεοειδισμού. \nΥπεύθυνη: Καλλιόπη Κώτσα\, Καθηγήτρια Ενδοκρινολογίας – Διαβητολογίας Τμήματος  Ιατρικής ΑΠΘ. Υπεύθυνη Τμήματος Ενδοκρινολογίας και Μεταβολισμού –  Διαβητολογικού Κέντρου\, Α΄ Παθολογική Κλινική\, ΠΓΝΘ ΑΧΕΠΑ \nΠαρουσίαση: Ειρήνη Μελίδου\, Ειδικευόμενη Ενδοκρινολογίας  – Τμήμα Ενδοκρινολογίας και Μεταβολισμού –  Α΄ Παθολογική Κλινική\, ΠΓΝΘ ΑΧΕΠΑ \nΣυντονισμός: Μαρία Γραμματίκη\, Ενδοκρινολόγος\, Επιμελήτρια Β’ ΕΣΥ\, Τμήμα Ενδοκρινολογίας και Μεταβολισμού –  Α΄ Παθολογική Κλινική\, ΠΓΝΘ ΑΧΕΠΑ \nΣχολιασμός: Εύα Κασσή Ενδοκρινολόγος\, Καθηγήτρια της Ιατρικής Σχολής του Πανεπιστημίου Αθηνών \n————————————————————————————– \n3ο Περιστατικό: ΓΝΑ ΛΑΪΚΟ\, 23.09.2023\, ΩΡΑ 10:45 – 11:30 \nΤίτλος: Ασθενής με εμμένουσες διάρροιες \nΣύντομο ιστορικό: Η παρουσίαση αφορά σε μία ασθενή\, γυναίκα\, 61 ετών που εμφάνισε το 2008 εμμένουσες υδαρείς διάρροιες και διεγνώσθη με μεταστατικό Vipoma αγνώστου πρωτοπαθούς εστίας. Υποβλήθηκε αρχικά σε χειρουργική επέμβαση και έκτοτε έχει λάβει αγωγή με ανάλογα σωματοστατίνης\, everolimus\, sunitinib\, ραδιοπεπτίδια και χημειοθεραπεία ενώ έχει υποβληθεί σε τοπικο-περιοχικές τεχνικές ογκομείωσης των ηπατικών δευτεροπαθών εντοπίσεων. Τα τελευταία 4 έτη παραμένει κλινικά\, βιοχημικά και απεικονιστικά σταθερή υπό αγωγή με αυξημένη δόση αναλόγων σωματοστατίνης. \nΥπεύθυνος:   Γρηγόρης Καλτσάς\, Καθηγητής ΕΚΠΑ\, Υπεύθυνος Κέντρου Εμπειρογνωμοσύνης Σπάνιων Νευροενδοκρινολογικών Νεοπλασμάτων  Γ.Ν.Α.  «Λαϊκό» \nΠαρουσίαση: Αικατερίνη Καπέρδα\, Ειδικευόμενη Ενδοκρινολογίας Ενδοκρινολογική Μονάδα\, Α΄ΠΠΚ\, Λαϊκό Νοσοκομείο \nΣυντονισμός: Μαρίνα Τσώλη\, Επιμελήτρια Β΄ Ενδοκρινολογίας Α΄ΠΠΚ\, Λαϊκό Νοσοκομείο \nΣχολιασμός: Αλεξάνδρα Χρυσουλίδου\, Διευθύντρια Ενδοκρινολογικού Τμήματος\, Αντικαρκινικό Νοσοκομείο Θεσσαλονίκης \n  \nΠροκειμένου να παρακολουθήσετε ελεύθερα το webinar\, μπορείτε να προεγγραφείτε μέσω της διεύθυνσης:\nhttps://attendee.gotowebinar.com/register/6947114020715924320 \n(Webinar ID: 846-016-955) \nσυμπληρώνοντας το ονοματεπώνυμό σας και το email σας στη φόρμα εγγραφής\, ώστε να λάβετε αυτόματα ένα νέο e-mail που θα περιέχει τον σύνδεσμο (link) μέσω του οποίου θα μεταδοθεί το webinar. \nΠροσβλέποντας πάντα στην πολύτιμη ενεργό συμμετοχή σας. \nΓια την Ελληνική Ενδοκρινολογική Εταιρεία. \nΜε εκτίμηση\,\nΗ ΠΡΟΕΔΡΟΣ\nΑ. Βρυωνίδου \nΗ ΓΕΝ. ΓΡΑΜΜΑΤΕΑΣ\nΒ. Βασιλείου
URL:https://endo.gr/en/event/webinar-23-9-2023-%cf%80%ce%b1%cf%81%ce%bf%cf%85%cf%83%ce%af%ce%b1%cf%83%ce%b7-%cf%80%ce%b5%cf%81%ce%b9%cf%83%cf%84%ce%b1%cf%84%ce%b9%ce%ba%cf%8e%ce%bd-%cf%80%ce%b3%ce%bd%ce%b8-%ce%b1%cf%87%ce%b5/
LOCATION:Webinar 23/9/2023\, Παρουσίαση περιστατικών ΠΓΝΘ ΑΧΕΠΑ\, ΓΝΑ ΛΑΪΚΟ\, ΤΜ. ΕΝΔΟΚΡΙΝΟΛΟΓΙΑΣ
CATEGORIES:Webinars παρουσίασης περιστατικών,Εκδηλώσεις E.E.E.
END:VEVENT
BEGIN:VEVENT
DTSTART;VALUE=DATE:20230930
DTEND;VALUE=DATE:20231001
DTSTAMP:20260423T175235
CREATED:20230930T100352Z
LAST-MODIFIED:20250116T130042Z
UID:20915-1696032000-1696118399@endo.gr
SUMMARY:Practical issues in the diagnosis and management of obesity\, 30/09/2023\, Electra Palace\, Αθήνα
DESCRIPTION:Δείτε εδώ το πρόγραμμα \nΗ εταιρεία μας διοργανώνει Σεμινάριο για την Παχυσαρκία με θέμα: Practical issues in the diagnosis and management of obesity\, στις 30 Σεπτεμβρίου 2023\, στο Ξενοδοχείο Electra Palace\, στην Αθήνα\, με διεθνή συμμετοχή. \nΗ εκδήλωση θα είναι κλειστή μέχρι 50 άτομα. \nΚόστος εγγραφής 140 ευρώ.
URL:https://endo.gr/en/event/practical-issues-in-the-diagnosis-and-management-of-obesity-30-09-2023-electra-palace-%ce%b1%ce%b8%ce%ae%ce%bd%ce%b1/
LOCATION:Electra Palace\, Αθήνα
CATEGORIES:Εκδηλώσεις E.E.E.
ATTACH;FMTTYPE=image/jpeg:https://endo.gr/wp-content/uploads/2025/01/practicalobe-208x300-1.jpg
END:VEVENT
END:VCALENDAR