BEGIN:VCALENDAR
VERSION:2.0
PRODID:-//ENDO - ECPv6.15.14//NONSGML v1.0//EN
CALSCALE:GREGORIAN
METHOD:PUBLISH
X-WR-CALNAME:ENDO
X-ORIGINAL-URL:https://endo.gr/en
X-WR-CALDESC:Events for ENDO
REFRESH-INTERVAL;VALUE=DURATION:PT1H
X-Robots-Tag:noindex
X-PUBLISHED-TTL:PT1H
BEGIN:VTIMEZONE
TZID:Europe/Athens
BEGIN:DAYLIGHT
TZOFFSETFROM:+0200
TZOFFSETTO:+0300
TZNAME:EEST
DTSTART:20220327T010000
END:DAYLIGHT
BEGIN:STANDARD
TZOFFSETFROM:+0300
TZOFFSETTO:+0200
TZNAME:EET
DTSTART:20221030T010000
END:STANDARD
BEGIN:DAYLIGHT
TZOFFSETFROM:+0200
TZOFFSETTO:+0300
TZNAME:EEST
DTSTART:20230326T010000
END:DAYLIGHT
BEGIN:STANDARD
TZOFFSETFROM:+0300
TZOFFSETTO:+0200
TZNAME:EET
DTSTART:20231029T010000
END:STANDARD
BEGIN:DAYLIGHT
TZOFFSETFROM:+0200
TZOFFSETTO:+0300
TZNAME:EEST
DTSTART:20240331T010000
END:DAYLIGHT
BEGIN:STANDARD
TZOFFSETFROM:+0300
TZOFFSETTO:+0200
TZNAME:EET
DTSTART:20241027T010000
END:STANDARD
END:VTIMEZONE
BEGIN:VEVENT
DTSTART;VALUE=DATE:20231006
DTEND;VALUE=DATE:20231008
DTSTAMP:20260423T154452
CREATED:20231006T100600Z
LAST-MODIFIED:20250117T092737Z
UID:20919-1696550400-1696723199@endo.gr
SUMMARY:8ο Πανελλήνιο Επιστημονικό Συμπόσιο της Ελληνικής Εταιρείας Παιδικής και Εφηβικής Παχυσαρκίας\, 6-7 Οκτωβρίου 2023\, Ξενοδοχείο Royal Olympic\, Αθήνα
DESCRIPTION:Σας προσκαλούμε στο 8ο Πανελλήνιο Επιστημονικό Συμπόσιο της Ελληνικής Εταιρείας Παιδικής και Εφηβικής Παχυσαρκίας με θέμα «Ενδοκρινολογικά Προβλήματα του Παιδιού και του Εφήβου»\, το οποίο θα πραγματοποιηθεί στις 06 και 07 Οκτωβρίου 2023 στο Ξενοδοχείο Royal Olympic\, στην Αθήνα. \nΓια περισσότερες πληροφορίες δείτε εδώ
URL:https://endo.gr/en/event/8%ce%bf-%cf%80%ce%b1%ce%bd%ce%b5%ce%bb%ce%bb%ce%ae%ce%bd%ce%b9%ce%bf-%ce%b5%cf%80%ce%b9%cf%83%cf%84%ce%b7%ce%bc%ce%bf%ce%bd%ce%b9%ce%ba%cf%8c-%cf%83%cf%85%ce%bc%cf%80%cf%8c%cf%83%ce%b9%ce%bf-%cf%84/
LOCATION:Ξενοδοχείο Royal Olympic\, Αθήνα
CATEGORIES:Εκδηλώσεις E.E.E.,Υπό την αιγίδα της Εταιρείας
ATTACH;FMTTYPE=image/jpeg:https://endo.gr/wp-content/uploads/2025/01/695afccea4254d1a9a9ac91e5ee51501-768x175-1.jpg
END:VEVENT
BEGIN:VEVENT
DTSTART;TZID=Europe/Athens:20231007T100000
DTEND;TZID=Europe/Athens:20231007T120000
DTSTAMP:20260423T154452
CREATED:20230710T100831Z
LAST-MODIFIED:20250115T111130Z
UID:20923-1696672800-1696680000@endo.gr
SUMMARY:Webinar 7/10/2023\, Παρουσίαση περιστατικών ΓΝΑ ΚΟΡΓΙΑΛΕΝΕΙΟ – ΜΠΕΝΑΚΕΙΟ Ε.Ε.Σ.\, ΑΝΘ «ΘΕΑΓΕΝΕΙΟ»
DESCRIPTION:1ο Περιστατικό: ΓΝΑ ΚΟΡΓΙΑΛΕΝΕΙΟ – ΜΠΕΝΑΚΕΙΟ Ε.Ε.Σ. ΣΑΒΒΑΤΟ 7.10.2023\, ΩΡΑ 10:00 – 10:45 \nΤίτλος: Σπάνια περίπτωση ασθενούς με υπερανδρογοναιμία και υπέρταση \nΥπεύθυνη: Α. Βρυωνίδου – Μπομποτά\, Ενδοκρινολόγος\, Συντ. Διευθύντρια\, Ενδοκρινολογικό Τμήμα – Διαβητολογικό Κέντρο Γ.Ν.Α «Κοργιαλένειο – Μπενάκειο Ε.Ε. \nΠαρουσίαση: Αλέξανδρος Κονιδάρης\, Ειδικευόμενος του Ενδοκρινολογικού Τμήματος «Κοργιαλένειο – Μπενάκειο Ε.Ε. \nΡηγανά Μαρία\, Επιμελήτρια Β’\, Ενδοκρινολογικού Τμήματος «Κοργιαλένειο – Μπενάκειο Ε.Ε. \nΣχολιασμός: Ευαγγελία Βασιλάτου\, Ενδοκρινολόγος\, Επιστημονική Συνεργάτης\, Νοσοκομείο Υγεία\, Αθήνα \n————————————————————————–\n2o Περιστατικό: ΑΝΘ «ΘΕΑΓΕΝΕΙΟ»\, ΣΑΒΒΑΤΟ 7.10.2023\, ΩΡΑ 10:45 – 11:30 \nΤίτλος: Μια σπάνια εκδήλωση δευτεροπαθούς Υπερπαραθυρεοειδισμού \nΠρόκειται για έναν 57 ετών ασθενή που παρουσιάσθηκε με επώδυνες οστικές βλάβες\, οι οποίες αποδείχθηκε ότι είναι φαιοί όγκοι. \nΥπεύθυνη: Αλεξάνδρα Χρυσουλίδου\, Διευθύντρια Ενδοκρινολογικού Τμήματος\, Αντικαρκινικό Νοσοκομείο Θεσσαλονίκης \nΠαρουσίαση: Χρησταντωνίου Γεώργιος\, ειδικευόμενος του Ενδοκρινολογικού Τμήματος ΑΝΘ Θεαγένειο \nΖησιμοπούλου Ελεάνα – Επιμελήτρια Β’\, Ενδοκρινολογική Κλινική Α.Ν.Θ. Θεαγένειο \nΣχολιασμός: Συμεών Τουρνής\, Ενδοκρινολόγος\, Εργαστήριο Έρευνας Παθήσεων Μυοσκελετικού Συστήματος “Θ. Γαροφαλίδης’’ ΕΚΠΑ (ΕΕΠΜΣ) – Νοσοκομείο ΚΑΤ. \nΠροκειμένου να παρακολουθήσετε ελεύθερα το webinar\, μπορείτε να προεγγραφείτε μέσω της διεύθυνσης:\nhttps://attendee.gotowebinar.com/register/5980268366992144478 \n(Webinar ID: 798-948-979) \nσυμπληρώνοντας το ονοματεπώνυμό σας και το email σας στη φόρμα εγγραφής\, ώστε να λάβετε αυτόματα ένα νέο e-mail που θα περιέχει τον σύνδεσμο (link) μέσω του οποίου θα μεταδοθεί το webinar. \nΠροσβλέποντας πάντα στην πολύτιμη ενεργό συμμετοχή σας. \nΓια την Ελληνική Ενδοκρινολογική Εταιρεία. \nΜε εκτίμηση\,\nΗ ΠΡΟΕΔΡΟΣ\nΑ. Βρυωνίδου \nΗ ΓΕΝ. ΓΡΑΜΜΑΤΕΑΣ\nΒ. Βασιλείου
URL:https://endo.gr/en/event/webinar-7-10-2023-%cf%80%ce%b1%cf%81%ce%bf%cf%85%cf%83%ce%af%ce%b1%cf%83%ce%b7-%cf%80%ce%b5%cf%81%ce%b9%cf%83%cf%84%ce%b1%cf%84%ce%b9%ce%ba%cf%8e%ce%bd-%ce%b3%ce%bd%ce%b1-%ce%ba%ce%bf%cf%81%ce%b3/
LOCATION:ΑΝΘ «ΘΕΑΓΕΝΕΙΟ»
CATEGORIES:Webinars παρουσίασης περιστατικών,Εκδηλώσεις E.E.E.
END:VEVENT
BEGIN:VEVENT
DTSTART;VALUE=DATE:20231020
DTEND;VALUE=DATE:20231022
DTSTAMP:20260423T154452
CREATED:20231020T101136Z
LAST-MODIFIED:20250116T130404Z
UID:20926-1697760000-1697932799@endo.gr
SUMMARY:9o Σεμινάριο Τεχνολογίας στο Σακχαρώδη Διαβήτη\, 20-21/10/2023\, Γραφεία ΕΕΕ-ΠΕΕ
DESCRIPTION:Δείτε εδώ το πρόγραμμα \nH Ελληνική Ενδοκρινολογική Εταιρεία – Πανελλήνια Ένωση Ενδοκρινολόγων διοργανώνει το 9ο Σεμινάριο Τεχνολογίας στο Σακχαρώδη Διαβήτη\, στις 20 και 21 Οκτωβρίου 2023\, στα γραφεία της ΕΕΕ-ΠΕΕ.
URL:https://endo.gr/en/event/9o-%cf%83%ce%b5%ce%bc%ce%b9%ce%bd%ce%ac%cf%81%ce%b9%ce%bf-%cf%84%ce%b5%cf%87%ce%bd%ce%bf%ce%bb%ce%bf%ce%b3%ce%af%ce%b1%cf%82-%cf%83%cf%84%ce%bf-%cf%83%ce%b1%ce%ba%cf%87%ce%b1%cf%81%cf%8e%ce%b4%ce%b7/
LOCATION:Γραφεία ΕΕΕ-ΠΕΕ
CATEGORIES:Εκδηλώσεις E.E.E.
END:VEVENT
BEGIN:VEVENT
DTSTART;TZID=Europe/Athens:20231021T100000
DTEND;TZID=Europe/Athens:20231021T235900
DTSTAMP:20260423T154452
CREATED:20231021T101355Z
LAST-MODIFIED:20250116T130514Z
UID:20929-1697882400-1697932740@endo.gr
SUMMARY:Webinar Επιστημονικού Τμήματος Οστών (Σάββατο 21/10/2023\, 10:00 π.μ.) – Παρουσίαση Περιστατικών
DESCRIPTION:Όσοι επιθυμείτε να παρακολουθήσετε το session των οστών στις 21/10\, μπορείτε να στείλετε περιστατικά με διαταραχές του μεταβολισμού του ασβεστίου (ένα σύντομο κείμενο Word) έως τις 18/10\, στους κκ. Σ. Τουρνή\, stournis@med.uoa.gr και Ε. Κασσή ekassi@med.uoa.gr ώστε αν υπάρχει χρόνος να συζητηθούν. \n\nΠΡΟΣΚΛΗΣΗ \nΑγαπητοί Συνάδελφοι\, \nΤο Σάββατο 21/10/2023\, στις 10.00 π.μ.\, πραγματοποιείται το Webinar του Επιστημονικού Τμήματος Οστών της Ελληνικής Ενδοκρινολογικής Εταιρείας. \nΔιοικούσα Επιτροπή:\n• Αναστασιλάκης Αθανάσιος\n• Κασσή Ευανθία\n• Τουρνής Συμεών \nΣυνάντηση με τον Ειδικό (σύντομη εισήγηση και παρουσίαση περιστατικών και συζήτηση επ’ αυτών) με θέματα:\nα. Υπερασβεστιαιμία. Διαγνωστική και Θεραπευτική Προσέγγιση (διάρκεια 1\,5 ώρα) \n\nΠροεδρείο: Κασσή Εύα\, Ενδοκρινολόγος\, Καθηγήτρια\, Ιατρική Σχολή\, Εθνικό Καποδιστριακό Πανεπιστήμιο Αθηνών\nΟμιλητής: Τουρνής Συμεών\, Ενδοκρινολόγος\, Ακαδημαϊκός Υπότροφος\, Εργαστήριο Έρευνας Παθήσεων Μυοσκελετικού Συστήματος “Θ. Γαροφαλίδης”\, Εθνικό Καποδιστριακό Πανεπιστήμιο Αθηνών\, Νοσοκομείο ΚΑΤ\n\nβ. Οστεοπόρωση σε νέους Ενήλικες. Διαγνωστική και Θεραπευτική Προσέγγιση (διάρκεια 1\,5 ώρα) \n\nΠροεδρείο: Αναστασιλάκης Αθανάσιος\, Επιμελητής Ενδοκρινολογικού Τμήματος\, 424 Γ.Σ.Ν\, Θεσσαλονίκη\nΟμιλητής: Γιαβροπούλου Μαρία\, Ενδοκρινολόγος\, Διευθύντρια ΕΣΥ\, Ενδοκρινολογική Μονάδα\, Α’ Προπαιδευτική Παθολογική Κλινική\, Γ.Ν.Α. ”Λαϊκό”\, Κέντρο Εμπειρογνωμοσύνης Σπανίων Ενδοκρινολογικών Νοσημάτων C.E.R.E.D\n\nΠροκειμένου να παρακολουθήσετε ελεύθερα το webinar\, μπορείτε να προεγγραφείτε μέσω της διεύθυνσης: \nhttps://attendee.gotowebinar.com/register/2210508088962223455 \n(Webinar ID: 260-964-011) \nσυμπληρώνοντας το ονοματεπώνυμό σας και το email σας στη φόρμα εγγραφής\, ώστε να λάβετε αυτόματα ένα νέο e-mail που θα περιέχει τον σύνδεσμο (link) μέσω του οποίου θα μεταδοθεί το webinar. \nΠροσβλέποντας πάντα στην πολύτιμη ενεργό συμμετοχή σας. \nΓια την Ελληνική Ενδοκρινολογική Εταιρεία. \nΜε εκτίμηση\, \nΗ ΠΡΟΕΔΡΟΣ\nΑ. Βρυωνίδου \nΗ ΓΕΝ. ΓΡΑΜΜΑΤΕΑΣ\nΒ. Βασιλείου
URL:https://endo.gr/en/event/webinar-%ce%b5%cf%80%ce%b9%cf%83%cf%84%ce%b7%ce%bc%ce%bf%ce%bd%ce%b9%ce%ba%ce%bf%cf%8d-%cf%84%ce%bc%ce%ae%ce%bc%ce%b1%cf%84%ce%bf%cf%82-%ce%bf%cf%83%cf%84%cf%8e%ce%bd-%cf%83%ce%ac%ce%b2%ce%b2%ce%b1/
LOCATION:Webinar Επιστημονικού Τμήματος Οστών
CATEGORIES:Webinars Επιστημονικών Τμημάτων,Εκδηλώσεις E.E.E.
END:VEVENT
END:VCALENDAR