BEGIN:VCALENDAR
VERSION:2.0
PRODID:-//ENDO - ECPv6.15.14//NONSGML v1.0//EN
CALSCALE:GREGORIAN
METHOD:PUBLISH
X-WR-CALNAME:ENDO
X-ORIGINAL-URL:https://endo.gr/en
X-WR-CALDESC:Events for ENDO
REFRESH-INTERVAL;VALUE=DURATION:PT1H
X-Robots-Tag:noindex
X-PUBLISHED-TTL:PT1H
BEGIN:VTIMEZONE
TZID:Europe/Athens
BEGIN:DAYLIGHT
TZOFFSETFROM:+0200
TZOFFSETTO:+0300
TZNAME:EEST
DTSTART:20220327T010000
END:DAYLIGHT
BEGIN:STANDARD
TZOFFSETFROM:+0300
TZOFFSETTO:+0200
TZNAME:EET
DTSTART:20221030T010000
END:STANDARD
BEGIN:DAYLIGHT
TZOFFSETFROM:+0200
TZOFFSETTO:+0300
TZNAME:EEST
DTSTART:20230326T010000
END:DAYLIGHT
BEGIN:STANDARD
TZOFFSETFROM:+0300
TZOFFSETTO:+0200
TZNAME:EET
DTSTART:20231029T010000
END:STANDARD
BEGIN:DAYLIGHT
TZOFFSETFROM:+0200
TZOFFSETTO:+0300
TZNAME:EEST
DTSTART:20240331T010000
END:DAYLIGHT
BEGIN:STANDARD
TZOFFSETFROM:+0300
TZOFFSETTO:+0200
TZNAME:EET
DTSTART:20241027T010000
END:STANDARD
END:VTIMEZONE
BEGIN:VEVENT
DTSTART;VALUE=DATE:20231103
DTEND;VALUE=DATE:20231104
DTSTAMP:20260423T150743
CREATED:20231103T111827Z
LAST-MODIFIED:20250117T092522Z
UID:20932-1698969600-1699055999@endo.gr
SUMMARY:Ημερίδα για το κοινό με αφορμή την Παγκόσμια Ημέρα Οστεοπόρωσης
DESCRIPTION:Παρασκευή 3/11/23\, Αίθουσα Διαλέξεων ΝΝΑ (5ος όροφος)\nΔεινοκράτους 70\, Αθήνα 11521 \nΔείτε εδώ το πρόγραμμα \nΗ Ενδοκρινολογική Κλινική του Ναυτικού Νοσοκομείου Αθηνών διοργανώνει την 3/11/23 Ημερίδα για το κοινό με αφορμή την Παγκόσμια Ημέρα Οστεοπόρωσης. Την εκδήλωση θα προσφωνήσει ο Διευθυντής Υγειονομικού ΓΕΝ και θα συμμετέχει ο Σύλλογος Σκελετικής Υγείας Πεταλούδα.
URL:https://endo.gr/en/event/%ce%b7%ce%bc%ce%b5%cf%81%ce%af%ce%b4%ce%b1-%ce%b3%ce%b9%ce%b1-%cf%84%ce%bf-%ce%ba%ce%bf%ce%b9%ce%bd%cf%8c-%ce%bc%ce%b5-%ce%b1%cf%86%ce%bf%cf%81%ce%bc%ce%ae-%cf%84%ce%b7%ce%bd-%cf%80%ce%b1%ce%b3%ce%ba/
LOCATION:Ημερίδα για το κοινό με αφορμή την Παγκόσμια Ημέρα Οστεοπόρωσης
CATEGORIES:Εκδηλώσεις E.E.E.,Υπό την αιγίδα της Εταιρείας
ATTACH;FMTTYPE=image/jpeg:https://endo.gr/wp-content/uploads/2025/01/695afccea4254d1a9a9ac91e5ee51501-768x175-1.jpg
END:VEVENT
BEGIN:VEVENT
DTSTART;TZID=Europe/Athens:20231117T150000
DTEND;TZID=Europe/Athens:20231117T170000
DTSTAMP:20260423T150743
CREATED:20231117T112042Z
LAST-MODIFIED:20250116T130705Z
UID:20935-1700233200-1700240400@endo.gr
SUMMARY:ΑΝΔΡΙΚΗ ΓΟΝΑΔΙΚΗ ΛΕΙΤΟΥΡΓΙΑ  ΑΠΟ ΤΗΝ ΕΝΔΟΜΗΤΡΙΟ ΖΩΗ ΕΩΣ ΤΗΝ ΕΝΗΒΩΣΗ ΚΑΙ ΔΙΑΤΑΡΑΧΕΣ ΤΗΣ\, Παρασκευή 17 Νοεμβρίου 2023
DESCRIPTION:Το 1ο Μάθημα της Ελληνικής Ανδρολογικής Εταιρείας με τίτλο «ΑΝΔΡΙΚΗ ΓΟΝΑΔΙΚΗ ΛΕΙΤΟΥΡΓΙΑ  ΑΠΟ ΤΗΝ ΕΝΔΟΜΗΤΡΙΟ ΖΩΗ ΕΩΣ ΤΗΝ ΕΝΗΒΩΣΗ ΚΑΙ ΔΙΑΤΑΡΑΧΕΣ ΤΗΣ» θα πραγματοποιηθεί διαδικτυακά την Παρασκευή 17 Νοεμβρίου 2023 (Ώρα: 15:00-17:00) \nΓια να ενημερωθείτε για το Πρόγραμμα και να πραγματοποιήσετε τη  εγγραφή σας πατήστε https://bit.ly/3tnXgEc \n— \nΜε εκτίμηση\,\nΕΛΛΗΝΙΚΗ ΑΝΔΡΟΛΟΓΙΚΗ ΕΤΑΙΡΕΙΑ\nΝοσοκομείο “Έλενα Βενιζέλου”\nΠλατεία Ε. Βενιζέλου 2\, Αθήνα 11521
URL:https://endo.gr/en/event/%ce%b1%ce%bd%ce%b4%cf%81%ce%b9%ce%ba%ce%b7-%ce%b3%ce%bf%ce%bd%ce%b1%ce%b4%ce%b9%ce%ba%ce%b7-%ce%bb%ce%b5%ce%b9%cf%84%ce%bf%cf%85%cf%81%ce%b3%ce%b9%ce%b1-%ce%b1%cf%80%ce%bf-%cf%84%ce%b7%ce%bd-%ce%b5/
LOCATION:ΑΝΔΡΙΚΗ ΓΟΝΑΔΙΚΗ ΛΕΙΤΟΥΡΓΙΑ  ΑΠΟ ΤΗΝ ΕΝΔΟΜΗΤΡΙΟ ΖΩΗ ΕΩΣ ΤΗΝ ΕΝΗΒΩΣΗ ΚΑΙ ΔΙΑΤΑΡΑΧΕΣ ΤΗΣ
CATEGORIES:Εκδηλώσεις E.E.E.
ATTACH;FMTTYPE=image/jpeg:https://endo.gr/wp-content/uploads/2025/01/1course2024.jpg-300x169-1.jpg
END:VEVENT
BEGIN:VEVENT
DTSTART;TZID=Europe/Athens:20231118T100000
DTEND;TZID=Europe/Athens:20231118T110000
DTSTAMP:20260423T150743
CREATED:20231118T112248Z
LAST-MODIFIED:20250115T112525Z
UID:20938-1700301600-1700305200@endo.gr
SUMMARY:Webinar 18/11/2023\, Παρουσίαση περιστατικών ΓΝΑ «ΕΥΑΓΓΕΛΙΣΜΟΣ» & ΓΝΑ «Γ. ΓΕΝΝΗΜΑΤΑΣ»
DESCRIPTION:Αγαπητοί Συνάδελφοι\, \nΤο Σάββατο 18/11/2023\, στις 10.00 π.μ. πραγματοποιείται το Webinar της Ελληνικής Ενδοκρινολογικής Εταιρείας\, στο πλαίσιο των μετεκπαιδευτικών της μαθημάτων μέσω διαδικτύου για το 2023. \n1ο Περιστατικό: ΓΝΑ «ΕΥΑΓΓΕΛΙΣΜΟΣ»\, ΣΑΒΒΑTO 18.11.2023\, ΩΡΑ 10:00 – 10:45 \nΤίτλος: Πρωτοπαθής ανεπάρκεια επινεφριδίων μεταβολικής αιτιολογίας – παρουσίαση 2 περιπτώσεων \n1ο περιστατικό: Ασθενής 17 ετών με αδρενολευκοδυστροφία και επινεφριδική ανεπάρκεια. Ο έλεγχός του και η διάγνωση έγινε λόγω θετικού οικογενειακού ιστορικού. \n2ο περιστατικό. Ασθενής 19 ετών με αδρενολευκοδυστροφία ο οποίος έχει υποβληθεί σε αλλογενή μεταμόσχευση μυελού των οστών. Πάσχει από επινεφριδική ανεπάρκεια. \nΥπεύθυνη: Μαρινέλλα Τζανέλα\, Διευθύντρια Ενδοκρινολογικού Τμήματος Διαβητολογικού Κέντρου ΓΝΑ Ευαγγελισμός \nΠαρουσίαση: Σοφία Γεωργιάδη\, Ειδικευόμενη Ενδοκρινολογικού Τμήματος \nΚαλλιόπη Παντελιά\, Ειδικευόμενη Ενδοκρινολογικού Τμήματος \nΓεωργία Ντάλη\, Επιμελήτρια Α Ενδοκρινολογικού Τμήματος \nΣχολιασμός: Ελπίς – Αθηνά Βλαχοπαπαδοπούλου\, Διευθύντρια\, Τμήμα ενδοκρινολογικό – Αύξησης και Ανάπτυξης Νοσοκ. Παίδων Π. Α\, Κυριακού \n————————————————————————–\n2o Περιστατικό: ΓΝΑ «Γ. ΓΕΝΝΗΜΑΤΑΣ»\, ΣΑΒΒΑΤΟ 18.11.2023\, ΩΡΑ 10:45 – 11:30 \nΤίτλος: Όγκοι υπόφυσης: Δεν είναι όλοι αδενώματα \nΣύντομη εισαγωγή:\nΠαρουσίαση 3 ασθενών με όγκους υπόφυσης\, χαρακτηρισμένους ως αδενώματα\, που παραπέμφθηκαν στη Μονάδα Ενδοκρινολογίας του ΓΝΑ ‘Γ. Γεννηματάς’ για αντιμετώπιση \nΥπεύθυνη: Αθηνά Μάρκου\, Διευθύντρια Ενδοκρινολογίας\, Υπεύθυνη Μονάδος\, Μονάδα Ενδοκρινολογίας – Διαβητολογικό Κέντρο ΓΝΑ ‘Γ. Γεννηματάς’ \nΠαρουσίαση: Ιωάννα Τσιρώνη\, Ειδικευόμενη Ιατρός Ενδοκρινολογίας\, Μονάδα Ενδοκρινολογίας – Διαβητολογικό Κέντρο ΓΝΑ ‘Γ. Γεννηματάς\nΑθανάσιος Φούντας\, Επιμελητής Β Ενδοκρινολογίας\, Επιστημονικά Υπεύθυνος Ιατρείου Υπόφυσης\, Μονάδα Ενδοκρινολογίας – Διαβητολογικό Κέντρο ΓΝΑ ‘Γ. Γεννηματάς’ \nΣχολιασμός: Χαράλαμπος Τσεντίδης\, Επιμελητής Α’ ΕΣΥ\, Επιστημονικά υπεύθυνος του Τμήματος Ενδοκρινολογίας – Μεταβολισμού – Σακχαρώδη Διαβήτη του Γ.Ν. Νίκαιας-Πειραιώς «Άγιος Παντελεήμων» \nΠροκειμένου να παρακολουθήσετε ελεύθερα το webinar\, μπορείτε να προεγγραφείτε μέσω της διεύθυνσης: \nhttps://attendee.gotowebinar.com/register/2666797718372714326\n(Webinar ID: 973-756-291) \nσυμπληρώνοντας το ονοματεπώνυμό σας και το email σας στη φόρμα εγγραφής\, ώστε να λάβετε αυτόματα ένα νέο e-mail που θα περιέχει τον σύνδεσμο (link) μέσω του οποίου θα μεταδοθεί το webinar. \nΠροσβλέποντας πάντα στην πολύτιμη ενεργό συμμετοχή σας. \nΓια την Ελληνική Ενδοκρινολογική Εταιρεία. \nΜε εκτίμηση\, \nΗ ΠΡΟΕΔΡΟΣ\nΑ. Βρυωνίδου \nΗ ΓΕΝ. ΓΡΑΜΜΑΤΕΑΣ\nΒ. Βασιλείου
URL:https://endo.gr/en/event/webinar-18-11-2023-%cf%80%ce%b1%cf%81%ce%bf%cf%85%cf%83%ce%af%ce%b1%cf%83%ce%b7-%cf%80%ce%b5%cf%81%ce%b9%cf%83%cf%84%ce%b1%cf%84%ce%b9%ce%ba%cf%8e%ce%bd-%ce%b3%ce%bd%ce%b1-%ce%b5%cf%85%ce%b1/
LOCATION:Webinar Παρουσίαση περιστατικών
CATEGORIES:Webinars παρουσίασης περιστατικών,Εκδηλώσεις E.E.E.
END:VEVENT
BEGIN:VEVENT
DTSTART;VALUE=DATE:20231124
DTEND;VALUE=DATE:20231127
DTSTAMP:20260423T150743
CREATED:20231124T112532Z
LAST-MODIFIED:20250116T130832Z
UID:20941-1700784000-1701043199@endo.gr
SUMMARY:37η Μετεκπαιδευτική Συνάντηση\, 24-26 Νοεμβρίου 2023\, Divani Palace Larissa\, Λάρισα
DESCRIPTION:Δείτε εδώ το πρόγραμμα \nΗ ΕΕΕ-ΠΕΕ διοργανώνει την 37η Μετεκπαιδευτική Συνάντηση\, από 24-26 Νοεμβρίου 2023\, στη Λάρισα (Divani Palace Larissa). \nΣτο Συνέδριο σύμφωνα με τα κριτήρια της UEMS – EACCME χορηγούνται 14\,5 μόρια Συνεχιζόμενης Ιατρικής Εκπαίδευσης (CME-CPD credits). \nΕγγραφή\nΕιδικευμένοι: 140 €\nΕιδικευόμενοι: 100 €\nNoσηλευτές: Δωρεάν\nΦοιτητές: Δωρεάν \nΣτο πλαίσιο της 37ης Μετεκπαιδευτικής Συνάντησης πραγματοποιήθηκε ενημερωτική Εκδήλωση για το κοινό με θέμα τον Σακχαρώδη Διαβήτη\, την Κυριακή 26 Νοεμβρίου 2023\, στο Ξενοδοχείο Dionisos.  \nΣακχαρώδης Διαβήτης: Εσείς ρωτάτε\, εμείς απαντάμε\nΠροεδρείο: Κουκούλης Γεώργιος\, Αν. Καθηγητής Παθολογίας-Ενδοκρινολογίας ΕΚΠΑ \n11:00 Σακχαρώδης Διαβήτης: Αίτια\, Συμπτώματα και Επιπλοκές\nΠαππά Δήμητρα Ενδοκρινολόγος \n11:15 Σακχαρώδης Διαβήτης: Πρόληψη και Αντιμετώπιση\nΓυφτάκη Ρεβέκκα Ενδοκρινολόγος\, Διδάκτωρ Ιατρικής Σχολής ΕΚΠΑ \n11:30 Η τεχνολογία στην υπηρεσία του Σακχαρώδη Διαβήτη\nΠάσχου Λίνα\, Ενδοκρινολόγος\, Επ. Καθηγήτρια Ενδοκρινολογίας ΕΚΠΑ \n11:45 Οι ψυχολογικές πτυχές του Διαβήτη\nΠαντελής Κωνσταντίνος Ψυχολόγος \nΓια περισσότερες πληροφορίες σχετικά με την εκδήλωση δείτε εδώ 
URL:https://endo.gr/en/event/37%ce%b7-%ce%bc%ce%b5%cf%84%ce%b5%ce%ba%cf%80%ce%b1%ce%b9%ce%b4%ce%b5%cf%85%cf%84%ce%b9%ce%ba%ce%ae-%cf%83%cf%85%ce%bd%ce%ac%ce%bd%cf%84%ce%b7%cf%83%ce%b7-24-26-%ce%bd%ce%bf%ce%b5%ce%bc%ce%b2%cf%81/
LOCATION:Divani Palace Larissa\, Λάρισα
CATEGORIES:Εκδηλώσεις E.E.E.
ATTACH;FMTTYPE=image/jpeg:https://endo.gr/wp-content/uploads/2025/01/Pages-from-37_Metekp-Sinantisi_2023-program-213x300-1.jpg
END:VEVENT
END:VCALENDAR