BEGIN:VCALENDAR
VERSION:2.0
PRODID:-//ENDO - ECPv6.15.14//NONSGML v1.0//EN
CALSCALE:GREGORIAN
METHOD:PUBLISH
X-WR-CALNAME:ENDO
X-ORIGINAL-URL:https://endo.gr/en
X-WR-CALDESC:Events for ENDO
REFRESH-INTERVAL;VALUE=DURATION:PT1H
X-Robots-Tag:noindex
X-PUBLISHED-TTL:PT1H
BEGIN:VTIMEZONE
TZID:Europe/Athens
BEGIN:DAYLIGHT
TZOFFSETFROM:+0200
TZOFFSETTO:+0300
TZNAME:EEST
DTSTART:20230326T010000
END:DAYLIGHT
BEGIN:STANDARD
TZOFFSETFROM:+0300
TZOFFSETTO:+0200
TZNAME:EET
DTSTART:20231029T010000
END:STANDARD
BEGIN:DAYLIGHT
TZOFFSETFROM:+0200
TZOFFSETTO:+0300
TZNAME:EEST
DTSTART:20240331T010000
END:DAYLIGHT
BEGIN:STANDARD
TZOFFSETFROM:+0300
TZOFFSETTO:+0200
TZNAME:EET
DTSTART:20241027T010000
END:STANDARD
BEGIN:DAYLIGHT
TZOFFSETFROM:+0200
TZOFFSETTO:+0300
TZNAME:EEST
DTSTART:20250330T010000
END:DAYLIGHT
BEGIN:STANDARD
TZOFFSETFROM:+0300
TZOFFSETTO:+0200
TZNAME:EET
DTSTART:20251026T010000
END:STANDARD
END:VTIMEZONE
BEGIN:VEVENT
DTSTART;VALUE=DATE:20241101
DTEND;VALUE=DATE:20241104
DTSTAMP:20260422T190141
CREATED:20241027T233529Z
LAST-MODIFIED:20241027T233616Z
UID:17969-1730502000-1730674799@endo.gr
SUMMARY:Διημερίδα Ενδοκρινολογίας\, 2-3 Νοεμβρίου 2024\, Hilton Nicosia
DESCRIPTION:  \nΔείτε εδώ το πρόγραμμα \nΑγαπητοί Συνάδελφοι\, \nH Ενδοκρινολογική Εταιρεία Κύπρου ανακοινώνει τη διοργάνωση της Διημερίδας Ενδοκρινολογίας\, η οποία θα πραγματοποιηθεί στις 2-3 Νοεμβρίου 2024 στο Hilton Nicosia.\nΗ διημερίδα έχει τεθεί υπό την αιγίδα του Παγκύπριου Ιατρικού Συλλόγου και έχει αξιολογηθεί με 6 μονάδες Συνεχιζόμενης Ιατρικής Εκπαίδευσης. \nΠραγματοποιείται σε συνεργασία με την Ογκολογική Εταιρεία Κύπρου και Παγκύπρια Μαιευτική και Γυναικολογική Εταιρεία. \nΗ θεματολογία του συνεδρίου καλύπτει ένα ευρύ φάσμα της Ενδοκρινολογίας και των συναφών κλάδων με διαλέξεις\, που αναδεικνύουν τις τελευταίες εξελίξεις στην έρευνα και τις θεραπευτικές προσεγγίσεις. Η συνεργασία με άλλες εταιρείες ενισχύει την διεπιστημονική ανταλλαγή απόψεων και εμπειριών συμβάλλοντας στη συνεχή βελτίωση της φροντίδας των ασθενών.\nΜπορείτε να δείτε το πρόγραμμα\, σημαντικές πληροφορίες και να πραγματοποιήσετε την εγγραφή σας σαρώνοντας τον κωδικό που ακολουθεί\, \n \n  \nή στην ιστοσελίδα του συνεδρίου μας https://cubix.com.cy/endo24/
URL:https://endo.gr/en/event/%ce%b4%ce%b9%ce%b7%ce%bc%ce%b5%cf%81%ce%af%ce%b4%ce%b1-%ce%b5%ce%bd%ce%b4%ce%bf%ce%ba%cf%81%ce%b9%ce%bd%ce%bf%ce%bb%ce%bf%ce%b3%ce%af%ce%b1%cf%82-2-3-%ce%bd%ce%bf%ce%b5%ce%bc%ce%b2%cf%81%ce%af%ce%bf/
ATTACH;FMTTYPE=image/png:https://endo.gr/wp-content/uploads/2024/10/Screenshot-from-2024-10-28-00.34.38.png
END:VEVENT
BEGIN:VEVENT
DTSTART;VALUE=DATE:20241106
DTEND;VALUE=DATE:20241110
DTSTAMP:20260422T190141
CREATED:20241027T234215Z
LAST-MODIFIED:20250130T073702Z
UID:17973-1730934000-1731193199@endo.gr
SUMMARY:24ο ΠΑΝΕΛΛΗΝΙΟ ΣΥΝΕΔΡΙΟ ΥΠΕΡΤΑΣΗΣ\, 7-9 Νοεμβρίου 2024\, Grand Hyatt\, Αθήνα
DESCRIPTION:Ημερομηνία – 07/11/2024 – 09/11/2024 \n  \n \nΓια περισσότερες πληροφορίες δείτε εδώ. \n 
URL:https://endo.gr/en/event/24%ce%bf-%cf%80%ce%b1%ce%bd%ce%b5%ce%bb%ce%bb%ce%b7%ce%bd%ce%b9%ce%bf-%cf%83%cf%85%ce%bd%ce%b5%ce%b4%cf%81%ce%b9%ce%bf-%cf%85%cf%80%ce%b5%cf%81%cf%84%ce%b1%cf%83%ce%b7%cf%82-7-9-%ce%bd%ce%bf%ce%b5/
CATEGORIES:Άλλων Εταιρειών
ATTACH;FMTTYPE=image/png:https://endo.gr/wp-content/uploads/2024/10/9ed9b99be5eb00e04c0ec19bf287fdcd2b6c086b1bc12fb9f6a3bec74cb71d30-300x300-1.png
END:VEVENT
BEGIN:VEVENT
DTSTART;VALUE=DATE:20241121
DTEND;VALUE=DATE:20241125
DTSTAMP:20260422T190141
CREATED:20241027T234649Z
LAST-MODIFIED:20241124T205604Z
UID:17979-1732230000-1732489199@endo.gr
SUMMARY:38η Μετεκπαιδευτική Συνάντηση\, 22-24 Νοεμβρίου 2024\, Grand Serai Hotel\, Ιωάννινα
DESCRIPTION:  \nΠρόγραμμα 38ης Μετεκπαιδευτικής Συνάντησης\nΠρόγραμμα 38ης Μετεκπαιδευτικής Συνάντησης\n \n  \nΗ ΕΕΕ-ΠΕΕ διοργανώνει την 38η Μετεκπαιδευτική Συνάντηση\, από 22-24 Νοεμβρίου 2024\, στα Ιωάννινα\, στο Grand Serai Hotel. \nΚόστος εγγραφής:\nΕιδικευμένοι: 140€\nΕιδικευόμενοι: 100€\nΝοσηλευτές: Δωρεάν\nΦοιτητές: Δωρεάν \nΣτο Συνέδριο σύμφωνα με τα κριτήρια της UEMS – EACCME χορηγούνται μόρια Συνεχιζόμενης Ιατρικής Εκπαίδευσης (CME-CPD credits). \n 
URL:https://endo.gr/en/event/38%ce%b7-%ce%bc%ce%b5%cf%84%ce%b5%ce%ba%cf%80%ce%b1%ce%b9%ce%b4%ce%b5%cf%85%cf%84%ce%b9%ce%ba%ce%ae-%cf%83%cf%85%ce%bd%ce%ac%ce%bd%cf%84%ce%b7%cf%83%ce%b7-22-24-%ce%bd%ce%bf%ce%b5%ce%bc%ce%b2%cf%81/
LOCATION:Ιωάννινα\, Ιωάννινα\, Greece
CATEGORIES:Εκδηλώσεις E.E.E.,Μετεκπαιδευτικά Μαθήματα Ενδοκρινολογίας
ATTACH;FMTTYPE=image/webp:https://endo.gr/wp-content/uploads/2024/10/cover-2024-002-scaled-1.webp
END:VEVENT
BEGIN:VEVENT
DTSTART;VALUE=DATE:20241121
DTEND;VALUE=DATE:20241125
DTSTAMP:20260422T190141
CREATED:20241027T234814Z
LAST-MODIFIED:20250130T073829Z
UID:17982-1732230000-1732489199@endo.gr
SUMMARY:Ετήσιο Μετεκπαιδευτικό Σεμινάριο Ανοσολογίας 2024
DESCRIPTION:  \nΕκ μέρους του Διοικητικού Συμβουλίου της Ε.Ε.Α.\, δείτε εδώ σχετική επιστολή με πληροφορίες αναφορικά με το Ετήσιο Μετεκπαιδευτικό Σεμινάριο Ανοσολογίας 2024. \nΔείτε εδώ την επιστολή
URL:https://endo.gr/en/event/%ce%b5%cf%84%ce%ae%cf%83%ce%b9%ce%bf-%ce%bc%ce%b5%cf%84%ce%b5%ce%ba%cf%80%ce%b1%ce%b9%ce%b4%ce%b5%cf%85%cf%84%ce%b9%ce%ba%cf%8c-%cf%83%ce%b5%ce%bc%ce%b9%ce%bd%ce%ac%cf%81%ce%b9%ce%bf-%ce%b1%ce%bd/
CATEGORIES:Άλλων Εταιρειών
ATTACH;FMTTYPE=image/jpeg:https://endo.gr/wp-content/uploads/2024/10/8.β-poster-anosologia1_-scaled-1.jpg
END:VEVENT
END:VCALENDAR