BEGIN:VCALENDAR
VERSION:2.0
PRODID:-//ENDO - ECPv6.15.14//NONSGML v1.0//EN
CALSCALE:GREGORIAN
METHOD:PUBLISH
X-ORIGINAL-URL:https://endo.gr/en
X-WR-CALDESC:Events for ENDO
REFRESH-INTERVAL;VALUE=DURATION:PT1H
X-Robots-Tag:noindex
X-PUBLISHED-TTL:PT1H
BEGIN:VTIMEZONE
TZID:Europe/Athens
BEGIN:DAYLIGHT
TZOFFSETFROM:+0200
TZOFFSETTO:+0300
TZNAME:EEST
DTSTART:20230326T010000
END:DAYLIGHT
BEGIN:STANDARD
TZOFFSETFROM:+0300
TZOFFSETTO:+0200
TZNAME:EET
DTSTART:20231029T010000
END:STANDARD
BEGIN:DAYLIGHT
TZOFFSETFROM:+0200
TZOFFSETTO:+0300
TZNAME:EEST
DTSTART:20240331T010000
END:DAYLIGHT
BEGIN:STANDARD
TZOFFSETFROM:+0300
TZOFFSETTO:+0200
TZNAME:EET
DTSTART:20241027T010000
END:STANDARD
BEGIN:DAYLIGHT
TZOFFSETFROM:+0200
TZOFFSETTO:+0300
TZNAME:EEST
DTSTART:20250330T010000
END:DAYLIGHT
BEGIN:STANDARD
TZOFFSETFROM:+0300
TZOFFSETTO:+0200
TZNAME:EET
DTSTART:20251026T010000
END:STANDARD
END:VTIMEZONE
BEGIN:VEVENT
DTSTART;VALUE=DATE:20241207
DTEND;VALUE=DATE:20241208
DTSTAMP:20260422T135350
CREATED:20241124T204435Z
LAST-MODIFIED:20241124T204435Z
UID:20034-1733529600-1733615999@endo.gr
SUMMARY:BIRMINGHAM PITUITARY PRECEPTORSHIP INTERNATIONAL MEETING 2024
DESCRIPTION:Η Ομάδα Υπόφυσης του Πανεπιστημίου του Birmingham και του Queen Elizabeth Hospital Birmingham οργανώνει για 10η συνεχή χρονιά το BIRMINGHAM PITUITARY PRECEPTORSHIP INTERNATIONAL MEETING 2024 στις 7 Δεκεμβρίου 2024. Το meeting περιλαμβάνει διαλέξεις και case-based learning πάνω στη διάγνωση και την αντιμετώπιση νοσημάτων της υπόφυσης και απευθύνεται σε ειδικευόμενους και ειδικευμένους ενδοκρινολόγους που ενδιαφέρονται για το αντικείμενο. Θεωρείται επίσης ως ένα από τα πιο πετυχημένα στον τομέα του σε Ευρωπαικό επίπεδο με αυξημένη ζήτηση και πλήρη κάλυψη των διαθέσιμων θέσεων. \nΔείτε εδώ το πρόγραμμα
URL:https://endo.gr/en/event/birmingham-pituitary-preceptorship-international-meeting-2024/
LOCATION:University of Birmingham\, Birmingham B15 2TT\, United Kingdom\, Birmingham\, United Kingdom
CATEGORIES:Διεθνείς Εκδηλώσεις
ATTACH;FMTTYPE=image/webp:https://endo.gr/wp-content/uploads/2024/11/FINAL-Programme-Birmingham-Pituitary-Preceptorship-International-Meeting-2024-002.webp
END:VEVENT
BEGIN:VEVENT
DTSTART;VALUE=DATE:20241207
DTEND;VALUE=DATE:20241208
DTSTAMP:20260422T135350
CREATED:20241124T205147Z
LAST-MODIFIED:20241124T205215Z
UID:20039-1733529600-1733615999@endo.gr
SUMMARY:14η Ημερίδα για την Εφηβεία
DESCRIPTION:Δείτε εδώ το πρόγραμμα \nΑγαπητές και αγαπητοί συνάδελφοι\, φίλες και φίλοι\,\nΣας καλωσορίζουμε στην 14η Ημερίδα για την Εφηβεία που διοργανώνεται από το Πρόγραμμα Μεταπτυχιακών Σπουδών «Εφηβική Ιατρική και Φροντίδα Υγείας Εφήβων» του Τμήματος Ιατρικής της Σχολής Επιστημών Υγείας ΑΠΘ σε συνεργασία με την Β΄ Παιδιατρική Κλινική ΑΠΘ\, ΠΓΝΘ ΑΧΕΠΑ.\nΗ ημερίδα μας διανύει ήδη την εφηβική της ηλικία και δεν θα μπορούσε να μην την απασχολούν επίκαιρα αναδυόμενα προβλήματα της ηλικίας αυτής. Έτσι λοιπόν τα θέματα της ημερίδας αφορούν στις νέες αναδυόμενες νοσηρότητες που σχετίζονται με το lifestyle των εφήβων\, όπως το ακουστικ τραύμα και η θορυβογενής απώλεια ακοής\, η ψηφιακή καταπόνηση των οφθαλμών\, η κύφωση και η αυχεναλγία. Στην κεντρική ομιλία της ημερίδας θα αναπτυχθεί ο αντίκτυπος της Τεχνητής Νοημοσύνης στους εφήβους. Θα αναπτυχθούν επίσης τα πιο κοινά κοινωνικά ζητήματα που «ταλαιπωρούν» τους εφήβους του σήμερα: κοινωνικά δίκτυα\, βία\, πίεση συνομηλίκων\, εκφοβισμός\, αλκοόλ\, συναισθηματικές επιπτώσεις λόγω ακαδημαϊκών προβλημάτων. Τα θέματα της Ημερίδας παρουσιάζονται από εξαίρετους επιστήμονες με ενδιαφέρον και εμπειρία σε ζητήματα εφήβων καθώς και από φοιτητές του ΠΜΣ «Εφηβική Ιατρική και Φροντίδα Υγείας Εφήβων».\nΗ 14η Ημερίδα για την Εφηβεία απευθύνεται σε παιδιάτρους\, γενικούς ιατρούς\, ειδικευόμενους\nπαιδιατρικής και γενικής ιατρικής\, νοσηλευτές\, άλλους επαγγελματίες υγείας όπως επίσης σε\nψυχολόγους\, εκπαιδευτικούς\, κοινωνικούς λειτουργούς\, φοιτητές αλλά και κάθε επιστήμονα που\nασχολείται με τον έφηβο.\nΣας περιμένουμε και ευελπιστούμε να ανταποκριθούμε στις προσδοκίες σας.\nΜε τιμή\nΑσημίνα Γαλλή-Τσινοπούλου\nΔιευθύντρια του ΠΜΣ «Εφηβική Ιατρική και Φροντίδα Υγείας Εφήβων»
URL:https://endo.gr/en/event/14%ce%b7-%ce%b7%ce%bc%ce%b5%cf%81%ce%af%ce%b4%ce%b1-%ce%b3%ce%b9%ce%b1-%cf%84%ce%b7%ce%bd-%ce%b5%cf%86%ce%b7%ce%b2%ce%b5%ce%af%ce%b1/
LOCATION:ΑΡΙΣΤΟΤΕΛΕΙΟ ΠΑΝΕΠΙΣΤΗΜΙΟ ΘΕΣΣΑΛΟΝΙΚΗΣ\, Thessaloniki\, 541 24\, Greece
CATEGORIES:Άλλων Εταιρειών
ATTACH;FMTTYPE=image/webp:https://endo.gr/wp-content/uploads/2024/11/A5_14ο-EFIBEIAS-2_Page_1.webp
END:VEVENT
BEGIN:VEVENT
DTSTART;VALUE=DATE:20241213
DTEND;VALUE=DATE:20241215
DTSTAMP:20260422T135350
CREATED:20241117T115051Z
LAST-MODIFIED:20241209T111427Z
UID:19055-1734130800-1734217199@endo.gr
SUMMARY:Πυρηνική Ιατρική στην Ενδοκρινολογία\, Αίθουσα "Δώμα" ΓΝΑ "Ευαγγελισμός"
DESCRIPTION:Ξεκίνησε η αντίστροφη μέτρηση για την επιστημονική ημερίδα με τίτλο «Πυρηνική Ιατρική στην Ενδοκρινολογία»\, την οποία διοργανώνει η Ελληνική Εταιρεία Πυρηνικής Ιατρικής & Μοριακής Απεικόνισης (ΕΕΠΙ&ΜΑ)\, σε συνεργασία με την Ελληνική Ενδοκρινολογική Εταιρεία | Πανελλήνια Ένωση Ενδοκρινολόγων. \nΗ εκδήλωση θα πραγματοποιηθεί στην Αθήνα\, στην αίθουσα «Δώμα» του Γ.Ν.Α «Ο Ευαγγελισμός»\, το Σάββατο\, 14 Δεκεμβρίου 2024\, με ώρα προσέλευσης 09:30. Η συμμετοχή στην ημερίδα είναι δωρεάν. \n\nΗμερίδα Συνεχιζόμενης Εκπαίδευσης | Πυρηνική Ιατρική στην Ενδοκρινολογία\nΣάββατο\, 14 Δεκεμβρίου 2024 | «Δώμα» | Γ.Ν.Α. Ο Ευαγγελισμός \n 
URL:https://endo.gr/en/event/%cf%80%cf%85%cf%81%ce%b7%ce%bd%ce%b9%ce%ba%ce%ae-%ce%b9%ce%b1%cf%84%cf%81%ce%b9%ce%ba%ce%ae-%cf%83%cf%84%ce%b7%ce%bd-%ce%b5%ce%bd%ce%b4%ce%bf%ce%ba%cf%81%ce%b9%ce%bd%ce%bf%ce%bb%ce%bf%ce%b3%ce%af/
CATEGORIES:Εκδηλώσεις E.E.E.,Συνδιοργάνωση με την Εταιρεία
ATTACH;FMTTYPE=image/png:https://endo.gr/wp-content/uploads/2024/11/PYRHNIKH-ENDOKRINOLOGIA.png
END:VEVENT
BEGIN:VEVENT
DTSTART;TZID=Europe/Athens:20241214T100000
DTEND;TZID=Europe/Athens:20241214T130000
DTSTAMP:20260422T135350
CREATED:20241206T125320Z
LAST-MODIFIED:20241209T103207Z
UID:20682-1734170400-1734181200@endo.gr
SUMMARY:Webinar ΕΕΕ-ΠΕΕ Παρουσιάσεις Περιστατικών: ΠΓΝ «ΑΤΤΙΚΟΝ»\,  ΝΠΑ «Η ΑΓΙΑ ΣΟΦΙΑ» \,  ΓΝΑ «ΑΛΕΞΑΝΔΡΑ»
DESCRIPTION:Αγαπητοί Συνάδελφοι\, \nΤο Σάββατο 14/12/2024 στις 10.00 π.μ. πραγματοποιείται το Webinar της Ελληνικής Ενδοκρινολογικής Εταιρείας\, στο πλαίσιο των μετεκπαιδευτικών της μαθημάτων μέσω διαδικτύου για το 2024. \n1ο Περιστατικό: ΠΓΝ «ΑΤΤΙΚΟΝ»\, ΣΑΒΒΑTO 14/12/2024\, ΩΡΑ 10:00 – 10:45. \nΤίτλος: Μετάσταση στην υπόφυση\, σε ασθενή με καρκίνο πνεύμονα\, επι εδάφους υποφυσίτιδας από ανσοθεραπεία \nΠερίληψη: Ασθενής 63 ετών με καρκίνο πνεύμονα (NSCLC σταδίου IV) \, παρουσιάζει υποφυσίτιδα από ανοσοθεραπεία\, υποφυσιακή ανεπάρκεια για την οποία έλαβε ορμονική υποκατάσταση και μετά διάστημα μηνών\, μετάσταση στον πρόσθιο λοβό της υπόφυσης. \nΥπεύθυνη: Μελπομένη Πέππα\, Καθηγήτρια Ενδοκρινολογίας\, Ιατρική Σχολή ΕΚΠΑ\, Υπεύθυνη Μονάδος Ενδοκρινολογίας και Μεταβολικών Παθήσεων των Οστών\, Β’ Προπαιδευτική Παθολογική Κλινική Π.Γ.Ν. “ΑΤΤΙΚΟΝ” & Γ’ Πανεπιστημιακή Παθολογική Κλινική Γ.Ν. “ΣΩΤΗΡΙΑ” \nΠαρουσίαση: Μαρία Γερογιάννη\, Ειδικευόμενη Ενδοκρινολογίας\, Β’ Προπαιδευτική Παθολογική Κλινική Π.Γ.Ν. “ΑΤΤΙΚΟΝ”\nΣοφία Ντουράκη\, Ειδικευόμενη Παθολογίας\, Γ’ Πανεπιστημιακή Παθολογική Κλινική και Ομώνυμο Εργαστήριο\, Γ.Ν.Ν.Θ.Α. «Η Σωτηρία» \nΣχολιασμός: Γεώργιος Ευαγγέλου\nΠαθολόγος-Ογκολόγος\,\nΓ’ Πανεπιστημιακή Παθολογική Κλινική και Ομώνυμο Εργαστήριο\, Γ.Ν.Ν.Θ.Α. «Η Σωτηρία» \n2ο Περιστατικό: ΝΠΑ «Η ΑΓΙΑ ΣΟΦΙΑ»\, ΣΑΒΒΑTO 14/12/2024\, ΩΡΑ 10:45 – 11:30. \nΤίτλος: Η διαχρονική παρακολούθηση αγοριού με ατελή αρρενοποίηση και επινεφριδιακή ανεπάρκεια. Πώς μπορεί να συμπληρωθεί ένα διαγνωστικό παζλ. \nΠερίληψη περιστατικού: Παρουσιάζεται αγόρι πρόωρο με χαμηλό βάρος γέννησης για την ηλικία κύησης\, ατελή αρρενοποίηση και επινεφριδιακή ανεπάρκεια από τις πρώτες μέρες ζωής. Ακολουθεί συστηματική ενδοκρινολογική παρακολούθηση και γενετική διερεύνηση. Στα πρώτα έτη ζωής έχει πολλαπλές νοσηλείες λόγω εμέτων και διαρροιών. Σε χρονολογική ηλικία 9 ετών διαπιστώνεται αχαλασία οισοφάγου και λόγω επεισοδίων πρωτεϊνουρίας γίνεται βιοψία νεφρού και διαπιστώνεται εστιακή σπειραματοσκλήρυνση. Σε ηλικία 16 ετών\, εμφανίζει νεφρωσικού τύπου λευκωματουρία ανθεκτική στα κορτικοστεροειδή\, και ολοκληρώνεται το διαγνωστικό παζλ. \nΥπεύθυνη: Χριστίνα Κανακά-Gantenbein\, MD\, PhD\, FMH (CH)\, Καθηγήτρια Παιδιατρικής-Παιδιατρικής Ενδοκρινολογίας Διευθύντρια Α’ Παιδιατρικής Κλινικής και Χωρεμείου Ερευνητικού Εργαστηρίου Ιατρικής Σχολής Εθνικού και Καποδιστριακού Πανεπιστημίου Αθηνών Επιστημονική Υπεύθυνη του Διαβητολογικού Κέντρου και της Μονάδας Ενδοκρινολογίας\, Μεταβολισμού και Διαβήτη της Α’ Παιδιατρικής Κλινικής Ιατρικής Σχολής Εθνικού και Καποδιστριακού Πανεπιστημίου Αθηνών Νοσοκομείο Παίδων “Η Αγία Σοφία” \nΠαρουσίαση: Φαράκλα Ιωάννα\, MD\, PhD\, Παιδίατρος\, Επικουρική επιμελήτρια Ά Παιδιατρική Κλινική ΕΚΠΑ\, Μονάδα Ενδοκρινολογίας\, Μεταβολισμού και Σακχαρώδους Διαβήτη\, Κέντρο Εμπειρογνωμοσύνης Σπανίων Νοσημάτων\, Παίδων «Η Αγία-Σοφία» \nΣχολιασμός: Αμαλία Σερτεδάκη\, Ε.ΔΙ.Π.\, Εργαστήριο Μοριακής Ενδοκρινολογίας\, Α’ Παιδιατρικής Κλινικής Ιατρικής Σχολής Ε.Κ.Π.Α.\, Νοσοκομείο Παίδων “Η Αγία Σοφία”. \n3ο Περιστατικό: ΓΝΑ «ΑΛΕΞΑΝΔΡΑ»\, ΣΑΒΒΑTO 14/12/2024\, ΩΡΑ 11:30 – 12:15. \nΤίτλος: Διάγνωση σπάνιου υπότυπου MODY στη διάρκεια της κύησης \nΠερίληψη περιστατικού: Πρόκειται για γυναίκα 30 ετών\, στην 8η εβδομάδα κύησης\, που παραπέμφθηκε στο ιατρείο διαβήτη κύησης του νοσοκομείου μας για παρακολούθηση στα πλαίσια αναφερόμενου προϋπάρχοντα ΣΔ τύπου ΙΙ. Τέθηκε η υποψία και στη συνέχεια η διάγνωση μονογονιδιακού διαβήτη τύπου MODY 12\, κατόπιν γονιδιακού ελέγχου. Ο MODY αποτελεί μόλις το 1-2% του συνόλου των διαβητικών ασθενών παγκοσμίως με τον πολύ σπάνιο υπότυπο MODY12 να απαρριθμεί <1% αυτών. Οι κυήσεις που επιπλέκονται με την ύπαρξη ΣΔ-MODY αποτελούν πρόκληση στη διαχείριση με καίρια σημεία την πρόληψη των μητρικών και νεογνικών επιπλοκών. \nΥπεύθυνη: Βασιλική Βασιλείου\, Συντονίστρια Διευθύντρια Ενδοκρινολογικού Τμήματος-Διαβητολογικού Κέντρου Γ.Ν.Α. «Αλεξάνδρα» \nΠαρουσίαση: Ελένη Κορακιανίτη\, ειδικευόμενη Ενδοκρινολογίας\, Ενδοκρινολογικό Τμήμα-Διαβητολογικό Κέντρο Γ.Ν.Α. «Αλεξάνδρα» \nΣυντονισμός: Μαρίνα Μητροπούλου\, Επιμελήτρια Β’ Ενδοκρινολογικού Τμήματος-Διαβητολογικού Κέντρου Γ.Ν.Α. «Αλεξάνδρα» \nΣχολιασμός: Ευτυχία Κούκκου\, MD\, PhD\, Ενδοκρινολόγος\, Συντονίστρια Διευθύντρια τμήματος Ενδοκρινολογίας\, Διαβήτη και Μεταβολισμού\, Γενικό Νοσοκομείο-Μαιευτήριο\n“Έλενα Βενιζέλου. \nΠροκειμένου να παρακολουθήσετε ελεύθερα το webinar\, μπορείτε να προεγγραφείτε μέσω της διεύθυνσης: \nhttps://us06web.zoom.us/webinar/register/WN_fcs-HKYMSzuPuIQdlX2A7Q \nσυμπληρώνοντας το ονοματεπώνυμό σας και το email σας στη φόρμα εγγραφής\, ώστε να λάβετε αυτόματα ένα νέο e-mail που θα περιέχει τον σύνδεσμο (link) μέσω του οποίου θα μεταδοθεί το webinar. \nΠροσβλέποντας πάντα στην πολύτιμη ενεργό συμμετοχή σας. \nΓια την Ελληνική Ενδοκρινολογική Εταιρεία. \nΜε εκτίμηση\, \nΟ ΠΡΟΕΔΡΟΣ\nΝ. Γεωργόπουλος \nΗ ΓΕΝ. ΓΡΑΜΜΑΤΕΑΣ\nΒ. Βασιλείου \n 
URL:https://endo.gr/en/event/webinar-%ce%b5%ce%b5%ce%b5-%cf%80%ce%b5%ce%b5-%cf%80%ce%b1%cf%81%ce%bf%cf%85%cf%83%ce%b9%ce%ac%cf%83%ce%b5%ce%b9%cf%82-%cf%80%ce%b5%cf%81%ce%b9%cf%83%cf%84%ce%b1%cf%84%ce%b9%ce%ba%cf%8e%ce%bd-%cf%80/
LOCATION:Ελληνικη Ενδοκρινολογικη Εταιρεια\, Leof. Alexandras 14\, Athens\, 106 82\, Greece
CATEGORIES:Webinars παρουσίασης περιστατικών,Εκδηλώσεις E.E.E.
ATTACH;FMTTYPE=image/jpeg:https://endo.gr/wp-content/uploads/2024/12/Endokrinologiki_logo_GR.jpg
ORGANIZER;CN="%CE%95%CE%BB%CE%BB%CE%B7%CE%BD%CE%B9%CE%BA%CE%AE %CE%95%CE%BD%CE%B4%CE%BF%CE%BA%CF%81%CE%B9%CE%BD%CE%BF%CE%BB%CE%BF%CE%B3%CE%B9%CE%BA%CE%AE %CE%95%CF%84%CE%B1%CE%B9%CF%81%CE%B5%CE%AF%CE%B1":MAILTO:info@endo.gr
END:VEVENT
END:VCALENDAR