BEGIN:VCALENDAR
VERSION:2.0
PRODID:-//ENDO - ECPv6.15.14//NONSGML v1.0//EN
CALSCALE:GREGORIAN
METHOD:PUBLISH
X-WR-CALNAME:ENDO
X-ORIGINAL-URL:https://endo.gr
X-WR-CALDESC:Events for ENDO
REFRESH-INTERVAL;VALUE=DURATION:PT1H
X-Robots-Tag:noindex
X-PUBLISHED-TTL:PT1H
BEGIN:VTIMEZONE
TZID:Europe/Athens
BEGIN:DAYLIGHT
TZOFFSETFROM:+0200
TZOFFSETTO:+0300
TZNAME:EEST
DTSTART:20250330T010000
END:DAYLIGHT
BEGIN:STANDARD
TZOFFSETFROM:+0300
TZOFFSETTO:+0200
TZNAME:EET
DTSTART:20251026T010000
END:STANDARD
BEGIN:DAYLIGHT
TZOFFSETFROM:+0200
TZOFFSETTO:+0300
TZNAME:EEST
DTSTART:20260329T010000
END:DAYLIGHT
BEGIN:STANDARD
TZOFFSETFROM:+0300
TZOFFSETTO:+0200
TZNAME:EET
DTSTART:20261025T010000
END:STANDARD
BEGIN:DAYLIGHT
TZOFFSETFROM:+0200
TZOFFSETTO:+0300
TZNAME:EEST
DTSTART:20270328T010000
END:DAYLIGHT
BEGIN:STANDARD
TZOFFSETFROM:+0300
TZOFFSETTO:+0200
TZNAME:EET
DTSTART:20271031T010000
END:STANDARD
END:VTIMEZONE
BEGIN:VEVENT
DTSTART;VALUE=DATE:20260214
DTEND;VALUE=DATE:20260216
DTSTAMP:20260419T172002
CREATED:20260115T125838Z
LAST-MODIFIED:20260205T082710Z
UID:25810-1771027200-1771199999@endo.gr
SUMMARY:1ο Σχολείο Ενδοκρινολογίας (Παχυσαρκία)
DESCRIPTION:Σας ενημερώνουμε ότι η Ελληνική Ενδοκρινολογική Εταιρεία προτίθεται να διοργανώσει Κύκλο Μαθημάτων με τίτλο “Σχολεία Ενδοκρινολογίας” με συμμετοχή 40 Ε.Υ. σε κάθε εκδήλωση. \nΤο 1ο Σχολείο Ενδοκρινολογίας (Παχυσαρκία)\, θα πραγματοποιηθεί στην Αθήνα\, στο Ξενοδοχείο Royal Olympic\, από 14-15 Φεβρουαρίου 2026.
URL:https://endo.gr/event/1%ce%bf-%cf%83%cf%87%ce%bf%ce%bb%ce%b5%ce%af%ce%bf-%ce%b5%ce%bd%ce%b4%ce%bf%ce%ba%cf%81%ce%b9%ce%bd%ce%bf%ce%bb%ce%bf%ce%b3%ce%af%ce%b1%cf%82-%cf%80%ce%b1%cf%87%cf%85%cf%83%ce%b1%cf%81%ce%ba%ce%af/
LOCATION:Royal Olympic\, Αθανασίου Διάκου 28\, Athens\, Attiki\, 11743\, Greece
CATEGORIES:Εκδηλώσεις E.E.E.,Κύκλοι Εντατικής Εκπαίδευσης
ATTACH;FMTTYPE=image/jpeg:https://endo.gr/wp-content/uploads/2026/01/Obesity_program-Extract1-conv-1.jpeg
END:VEVENT
BEGIN:VEVENT
DTSTART;VALUE=DATE:20260227
DTEND;VALUE=DATE:20260301
DTSTAMP:20260419T172002
CREATED:20260115T124614Z
LAST-MODIFIED:20260210T113725Z
UID:25802-1772150400-1772323199@endo.gr
SUMMARY:2ο Σχολείο Ενδοκρινολογίας (Σακχαρώδης Διαβήτης)
DESCRIPTION:Σας ενημερώνουμε ότι η Ελληνική Ενδοκρινολογική Εταιρεία προτίθεται να διοργανώσει Κύκλο Μαθημάτων με τίτλο “Σχολεία Ενδοκρινολογίας” με συμμετοχή 40 Ε.Υ. σε κάθε εκδήλωση. \nΤο 2ο Σχολείο Ενδοκρινολογίας (Σακχαρώδης Διαβήτης)\, θα πραγματοποιηθεί στην Τρίπολη\, από 27-28 Φεβρουαρίου 2026\, στο Πετροπούλειο Κληροδότημα.
URL:https://endo.gr/event/2%ce%bf-%cf%83%cf%87%ce%bf%ce%bb%ce%b5%ce%af%ce%bf-%ce%b5%ce%bd%ce%b4%ce%bf%ce%ba%cf%81%ce%b9%ce%bd%ce%bf%ce%bb%ce%bf%ce%b3%ce%af%ce%b1%cf%82-%cf%83%ce%b1%ce%ba%cf%87%ce%b1%cf%81%cf%8e%ce%b4%ce%b7/
LOCATION:Πετροπούλειο Κληροδότημα\, Σπετσερόπουλου 6\, Τρίπολη\, 22100\, Greece
CATEGORIES:Εκδηλώσεις E.E.E.,Κύκλοι Εντατικής Εκπαίδευσης
ATTACH;FMTTYPE=image/jpeg:https://endo.gr/wp-content/uploads/2026/01/Tripoli_program-Extract1-conv-1.jpeg
END:VEVENT
END:VCALENDAR