BEGIN:VCALENDAR
VERSION:2.0
PRODID:-//ENDO - ECPv6.15.14//NONSGML v1.0//EN
CALSCALE:GREGORIAN
METHOD:PUBLISH
X-WR-CALNAME:ENDO
X-ORIGINAL-URL:https://endo.gr
X-WR-CALDESC:Events for ENDO
REFRESH-INTERVAL;VALUE=DURATION:PT1H
X-Robots-Tag:noindex
X-PUBLISHED-TTL:PT1H
BEGIN:VTIMEZONE
TZID:Europe/Athens
BEGIN:DAYLIGHT
TZOFFSETFROM:+0200
TZOFFSETTO:+0300
TZNAME:EEST
DTSTART:20240331T010000
END:DAYLIGHT
BEGIN:STANDARD
TZOFFSETFROM:+0300
TZOFFSETTO:+0200
TZNAME:EET
DTSTART:20241027T010000
END:STANDARD
BEGIN:DAYLIGHT
TZOFFSETFROM:+0200
TZOFFSETTO:+0300
TZNAME:EEST
DTSTART:20250330T010000
END:DAYLIGHT
BEGIN:STANDARD
TZOFFSETFROM:+0300
TZOFFSETTO:+0200
TZNAME:EET
DTSTART:20251026T010000
END:STANDARD
BEGIN:DAYLIGHT
TZOFFSETFROM:+0200
TZOFFSETTO:+0300
TZNAME:EEST
DTSTART:20260329T010000
END:DAYLIGHT
BEGIN:STANDARD
TZOFFSETFROM:+0300
TZOFFSETTO:+0200
TZNAME:EET
DTSTART:20261025T010000
END:STANDARD
END:VTIMEZONE
BEGIN:VEVENT
DTSTART;TZID=Europe/Athens:20250118T080000
DTEND;TZID=Europe/Athens:20250510T170000
DTSTAMP:20260422T024142
CREATED:20241217T114223Z
LAST-MODIFIED:20241217T134827Z
UID:20783-1737187200-1746896400@endo.gr
SUMMARY:Μαθήματα Εργαστηριακής Ανδρολογίας
DESCRIPTION:Το εργαστήριο Ιστολογίας-Εμβρυολογίας συνεχίζει και το 2025 την σειρά μαθημάτων με θέμα την εργαστηριακή διερεύνηση της ανδρικής γονιμότητας\, που ξεκίνησε το 2013. Τα μαθήματα αυτά έχουν θεωρητικό και πρακτικό μέρος και φέτος θα υπάρχει και hands-on εξάσκηση για τις παραμέτρους του σπερμοδιαγράμματος. \nΘεοδοσία Ζεγκινιάδου\nΥπεύθυνη Μαθημάτων
URL:https://endo.gr/event/%ce%bc%ce%b1%ce%b8%ce%ae%ce%bc%ce%b1%cf%84%ce%b1-%ce%b5%cf%81%ce%b3%ce%b1%cf%83%cf%84%ce%b7%cf%81%ce%b9%ce%b1%ce%ba%ce%ae%cf%82-%ce%b1%ce%bd%ce%b4%cf%81%ce%bf%ce%bb%ce%bf%ce%b3%ce%af%ce%b1%cf%82/
LOCATION:ATTIKI
CATEGORIES:Άλλων Εταιρειών,Υπό την αιγίδα της Εταιρείας
ATTACH;FMTTYPE=image/jpeg:https://endo.gr/wp-content/uploads/2024/12/ΕΚΠΑ-2025.jpg
END:VEVENT
BEGIN:VEVENT
DTSTART;VALUE=DATE:20250306
DTEND;VALUE=DATE:20250309
DTSTAMP:20260422T024142
CREATED:20250113T130219Z
LAST-MODIFIED:20250113T130503Z
UID:20833-1741219200-1741478399@endo.gr
SUMMARY:19ο Πανελλήνιο Ιατρικό Συνέδριο Παχυσαρκίας
DESCRIPTION:Σας ενημερώνουμε για το 19ο Πανελλήνιο Ιατρικό Συνέδριο Παχυσαρκίας που διοργανώνει η Ελληνική Ιατρική Εταιρεία Παχυσαρκίας\, στις 6-8 Μαρτίου 2025\, στο ξενοδοχείο Royal Olympic στην Αθήνα. \nΔείτε εδώ την επίσημη ιστοσελίδα του Συνεδρίου www.eiepcongress2025.gr \nΤο συνέδριο τελεί υπό την αιγίδα των διεθνών οργανισμών European Association for the Study of Obesity (EASO)\, World Obesity Federation (WOF) & European Lifestyle Medicine Organization (ELMO) καθώς και Ελληνικών Φορέων. \nΓια οποιαδήποτε πληροφορία μπορείτε να ανατρέξετε στο www.eiepcongress2025.gr ή/και να επικοινωνήσετε με την Εταιρεία Διοργάνωσης Συνεδρίου\, CONVIN Α.Ε.\, email: info@eiepcongress2025.gr\, Τηλ: 210 6833600.
URL:https://endo.gr/event/19%ce%bf-%cf%80%ce%b1%ce%bd%ce%b5%ce%bb%ce%bb%ce%ae%ce%bd%ce%b9%ce%bf-%ce%b9%ce%b1%cf%84%cf%81%ce%b9%ce%ba%cf%8c-%cf%83%cf%85%ce%bd%ce%ad%ce%b4%cf%81%ce%b9%ce%bf-%cf%80%ce%b1%cf%87%cf%85%cf%83%ce%b1/
LOCATION:Royal Olympic\, Αθανασίου Διάκου 28\, Athens\, Attiki\, 11743\, Greece
CATEGORIES:Άλλων Εταιρειών
ATTACH;FMTTYPE=image/png:https://endo.gr/wp-content/uploads/2025/01/19obe.png
END:VEVENT
BEGIN:VEVENT
DTSTART;VALUE=DATE:20250314
DTEND;VALUE=DATE:20250316
DTSTAMP:20260422T024142
CREATED:20250312T092449Z
LAST-MODIFIED:20250312T092517Z
UID:23350-1741910400-1742083199@endo.gr
SUMMARY:7η Εκπαιδευτική Συνάντηση «Κλινικά Ερωτήματα και Νεότερες Εξελίξεις στην Ενδοκρινολογία\, στο Σακχαρώδη Διαβήτη και στο Μεταβολισμό»
DESCRIPTION:Αγαπητοί συνάδελφοι\, \nΘα θέλαμε να σας προσκαλέσουμε  στη 7η Εκπαιδευτική Συνάντηση που συνδιοργανώνουν  οι Ενδοκρινολογικές Κλινικές των Πανεπιστημίων  Θεσσαλίας και Ιωαννίνων με  θέμα:  «Κλινικά Ερωτήματα και Νεότερες Εξελίξεις στην Ενδοκρινολογία\, στο Σακχαρώδη Διαβήτη και στον Μεταβολισμό»\, στις 14 & 15  Μαρτίου 2025\,  στο Hotel Larissa Imperial. \nΗ διημερίδα φιλοδοξεί να καλύψει σημαντικά νέα κλινικά δεδομένα σε όλο το φάσμα της Ενδοκρινολογίας και του Σακχαρώδη Διαβήτη\, με εισηγήσεις από έμπειρους ομιλητές και παρουσίαση-διαδραστική συζήτηση περιστατικών. \nΗ εκδήλωση έχει εκπαιδευτικό χαρακτήρα και απευθύνεται σε γιατρούς και επαγγελματίες υγείας όλων των ειδικοτήτων που ασχολούνται με τη θεραπεία και φροντίδα ασθενών με ενδοκρινοπάθειες και σακχαρώδη διαβήτη. \nΜε φιλικούς χαιρετισμούς \nΑλεξάνδρα Μπαργιώτα                                           Στυλιανός Τίγκας\nΑναπληρώτρια  Καθηγήτρια                                   Αναπληρωτής Καθηγητής\nΠαθολογίας-Ενδοκρινολογίας                                 Ενδοκρινολογίας
URL:https://endo.gr/event/7%ce%b7-%ce%b5%ce%ba%cf%80%ce%b1%ce%b9%ce%b4%ce%b5%cf%85%cf%84%ce%b9%ce%ba%ce%ae-%cf%83%cf%85%ce%bd%ce%ac%ce%bd%cf%84%ce%b7%cf%83%ce%b7-%ce%ba%ce%bb%ce%b9%ce%bd%ce%b9%ce%ba%ce%ac-%ce%b5%cf%81/
LOCATION:Larissa Imperial Hotel\, Φαρσάλων 182\, Λάρισα\, 41335
CATEGORIES:Άλλων Εταιρειών
ATTACH;FMTTYPE=image/png:https://endo.gr/wp-content/uploads/2025/03/7.png
END:VEVENT
END:VCALENDAR