BEGIN:VCALENDAR
VERSION:2.0
PRODID:-//ENDO - ECPv6.15.14//NONSGML v1.0//EN
CALSCALE:GREGORIAN
METHOD:PUBLISH
X-ORIGINAL-URL:https://endo.gr
X-WR-CALDESC:Events for ENDO
REFRESH-INTERVAL;VALUE=DURATION:PT1H
X-Robots-Tag:noindex
X-PUBLISHED-TTL:PT1H
BEGIN:VTIMEZONE
TZID:Europe/Athens
BEGIN:DAYLIGHT
TZOFFSETFROM:+0200
TZOFFSETTO:+0300
TZNAME:EEST
DTSTART:20240331T010000
END:DAYLIGHT
BEGIN:STANDARD
TZOFFSETFROM:+0300
TZOFFSETTO:+0200
TZNAME:EET
DTSTART:20241027T010000
END:STANDARD
BEGIN:DAYLIGHT
TZOFFSETFROM:+0200
TZOFFSETTO:+0300
TZNAME:EEST
DTSTART:20250330T010000
END:DAYLIGHT
BEGIN:STANDARD
TZOFFSETFROM:+0300
TZOFFSETTO:+0200
TZNAME:EET
DTSTART:20251026T010000
END:STANDARD
BEGIN:DAYLIGHT
TZOFFSETFROM:+0200
TZOFFSETTO:+0300
TZNAME:EEST
DTSTART:20260329T010000
END:DAYLIGHT
BEGIN:STANDARD
TZOFFSETFROM:+0300
TZOFFSETTO:+0200
TZNAME:EET
DTSTART:20261025T010000
END:STANDARD
END:VTIMEZONE
BEGIN:VEVENT
DTSTART;TZID=Europe/Athens:20250118T080000
DTEND;TZID=Europe/Athens:20250510T170000
DTSTAMP:20260421T233155
CREATED:20241217T114223Z
LAST-MODIFIED:20241217T134827Z
UID:20783-1737187200-1746896400@endo.gr
SUMMARY:Μαθήματα Εργαστηριακής Ανδρολογίας
DESCRIPTION:Το εργαστήριο Ιστολογίας-Εμβρυολογίας συνεχίζει και το 2025 την σειρά μαθημάτων με θέμα την εργαστηριακή διερεύνηση της ανδρικής γονιμότητας\, που ξεκίνησε το 2013. Τα μαθήματα αυτά έχουν θεωρητικό και πρακτικό μέρος και φέτος θα υπάρχει και hands-on εξάσκηση για τις παραμέτρους του σπερμοδιαγράμματος. \nΘεοδοσία Ζεγκινιάδου\nΥπεύθυνη Μαθημάτων
URL:https://endo.gr/event/%ce%bc%ce%b1%ce%b8%ce%ae%ce%bc%ce%b1%cf%84%ce%b1-%ce%b5%cf%81%ce%b3%ce%b1%cf%83%cf%84%ce%b7%cf%81%ce%b9%ce%b1%ce%ba%ce%ae%cf%82-%ce%b1%ce%bd%ce%b4%cf%81%ce%bf%ce%bb%ce%bf%ce%b3%ce%af%ce%b1%cf%82/
LOCATION:ATTIKI
CATEGORIES:Άλλων Εταιρειών,Υπό την αιγίδα της Εταιρείας
ATTACH;FMTTYPE=image/jpeg:https://endo.gr/wp-content/uploads/2024/12/ΕΚΠΑ-2025.jpg
END:VEVENT
BEGIN:VEVENT
DTSTART;VALUE=DATE:20250508
DTEND;VALUE=DATE:20250511
DTSTAMP:20260421T233155
CREATED:20250502T104931Z
LAST-MODIFIED:20250502T105148Z
UID:24297-1746662400-1746921599@endo.gr
SUMMARY:1ο Συνέδριο Ιατρικού Συλλόγου Αθηνών
DESCRIPTION:Αγαπητοί Συνάδελφοι\, \nΘα θέλαμε να σας καλωσορίσουμε στο 1ο Συνέδριο του Ιατρικού  Συλλόγου Αθηνών με θέμα: «Πρόληψη\, Διάγνωση και Θεραπεία των Παθολογικών Νοσημάτων»\, το οποίο θα πραγματοποιηθεί 8-10 Μαΐου 2025\, στην Αθήνα\,  στο ξενοδοχείο Divani Caravel.  \nΤο συνέδριο αυτό είναι επικεντρωμένο στις παθολογικές ειδικότητες και φιλοδοξεί να αποτελέσει έναν θεσμό επιστημονικού διαλόγου\, ανταλλαγής γνώσεων και εμπειριών\, με στόχο την ανάδειξη των σύγχρονων εξελίξεων στην πρόληψη\, τη διάγνωση και τη θεραπευτική αντιμετώπιση των κυριότερων παθολογικών νοσημάτων. Με τη συμμετοχή διακεκριμένων επιστημόνων και έμπειρων κλινικών γιατρών\, θα παρουσιαστούν πρακτικές οδηγίες\, νεότερα ερευνητικά δεδομένα και κλινικά πρωτόκολλα που μπορούν να εφαρμοστούν άμεσα στην καθημερινή ιατρική πράξη. \n  \nΘα ήταν ιδιαίτερη χαρά και τιμή το συνέδριο αυτό να συμβάλει ουσιαστικά στη συνεχή εκπαίδευση και επιμόρφωση των ιατρών της χώρας\, ενισχύοντας τον ρόλο του ΙΣΑ ως πυλώνα στήριξης της ιατρικής κοινότητας. \n  \nΣας περιμένουμε όλους για ένα εποικοδομητικό και υψηλού επιπέδου επιστημονικό τριήμερο. \n  \nΜε εκτίμηση\, \n  \nΓεώργιος Πατούλης \nΠρόεδρος Ιατρικού Συλλόγου Αθηνών \n  \n− Για Εγγραφή επιλέξτε ΕΔΩ
URL:https://endo.gr/event/1%ce%bf-%cf%83%cf%85%ce%bd%ce%ad%ce%b4%cf%81%ce%b9%ce%bf-%ce%b9%ce%b1%cf%84%cf%81%ce%b9%ce%ba%ce%bf%cf%8d-%cf%83%cf%85%ce%bb%ce%bb%cf%8c%ce%b3%ce%bf%cf%85-%ce%b1%ce%b8%ce%b7%ce%bd%cf%8e%ce%bd/
LOCATION:Divani Caravel Hotel\, Λεωφ. Βασιλέως Αλεξάνδρου 2\, Αθήνα\, 16121\, Greece
CATEGORIES:Άλλων Εταιρειών
ATTACH;FMTTYPE=image/png:https://endo.gr/wp-content/uploads/2025/05/1PDT-QRP_Page_1-scaled.png
END:VEVENT
BEGIN:VEVENT
DTSTART;VALUE=DATE:20250508
DTEND;VALUE=DATE:20250512
DTSTAMP:20260421T233155
CREATED:20250122T114401Z
LAST-MODIFIED:20250507T111440Z
UID:21558-1746662400-1747007999@endo.gr
SUMMARY:17ο Πανελλήνιο και 12ο Βαλκανικό Συνέδριο Πυρηνικής Ιατρικής
DESCRIPTION:For more information https://www.bcnm2025.org/ \nDear Friends and Colleagues\, \nOn behalf of the organizing committee\, we would like to invite you to participate in the 12th Balkan Congress of Nuclear Medicine in conjunction with the 17th Panhellenic Congress of Nuclear Medicine\, taking place in Athens\, Greece from 8 – 11 May 2025. The motto of the conference is “Joining Forces”\, which aims not only to further strengthen the development of nuclear medicine in the Balkan region\, but also to emphasize the need of collaboration between medical specialties. Congress thematology presents Nuclear medicine’s tremendous potential to advance precision medicine in many critical human diseases:  cancer\, heart disease\, neurodegenerative disorders management depends on molecular imaging ability to visualize and quantify the cellular and molecular underpinnings of disease on a patient-by-patient basis. Nuclear medicine now provides evidence-based ways to detect disease at early\, potentially curable stages\, identify patients likely to respond to certain treatments\, predict a patient’s response to therapy early in the treatment cycle and in many cases offers effective therapeutic possibilities. \nWe warmly welcome nuclear medicine colleagues from all over Balkan countries and nuclear medicine experts from all over the world to participate and present clinical experiences and results. We do hope this meeting will be a great opportunity for interaction with the participation of prominent world-class faculty. This will not only enrich the participant’s experience and knowledge\, but also promises to deliver cutting-edge perspectives and insights that will shape the future of nuclear medicine in Balkan region. \nGreece is the birthplace of Hippocrates\, Asclepius and Democritus. Athens is the origin of Democracy and a city dedicated to research and education. Let us serve you with our hospitality and beautiful culture. We will ensure that all of you will have so many memories\, not only about the scientific aspects\, but also from our philoxenia! \nWe hope to see you all in Athens! \n\n\n \n\nIoannis Koutsikos  \nPresident of the Organising Committee \n\n\n \n\nIoannis Iakovou \nPresident of the  Scientific Committee
URL:https://endo.gr/event/17%ce%bf-%cf%80%ce%b1%ce%bd%ce%b5%ce%bb%ce%bb%ce%ae%ce%bd%ce%b9%ce%bf-%ce%ba%ce%b1%ce%b9-12%ce%bf-%ce%b2%ce%b1%ce%bb%ce%ba%ce%b1%ce%bd%ce%b9%ce%ba%cf%8c-%cf%83%cf%85%ce%bd%ce%ad%ce%b4%cf%81%ce%b9/
LOCATION:Πολεμικό Μουσείο\, Rizari 2-4\, Athina 106 75\, Athens\, Greece
CATEGORIES:Άλλων Εταιρειών,Εκδηλώσεις E.E.E.
ATTACH;FMTTYPE=image/jpeg:https://endo.gr/wp-content/uploads/2025/01/BCNM-2025_POSTER_FINAL.jpg
END:VEVENT
BEGIN:VEVENT
DTSTART;VALUE=DATE:20250516
DTEND;VALUE=DATE:20250517
DTSTAMP:20260421T233155
CREATED:20250424T134252Z
LAST-MODIFIED:20250424T134954Z
UID:23790-1747353600-1747439999@endo.gr
SUMMARY:Φως & Υγεία\, Η Χρονοβιολογική Επίδραση του Φωτισμού
DESCRIPTION:“Φως & Υγεία\, Η Χρονοβιολογική Επίδραση του Φωτισμού”\, μια εκδήλωση αφιερωμένη στον θεσμό της Παγκόσμιας Ημέρας Φωτός που διοργανώνεται υπό την αιγίδα του \nΥπουργείου Ενέργειας (ΥΠΕΝ)\, από το Κέντρο Ανανεώσιμων Πηγών Ενέργειας (ΚΑΠΕ) και την Ελληνική Επιτροπή Φωτισμού (ΕΦΕ) στις  16 Μαΐου 2025\,  στο \nΑμφιθέατρο του ΥΠΕΝ\, εξ αφορμής της συμπλήρωσης 10 ετών από την ανακήρυξη του 2015\, σε Παγκόσμιο Έτος Φωτός\, από τα Ηνωμένα Έθνη και την UNESCO. \nΗ Ελληνική Ενδοκρινολογική Εταιρεία\, εκπροσωπείται στο πρόγραμμα της ημερίδας από την Διευθύντρια της Ενδοκρινολογικής Κλινικής του Νοσοκομείου «Ευαγγελισμός» κα Μαρινέλλα Τζανέλα & την καθηγήτρια Ενδοκρινολογίας στο ΕΚΠΑ\, κα Μελπομένη Πέππα.
URL:https://endo.gr/event/%cf%86%cf%89%cf%82-%cf%85%ce%b3%ce%b5%ce%af%ce%b1-%ce%b7-%cf%87%cf%81%ce%bf%ce%bd%ce%bf%ce%b2%ce%b9%ce%bf%ce%bb%ce%bf%ce%b3%ce%b9%ce%ba%ce%ae-%ce%b5%cf%80%ce%af%ce%b4%cf%81%ce%b1%cf%83%ce%b7-%cf%84/
LOCATION:Υπουργείο Περιβάλλοντος & Ενέργειας\, Λεωφ. Μεσογείων 119\, Αθήνα\, 11526\, Greece
CATEGORIES:Άλλων Εταιρειών
ATTACH;FMTTYPE=image/jpeg:https://endo.gr/wp-content/uploads/2025/04/1.ε-1744616659921.jpg
END:VEVENT
BEGIN:VEVENT
DTSTART;VALUE=DATE:20250522
DTEND;VALUE=DATE:20250525
DTSTAMP:20260421T233155
CREATED:20250101T202030Z
LAST-MODIFIED:20250317T114025Z
UID:20021-1747872000-1748131199@endo.gr
SUMMARY:51ο Ετήσιο Πανελλήνιο Ιατρικό Συνέδριο\, 22-24 Μαΐου 2025
DESCRIPTION:Αξιότιμοι Συνάδελφοι\, \nΦέτος η Ιατρική Εταιρεία Αθηνών διοργανώνει το 51ο Ετήσιο Πανελλήνιο Ιατρικό Συνέδριο\, στις 22-24 Μαΐου 2025\, στο Μέγαρο Διεθνές Συνεδριακό Κέντρο Αθηνών.\nΜε τη συμπλήρωση των 50 χρόνων του ΕΠΙΣ\, η Οργανωτική Επιτροπή του συνεδρίου έχει ως στόχο την έναρξη μια νέας εποχής του θεσμού\, πάντα με κεντρικό άξονα τη Συνεχιζόμενη Ιατρική Εκπαίδευση.\nΜε βάση την μακρόχρονη εμπειρία του θεσμού έχουμε διαπιστώσει ότι η διασύνδεση των ειδικοτήτων είναι μια ανάγκη των σύγχρονων συνεδρίων και γι’ αυτό κάθε χρόνο φροντίζουμε να εκπροσωπούνται όλες\, έχοντας μεγάλη ποικιλία θεματολογίας που ακουμπά σε όλο το φάσμα της επιστημονικής κοινότητας. \nΓια περισσότερες πληροφορίες (πατήστε εδώ).
URL:https://endo.gr/event/51%ce%bf-%ce%b5%cf%84%ce%ae%cf%83%ce%b9%ce%bf-%cf%80%ce%b1%ce%bd%ce%b5%ce%bb%ce%bb%ce%ae%ce%bd%ce%b9%ce%bf-%ce%b9%ce%b1%cf%84%cf%81%ce%b9%ce%ba%cf%8c-%cf%83%cf%85%ce%bd%ce%ad%ce%b4%cf%81%ce%b9%ce%bf/
LOCATION:ATTIKI
CATEGORIES:Άλλων Εταιρειών
ATTACH;FMTTYPE=image/webp:https://endo.gr/wp-content/uploads/2024/11/POSTER-scaled-1.webp
END:VEVENT
BEGIN:VEVENT
DTSTART;VALUE=DATE:20250530
DTEND;VALUE=DATE:20250602
DTSTAMP:20260421T233155
CREATED:20250403T071453Z
LAST-MODIFIED:20250411T092845Z
UID:23409-1748563200-1748822399@endo.gr
SUMMARY:14o Πανελλήνιο Συνέδριο Ανδρολογίας
DESCRIPTION:Αξιότιμοι συνάδελφοι\, αγαπητοί φίλοι\, \nΜε ιδιαίτερη χαρά σας καλωσορίζουμε στις εργασίες του 14ου Πανελληνίου Συνεδρίου Ανδρολογίας\, το οποίο διεξάγεται από τις 30 Μαΐου έως την 1η Ιουνίου 2025 στην Αθήνα\, στο ξενοδοχείο Stratos Vassilikos.\nΔιακεκριμένοι επιστήμονες από την Ελλάδα και το εξωτερικό θα αναλύσουν επίκαιρα θέματα. όπως η επίδραση του περιβάλλοντος στην αναπαραγωγική υγεία του άνδρα\, τα πολλαπλά πρόσωπα του υπογοναδισμού\, καθώς και τα νεότερα δεδομένα στη χορήγηση ορμονικής υποκατάστασης με τεστοστερόνη. Παράλληλα\, θα παρουσιαστούν οι τελευταίες εξελίξεις στους δυναμικά αναπτυσσόμενους τομείς της γενετικής και της εργαστηριακής ανδρολογίας\, με έμφαση στη συμβολή τους στην κλινική πράξη. Δε θα μπορούσαν να λείπουν οι σύγχρονες θεραπευτικές προσεγγίσεις στη σεξουαλική ιατρική και την ανδρική υπογονιμότητα\, ενώ κόντρα στη ρητορεία των καιρών μας\, ιδιαίτερη μέριμνα θα δοθεί στη φροντίδα των διεμφυλικών ατόμων.\nΜια από τις σημαντικότερες καινοτομίες του φετινού συνεδρίου είναι η συνεργασία με επιστημονικές εταιρείες που δραστηριοποιούνται σε όμορα πεδία και αποτελούν βασικούς πυλώνες της ανδρολογίας. Σε κοινή συνεδρία με την Ελληνική Ενδοκρινολογική Εταιρεία\, θα εστιάσουμε στις επιδράσεις του μεταβολισμού στην αναπαραγωγική υγεία του άνδρα\, ενώ σε συνεργασία με το Επιστημονικό Τμήμα Ανδρολογίας και Υπογονιμότητας της Ελληνικής Ουρολογικής Εταιρείας θα συζητήσουμε για το ρόλο της ανδρολογίας στην Ελλάδα του σήμερα και τις μελλοντικές προοπτικές.\nΕίμαι βέβαιος ότι μέσα από τις εργασίες του συνεδρίου\, θα προκύψουν χρήσιμα συμπεράσματα που θα εμπλουτίσουν τη γνώση μας και θα συμβάλουν στην περαιτέρω ανάπτυξη της ανδρολογίας. \nΜε εκτίμηση\,\nΟ Πρόεδρος της Οργανωτικής Επιτροπής \nΔρ. Γεώργιος Κανάκης MD\, PhD\nΕνδοκρινολόγος – Κλινικός Ανδρολόγος (ΕΑΑ Cert.)\nΠρόεδρος Ελληνικής Ανδρολογικής Εταιρείας
URL:https://endo.gr/event/14o-%cf%80%ce%b1%ce%bd%ce%b5%ce%bb%ce%bb%ce%b7%ce%bd%ce%b9%ce%bf-%ce%b1%ce%bd%ce%b4%cf%81%ce%bf%ce%bb%ce%bf%ce%b3%ce%b9%ce%ba%ce%bf-%cf%83%cf%85%ce%bd%ce%b5%ce%b4%cf%81%ce%b9%ce%bf/
LOCATION:Stratos Vassilikos\, Μιχαλακοπούλου 114\, Αθήνα\, ATTIKI\, 11527\, Greece
CATEGORIES:Άλλων Εταιρειών,Υπό την αιγίδα της Εταιρείας
ATTACH;FMTTYPE=image/jpeg:https://endo.gr/wp-content/uploads/2025/04/poster_14-scaled.jpg
END:VEVENT
BEGIN:VEVENT
DTSTART;TZID=Europe/Athens:20250531T170000
DTEND;TZID=Europe/Athens:20250531T213000
DTSTAMP:20260421T233155
CREATED:20250528T080516Z
LAST-MODIFIED:20250528T080516Z
UID:24618-1748710800-1748727000@endo.gr
SUMMARY:Η Διαχείριση της Παχυσαρκίας ως συνιστώσα του Κάρδιο-Νέφρο-Μεταβολικού Συνδρόμου
DESCRIPTION:Επιστημονική συνάντηση της NOVO NORDISK \, με θέμα «Η Διαχείριση της Παχυσαρκίας ως συνιστώσα του Κάρδιο-Νέφρο-Μεταβολικού Συνδρόμου» το Σάββατο 31 Μαΐου 2025\, στο Κέντρο Πολιτισμού Ιδρύματος Σταύρος Νιάρχος\, στην Αθήνα. \n\n 
URL:https://endo.gr/event/%ce%b7-%ce%b4%ce%b9%ce%b1%cf%87%ce%b5%ce%af%cf%81%ce%b9%cf%83%ce%b7-%cf%84%ce%b7%cf%82-%cf%80%ce%b1%cf%87%cf%85%cf%83%ce%b1%cf%81%ce%ba%ce%af%ce%b1%cf%82-%cf%89%cf%82-%cf%83%cf%85%ce%bd%ce%b9%cf%83/
LOCATION:ATTIKI
CATEGORIES:Άλλων Εταιρειών,Υπό την αιγίδα της Εταιρείας
ATTACH;FMTTYPE=image/png:https://endo.gr/wp-content/uploads/2025/05/Pages-from-2025-04-23-Obesity_Management_Stavros_Niarchos_3105_Invitation_J.png
END:VEVENT
END:VCALENDAR