BEGIN:VCALENDAR
VERSION:2.0
PRODID:-//ENDO - ECPv6.15.14//NONSGML v1.0//EN
CALSCALE:GREGORIAN
METHOD:PUBLISH
X-WR-CALNAME:ENDO
X-ORIGINAL-URL:https://endo.gr
X-WR-CALDESC:Events for ENDO
REFRESH-INTERVAL;VALUE=DURATION:PT1H
X-Robots-Tag:noindex
X-PUBLISHED-TTL:PT1H
BEGIN:VTIMEZONE
TZID:Europe/Athens
BEGIN:DAYLIGHT
TZOFFSETFROM:+0200
TZOFFSETTO:+0300
TZNAME:EEST
DTSTART:20240331T010000
END:DAYLIGHT
BEGIN:STANDARD
TZOFFSETFROM:+0300
TZOFFSETTO:+0200
TZNAME:EET
DTSTART:20241027T010000
END:STANDARD
BEGIN:DAYLIGHT
TZOFFSETFROM:+0200
TZOFFSETTO:+0300
TZNAME:EEST
DTSTART:20250330T010000
END:DAYLIGHT
BEGIN:STANDARD
TZOFFSETFROM:+0300
TZOFFSETTO:+0200
TZNAME:EET
DTSTART:20251026T010000
END:STANDARD
BEGIN:DAYLIGHT
TZOFFSETFROM:+0200
TZOFFSETTO:+0300
TZNAME:EEST
DTSTART:20260329T010000
END:DAYLIGHT
BEGIN:STANDARD
TZOFFSETFROM:+0300
TZOFFSETTO:+0200
TZNAME:EET
DTSTART:20261025T010000
END:STANDARD
BEGIN:DAYLIGHT
TZOFFSETFROM:+0200
TZOFFSETTO:+0300
TZNAME:EEST
DTSTART:20270328T010000
END:DAYLIGHT
BEGIN:STANDARD
TZOFFSETFROM:+0300
TZOFFSETTO:+0200
TZNAME:EET
DTSTART:20271031T010000
END:STANDARD
END:VTIMEZONE
BEGIN:VEVENT
DTSTART;VALUE=DATE:20251106
DTEND;VALUE=DATE:20251109
DTSTAMP:20260423T010727
CREATED:20251008T115044Z
LAST-MODIFIED:20251008T115202Z
UID:24876-1762387200-1762646399@endo.gr
SUMMARY:FUNCTIONING NEUROENDOCRINE TUMOUR SYNDROMES COURSE: BIOCHEMICAL\, GENETIC\, IMAGING WORKUP & THERAPEUTIC MANAGEMENT
DESCRIPTION:
URL:https://endo.gr/event/functioning-neuroendocrine-tumour-syndromes-course/
LOCATION:ATTIKI
CATEGORIES:Άλλων Εταιρειών,Διεθνείς Εκδηλώσεις
ATTACH;FMTTYPE=image/jpeg:https://endo.gr/wp-content/uploads/2025/10/Flyer-NETs_RRD-Foundation_Milan_November_2025-1-conv-1.jpeg
END:VEVENT
BEGIN:VEVENT
DTSTART;TZID=Europe/Athens:20251122T180000
DTEND;TZID=Europe/Athens:20251122T210000
DTSTAMP:20260423T010727
CREATED:20251118T140717Z
LAST-MODIFIED:20251118T140812Z
UID:25054-1763834400-1763845200@endo.gr
SUMMARY:Εκδήλωση του Συλλόγου Διαβητικών Αθήνας "ΑΝΟΙΞΕ ΤΟΝ ΚΥΚΛΟ ΤΟΥ ΔΙΑΒΗΤΗ"
DESCRIPTION:
URL:https://endo.gr/event/%ce%b5%ce%ba%ce%b4%ce%ae%ce%bb%cf%89%cf%83%ce%b7-%cf%84%ce%bf%cf%85-%cf%83%cf%85%ce%bb%ce%bb%cf%8c%ce%b3%ce%bf%cf%85-%ce%b4%ce%b9%ce%b1%ce%b2%ce%b7%cf%84%ce%b9%ce%ba%cf%8e%ce%bd-%ce%b1%ce%b8%ce%ae/
LOCATION:Δημαρχείο Αμαρουσίου\, Βασ. Σοφίας 9 &\, Δημ. Μόσχα 55\,\, Μαρούσι\, 15124\, Greece
CATEGORIES:Άλλων Εταιρειών,Υπό την αιγίδα της Εταιρείας
ATTACH;FMTTYPE=image/png:https://endo.gr/wp-content/uploads/2025/11/diabetes-prosklisi-b-002.png
END:VEVENT
BEGIN:VEVENT
DTSTART;VALUE=DATE:20251128
DTEND;VALUE=DATE:20251201
DTSTAMP:20260423T010727
CREATED:20250908T105908Z
LAST-MODIFIED:20250908T110337Z
UID:24822-1764288000-1764547199@endo.gr
SUMMARY:8ο Πανελλήνιο Συνέδριο Παιδικής & Εφηβικής Γυναικολογίας
DESCRIPTION:Θα θέλαμε να σας ενημερώσουμε για τη διεξαγωγή του 8ου Πανελλήνιου Συνεδρίου Παιδικής & Εφηβικής Γυναικολογίας\, που θα πραγματοποιηθεί από 28 έως 30 Νοεμβρίου 2025 \nΑγαπητοί συνάδελφοι\, \nσας καλωσορίζουμε στο Πανελλήνιο Συνέδριο Παιδικής και Εφηβικής Γυναικολογίας\, που στοχεύει στην προστασία της γυναικολογικής υγείας των κοριτσιών και των εφήβων. \nΗ παιδική και εφηβική γυναικολογία αφορά άμεσα την υγεία των κοριτσιών και νέων γυναικών\, αλλά παραμένει συχνά μια ανεξερεύνητη εξειδίκευση. Πολλοί επαγγελματίες υγείας παιδιών και εφήβων έρχονται καθημερινά αντιμέτωποι με γυναικολογικά ζητήματα στην άσκηση του επαγγέλματος τους\, χωρίς να έχουν πάντα την απαραίτητη εξειδίκευση. Η διεύρυνση των γνώσεων στον τομέα αυτό και η ανάπτυξη συνεργασιών μεταξύ ειδικών μπορούν να προσφέρουν λύσεις σε προβλήματα που απασχολούν τα νέα κορίτσια\, τους γονείς και τους επαγγελματίες υγείας. \nΤο συνέδριό μας αποτελεί μια μοναδική ευκαιρία συνάντησης και ανταλλαγής γνώσεων. Για πρώτη φορά\, οι παρουσιάσεις θα βασίζονται σε ανάλυση περιστατικών και στην παρουσίαση κατευθυντήριων οδηγιών\, καθιστώντας το συνέδριο ιδιαίτερα πρακτικό και ωφέλιμο για τους συμμετέχοντες. Επιπλέον\, διοργανώνουμε workshops με κορυφαίους ομιλητές\, προσφέροντας μια ολοκληρωμένη προσέγγιση στις τελευταίες εξελίξεις της παιδικής και εφηβικής γυναικολογίας. \nΣας καλούμε να συμμετάσχετε ενεργά σε αυτή την προσπάθεια\, ώστε να συμβάλλουμε όλοι μαζί στη βελτίωση της γυναικολογικής υγείας των κοριτσιών και των εφήβων και να διασφαλίσουμε το αναπαραγωγικό τους μέλλον. \nΜε εκτίμηση\, \nΟ Πρόεδρος\nΚαθηγητής Νικόλαος Φ. Βλάχος \nΟ Γενικός Γραμματέας\nΑναπληρωτής Καθηγητής Παναγιώτης Χριστόπουλος
URL:https://endo.gr/event/8%ce%bf-%cf%80%ce%b1%ce%bd%ce%b5%ce%bb%ce%bb%ce%ae%ce%bd%ce%b9%ce%bf-%cf%83%cf%85%ce%bd%ce%ad%ce%b4%cf%81%ce%b9%ce%bf-%cf%80%ce%b1%ce%b9%ce%b4%ce%b9%ce%ba%ce%ae%cf%82-%ce%b5%cf%86%ce%b7%ce%b2%ce%b9/
LOCATION:Αμφιθέατρο Φυσιολογίας “Γ. Κοτζιάς” (Κτίριο 15) Ιατρική Σχολή Αθηνών\, MIKRAS ASIAS 75\, ATHENS\, 11527\, Greece
CATEGORIES:Άλλων Εταιρειών
ATTACH;FMTTYPE=image/jpeg:https://endo.gr/wp-content/uploads/2025/09/paidikis-2025-FIN.jpg
END:VEVENT
BEGIN:VEVENT
DTSTART;VALUE=DATE:20251204
DTEND;VALUE=DATE:20251207
DTSTAMP:20260423T010727
CREATED:20250213T130505Z
LAST-MODIFIED:20250213T130505Z
UID:22723-1764806400-1765065599@endo.gr
SUMMARY:18ο Συνέδριο Διαιτολογίας και Διατροφής
DESCRIPTION:Στις 4 – 6 Δεκεμβρίου 2025 θα διεξαχθεί στο Μέγαρο Μουσικής Αθηνών\, το  «18ο Συνέδριο Διαιτολογίας και Διατροφής». Το συνέδριο αποτελεί θεσμό στον χώρο της διαιτολογίας και της διατροφής\, προσφέροντας την ευκαιρία για ενημέρωση πάνω στις τελευταίες εξελίξεις και τάσεις στον τομέα μας. Με κεντρικό μήνυμα «Γεφυρώνοντας έρευνα και πράξη»\, σκοπός μας είναι να δημιουργήσουμε ένα πλούσιο και εμπλουτισμένο πρόγραμμα\, το οποίο θα περιλαμβάνει διαλέξεις από καταξιωμένους επιστήμονες\, πρακτικά φροντιστήρια\, καθώς και στρογγυλές τράπεζες για την ανταλλαγή απόψεων και την εμβάθυνση σε θέματα που απασχολούν τον κλάδο μας.\nΣε μια εποχή που η διατροφή και η υγεία βρίσκονται στο επίκεντρο της επιστημονικής κοινότητας και της κοινωνίας\, το συνέδριό μας στοχεύει να ενισχύσει τη γνώση και τις δεξιότητές μας\, να ενδυναμώσει τη δικτύωση μεταξύ συναδέλφων και να ενθαρρύνει τον επιστημονικό διάλογο. \nΠρόσθετες πληροφορίες μπορείτε να βρείτε στην ιστοσελίδα του Συνεδρίου \n18 ΠΑΝΕΛΛΗΝΙΟ ΣΥΝΕΔΡΙΟ Διατροφής & Διαιτολογίας \n  \nCONVIN S.A. \n29 K. Varnali Street \n152 33 Chalandri\, Athens \nT: +30 210 6833600 ext.: 477 \nE: lgogou@convin.gr\, W: www.convin.gr
URL:https://endo.gr/event/18%ce%bf-%cf%83%cf%85%ce%bd%ce%ad%ce%b4%cf%81%ce%b9%ce%bf-%ce%b4%ce%b9%ce%b1%ce%b9%cf%84%ce%bf%ce%bb%ce%bf%ce%b3%ce%af%ce%b1%cf%82-%ce%ba%ce%b1%ce%b9-%ce%b4%ce%b9%ce%b1%cf%84%cf%81%ce%bf%cf%86%ce%ae/
LOCATION:Μέγαρο Μουσικής Αθηνών\, Βασ. Σοφίας και Κόκκαλη\, Αθήνα\, 11521\, Greece
CATEGORIES:Άλλων Εταιρειών
ATTACH;FMTTYPE=image/jpeg:https://endo.gr/wp-content/uploads/2025/02/Poster_729x1031.jpg
END:VEVENT
BEGIN:VEVENT
DTSTART;VALUE=DATE:20251219
DTEND;VALUE=DATE:20251220
DTSTAMP:20260423T010727
CREATED:20251208T083402Z
LAST-MODIFIED:20251208T083402Z
UID:25671-1766102400-1766188799@endo.gr
SUMMARY:Eπιστημονική συνάντηση του Τμ. Ιατρικής Έρευνας 251 Γεν. Νοσ. Αεροπορίας
DESCRIPTION:Αγαπητοί συνάδελφοι\, \nΣας προσκαλούμε να λάβετε μέρος\, με φυσική παρουσία ή διαδικτυακά\, στην επιστημονική συνάντηση που διοργανώνει το Τμήμα Ιατρικής Έρευνας του 251 Γενικού Νοσοκομείου Αεροπορίας την Παρασκευή 19 Δεκεμβρίου\, ώρα 13:00 – 14:00\, στο Αμφιθέατρο του Νοσοκομείου\, με τίτλο «Και τώρα τι κάνουμε;». \nΥπενθυμίζουμε ότι ο σκοπός των συναντήσεων αυτών είναι η συζήτηση εν εξελίξει διαγνωστικών και θεραπευτικών προβλημάτων που μας απασχολούν σε ασθενείς με σπάνιες ή δύσκολα αντιμετωπίσιμες παθήσεις του μεταβολισμού των οστών και του ασβεστίου και όχι η συζήτηση περιστατικών που έχουν ήδη αντιμετωπισθεί με επιτυχία. \nΈχουμε την τιμή η ανωτέρω συνάντηση να μεταδοθεί διαδικτυακά μέσω της Ελληνικής Ενδοκρινολογικής Εταιρείας. \nΌσοι επιθυμούν\, μπορούν να εγγραφούν στο webinar μέσω του παρακάτω συνδέσμου: \nhttps://us06web.zoom.us/webinar/register/WN_iX2IG2ksRQyvPcVSqCJEZA \nΠαρακαλούμε όσοι επιθυμούν να παρευρεθούν με φυσική παρουσία όπως επιβεβαιώσουν τη συμμετοχή τους\, απαντώντας στο παρακάτω email: medres251haf@gmail.com . \nΗ παρουσίαση περιστατικών είναι ανοιχτή για όλους τους προσκεκλημένους και στην περίπτωση που θέλετε να συζητηθεί κάποιο περιστατικό σας\, παρακαλούμε όπως αποστείλετε μια σύντομη περίληψη του (έως 100 λέξεις) έως την 14η Δεκεμβρίου 2025. \nΘα τηρηθεί σειρά προτεραιότητας. \nΜε εκτίμηση\, \nΠολυζώης Μάκρας\nΔντης Τμήματος Ιατρικής Έρευνας\n251 ΓΝΑ \nΣωκράτης Παπαπούλος\nΕπιστημονικός Συνεργάτης Τμήματος Ιατρικής Έρευνας\n251 ΓΝΑ
URL:https://endo.gr/event/e%cf%80%ce%b9%cf%83%cf%84%ce%b7%ce%bc%ce%bf%ce%bd%ce%b9%ce%ba%ce%ae-%cf%83%cf%85%ce%bd%ce%ac%ce%bd%cf%84%ce%b7%cf%83%ce%b7-%cf%84%ce%bf%cf%85-%cf%84%ce%bc-%ce%b9%ce%b1%cf%84%cf%81%ce%b9%ce%ba%ce%ae-3/
LOCATION:251 ΓΕΝΙΚΟ ΝΟΣΟΚΟΜΕΙΟ ΑΕΡΟΠΟΡΙΑΣ\, Leof. Panagioti Kanellopoulou 3\, Athina\, 11525\, Greece
CATEGORIES:Άλλων Εταιρειών
ATTACH;FMTTYPE=image/jpeg:https://endo.gr/wp-content/uploads/2025/12/251gna.jpg
END:VEVENT
BEGIN:VEVENT
DTSTART;VALUE=DATE:20251220
DTEND;VALUE=DATE:20251221
DTSTAMP:20260423T010727
CREATED:20251212T142433Z
LAST-MODIFIED:20251212T142648Z
UID:25722-1766188800-1766275199@endo.gr
SUMMARY:Ημερίδα Πυρηνικής Ιατρικής\, «Εξελίξεις στην Πυρηνική Ιατρική από Διεθνή Συνέδρια"
DESCRIPTION:Ημερίδα Πυρηνικής Ιατρικής\n«Εξελίξεις στην Πυρηνική Ιατρική από Διεθνή Συνέδρια» \nΘα θέλαμε να σας υπενθυμίσουμε τη διοργάνωση της επιστημονικής ημερίδας:\n«Εξελίξεις στην Πυρηνική Ιατρική από Διεθνή Συνέδρια»\, η οποία θα πραγματοποιηθεί: \n📅 Σάββατο\, 20 Δεκεμβρίου 2025\n📍 Αμφιθέατρο\, Νοσοκομείο Ερρίκος Ντυνάν \nΗ ημερίδα αποτελεί μια σημαντική ευκαιρία ενημέρωσης για τις νεότερες εξελίξεις στον τομέα μας\, με παρουσιάσεις από διακεκριμένους Έλληνες επιστήμονες που συμμετείχαν ενεργά στα μεγάλα διεθνή συνέδρια. \n🔹 Η συμμετοχή είναι δωρεάν.\n🔹 Απαιτείται προεγγραφή μέσω της επίσημης φόρμας: \n👉 Εγγραφές \n📩 Περισσότερες πληροφορίες και το αναλυτικό πρόγραμμα θα ανακοινωθούν σύντομα. \nAFEA Professional Congress Organizer (PCO) \n39-41 Lykavittou str\, 10672 Athens\nTel: +30 210 3668 833\nemail: info@bcnm2025.org \n 
URL:https://endo.gr/event/%ce%b7%ce%bc%ce%b5%cf%81%ce%af%ce%b4%ce%b1-%cf%80%cf%85%cf%81%ce%b7%ce%bd%ce%b9%ce%ba%ce%ae%cf%82-%ce%b9%ce%b1%cf%84%cf%81%ce%b9%ce%ba%ce%ae%cf%82-%ce%b5%ce%be%ce%b5%ce%bb%ce%af%ce%be%ce%b5/
LOCATION:ATTIKI
CATEGORIES:Άλλων Εταιρειών
ATTACH;FMTTYPE=image/jpeg:https://endo.gr/wp-content/uploads/2025/12/pir2025-scaled.jpg
END:VEVENT
BEGIN:VEVENT
DTSTART;VALUE=DATE:20260124
DTEND;VALUE=DATE:20260524
DTSTAMP:20260423T010727
CREATED:20251223T113508Z
LAST-MODIFIED:20251223T113508Z
UID:25766-1769212800-1779580799@endo.gr
SUMMARY:Μαθήματα Εργαστηριακής Ανδρολογίας 2026
DESCRIPTION:
URL:https://endo.gr/event/%ce%bc%ce%b1%ce%b8%ce%ae%ce%bc%ce%b1%cf%84%ce%b1-%ce%b5%cf%81%ce%b3%ce%b1%cf%83%cf%84%ce%b7%cf%81%ce%b9%ce%b1%ce%ba%ce%ae%cf%82-%ce%b1%ce%bd%ce%b4%cf%81%ce%bf%ce%bb%ce%bf%ce%b3%ce%af%ce%b1%cf%82-2026/
LOCATION:ATTIKI
CATEGORIES:Άλλων Εταιρειών,Υπό την αιγίδα της Εταιρείας
ATTACH;FMTTYPE=image/jpeg:https://endo.gr/wp-content/uploads/2025/12/Αφίσα-Εργ-Ανδρο-2026.jpg
END:VEVENT
BEGIN:VEVENT
DTSTART;VALUE=DATE:20260212
DTEND;VALUE=DATE:20260215
DTSTAMP:20260423T010727
CREATED:20251204T102733Z
LAST-MODIFIED:20251204T102733Z
UID:25654-1770854400-1771113599@endo.gr
SUMMARY:20o Πανελλήνιο Ιατρικό Συνέδριο Παχυσαρκίας
DESCRIPTION:Η Ελληνική Ιατρική Εταιρεία Παχυσαρκίας διοργανώνει στις 12-14 Φεβρουαρίου 2026\, «20o Πανελλήνιο Ιατρικό Συνέδριο Παχυσαρκίας» στο Ξενοδοχείο Royal Olympic στην Αθήνα\, -ένα συνέδριο επετειακό και πολυδιάστατο\, με επίκεντρο τις τελευταίες εξελίξεις στην πρόληψη\, διάγνωση και κυρίως στην θεραπευτική αντιμετώπιση της παχυσαρκίας. \nΤο 2026 αποτελεί έναν σημαντικό σταθμό για την Ελληνική Ιατρική Εταιρεία Παχυσαρκίας (ΕΙΕΠ)\,-μιας από τις πλέον ιστορικές και σημαντικές επιστημονικές ιατρικές εταιρείες- καθώς συμπληρώνονται 35 χρόνια συνεχούς επιστημονικής δράσης και προσφοράς στον τομέα της παχυσαρκίας\, προς όφελος των ιατρών όλων των ειδικοτήτων και γενικότερα όλης της επιστημονικής κοινότητας. \nΜε γνώμονα την επιστημονική συνέπεια\, την κλινική τεκμηρίωση και τη διεπιστημονική συνεργασία\, το συνέδριο θα παρουσιάσει επιστημονική γνώση αιχμής\, παρουσιάζοντας τις νεότερες εξελίξεις στη νόσο της παχυσαρκίας και τις συννοσηρότητές της. Εστιάζει στην πρόληψη\, τη διάγνωση και τη θεραπευτική αντιμετώπιση της παχυσαρκίας — τόσο μέσα από τις φαρμακευτικές και χειρουργικές παρεμβάσεις\, όσο και μέσα από τις συμπεριφορικές\, διατροφικές και ψυχοκοινωνικές διαστάσεις της νόσου\, ενώ παράλληλα\, φιλοδοξεί να αποτελέσει σημείο αναφοράς και να συμβάλλει ουσιαστικά σε έναν γόνιμο επιστημονικό διάλογο για το παρόν και το μέλλον της αντιμετώπισης αυτής της πολυπαραγοντικής νόσου.
URL:https://endo.gr/event/20o-%cf%80%ce%b1%ce%bd%ce%b5%ce%bb%ce%bb%ce%ae%ce%bd%ce%b9%ce%bf-%ce%b9%ce%b1%cf%84%cf%81%ce%b9%ce%ba%cf%8c-%cf%83%cf%85%ce%bd%ce%ad%ce%b4%cf%81%ce%b9%ce%bf-%cf%80%ce%b1%cf%87%cf%85%cf%83%ce%b1%cf%81/
LOCATION:Royal Olympic\, Αθανασίου Διάκου 28\, Athens\, Attiki\, 11743\, Greece
CATEGORIES:Άλλων Εταιρειών
ATTACH;FMTTYPE=image/jpeg:https://endo.gr/wp-content/uploads/2025/12/poster-20o-EIEP-scaled.jpg
END:VEVENT
BEGIN:VEVENT
DTSTART;VALUE=DATE:20260213
DTEND;VALUE=DATE:20260216
DTSTAMP:20260423T010727
CREATED:20251210T110619Z
LAST-MODIFIED:20260129T132046Z
UID:25697-1770940800-1771199999@endo.gr
SUMMARY:11ο Πανελλήνιο Συνέδριο της Ελληνικής Εταιρείας Κλιμακτηρίου και Εμμηνόπαυσης
DESCRIPTION:Η Ελληνική Εταιρεία Κλιμακτηρίου και Εμμηνόπαυσης πραγματοποιεί\,με φυσική παρουσία\,το \n11ο Πανελλήνιο Συνέδριό της στις 13-15 Φεβρουαρίου 2026\, \nστο Ξενοδοχείο Crowne Plaza στην Αθήνα. \n  \nΗ Οργανωτική Επιτροπή του Συνεδρίου προσκαλεί τους ενδιαφερόμενους \nνα υποβάλλουν εργασίες για Προφορική Ανακοίνωση. \n  \nΠροθεσμία υποβολής περιλήψεων: 12 Ιανουαρίου 2026 \n  \nΗ υποβολή των περιλήψεων πραγματοποιείται μέσω email  \nστο emmino@projector-company.gr \n  \nΓια να δείτε τις οδηγίες σύνταξης και υποβολής περιλήψεων \nκάνετε κλικ στο παρακάτω Link: \n\n\n\n\n\n\n\n\n\n\n\n\n\n\n\n\n\n\n\n\n\n\n\n\n\n\n\n\n\n\n\n\nΠεριλήψεις εργασιών\n\n\n\n\n\n\n\n\n\n\n\n\n\n\n\n\n\n\n\n\n\n\n\n\n\n\n\n\n\n\n\n\n\n\n\n\n\n\n\n\nΕΓΓΡΑΦΕΣ \nΌλες οι εγγραφές πραγματοποιούνται ηλεκτρονικά μέσω της ιστοσελίδας του Συνεδρίου \n\n\n\n\n\n\n\n\n\n\n\n\nΕγγραφές\n\n\n\n\n\n\n\n\n\n\n\n\n\n\n\n\n\n\n\n\n\n\n\n\n\n\n\n\n\n\n\n\n\n\n\n\n\n\n\n\n\n\n\n\n\n\n\n\n\n\n\n\n\n\n\n\n\n\n\n\n\n\n\n\n\n\n\nΣημειώσεις: \n1. Οι συμμετέχοντες είναι απαραίτητο να προσκομίζουν κατάλληλο έγγραφο που θα επιβεβαιώνει την ιδιότητά τους. \n2. Στις τιμές των εγγραφών συμπεριλαμβάνεται ΦΠΑ 24%. \n\n\n\n\n\n\n\n\n\n\n\n\n\n\n\n\n\n\n\n\n\n\n\n\n\n\n\n\n\n\n\n\n\n\n\n\n\n\n\n\n\n\n\n\n\n\n\n\n\n\n\n\n\n\n\nAlexandroupoleos 8 & Dervenion \nMetamorfosi 144 52 \nTel: 695 180 3550 \nE-mail: emmino@projector-company.gr \nWebsite: https://projector-web.gr/gr/home
URL:https://endo.gr/event/11%ce%bf-%cf%80%ce%b1%ce%bd%ce%b5%ce%bb%ce%bb%ce%ae%ce%bd%ce%b9%ce%bf-%cf%83%cf%85%ce%bd%ce%ad%ce%b4%cf%81%ce%b9%ce%bf-%cf%84%ce%b7%cf%82-%ce%b5%ce%bb%ce%bb%ce%b7%ce%bd%ce%b9%ce%ba%ce%ae/
LOCATION:Crowne Plaza Athens\, Μιχαλακοπούλου 50\, Αθήνα\, ATTIKI\, 11528\, Greece
CATEGORIES:Άλλων Εταιρειών,Υπό την αιγίδα της Εταιρείας
ATTACH;FMTTYPE=image/jpeg:https://endo.gr/wp-content/uploads/2025/12/Image-29-01-2026-at-10.30.jpeg
END:VEVENT
BEGIN:VEVENT
DTSTART;TZID=Europe/Athens:20260320T090000
DTEND;TZID=Europe/Athens:20260320T140000
DTSTAMP:20260423T010727
CREATED:20260309T134356Z
LAST-MODIFIED:20260326T124532Z
UID:26231-1773997200-1774015200@endo.gr
SUMMARY:Δωρεάν Υπερηχογραφική Εξέταση Θυρεοειδούς
DESCRIPTION:Δείτε εδώ το δελτίο τύπου της δράσης δωρεάν υπερηχογραφικής εξέτασης θυρεοειδούς που πραγματοποιήθηκε την Παρασκευή 20/3/2026\, στο Δήμο Μεταμόρφωσης.
URL:https://endo.gr/event/%ce%b4%cf%89%cf%81%ce%b5%ce%ac%ce%bd-%cf%85%cf%80%ce%b5%cf%81%ce%b7%cf%87%ce%bf%ce%b3%cf%81%ce%b1%cf%86%ce%b9%ce%ba%ce%ae-%ce%b5%ce%be%ce%ad%cf%84%ce%b1%cf%83%ce%b7-%ce%b8%cf%85%cf%81%ce%b5%ce%bf-2/
LOCATION:ATTIKI
CATEGORIES:Άλλων Εταιρειών,Εκδηλώσεις E.E.E.,Συνδιοργάνωση με την Εταιρεία
ATTACH;FMTTYPE=image/jpeg:https://endo.gr/wp-content/uploads/2026/03/DimosMetamAfisa20-3-26_1a-scaled.jpg
END:VEVENT
BEGIN:VEVENT
DTSTART;VALUE=DATE:20260327
DTEND;VALUE=DATE:20260330
DTSTAMP:20260423T010727
CREATED:20260326T090243Z
LAST-MODIFIED:20260326T090920Z
UID:26281-1774569600-1774828799@endo.gr
SUMMARY:Ημέρες Παθολογίας 2026: Διλήμματα στην Κλινική Παθολογία
DESCRIPTION:Αγαπητές και αγαπητοί συνάδελφοι\, \nΜε ιδιαίτερη τιμή και χαρά σας καλωσορίζουμε στο 34o Έτος «Ημέρες Παθολογίας 2026: Διλήμματα στην Κλινική Παθολογία»\, το οποίο θα πραγματοποιηθεί με φυσική παρουσία στις 27–29 Μαρτίου 2026\, στο ξενοδοχείο Crowne Plaza Hotel\, στην Αθήνα. Το Συνέδριο διοργανώνεται από την Ελληνική Εταιρεία Καρκίνου Πνεύμονα σε συνεργασία με την Γ΄ Παθολογική Κλινική και Ομώνυμο Εργαστήριο της Ιατρικής Σχολής ΕΚΠΑ. \nΟι «Ημέρες Παθολογίας» διοργανώνονται χωρίς διακοπή για περισσότερα από 30 χρόνια και έχουν καθιερωθεί ως ένα σημαντικό ετήσιο γεγονός αναφοράς για την εκπαίδευση των κλινικών γιατρών στο πεδίο της Παθολογίας. Η Ιατρική αλλάζει ταχύτατα και ο Παθολόγος έρχεται αντιμέτωπος με σημαντικά διλήμματα στην διάγνωση και την θεραπεία με αποτέλεσμα η ανανέωση και η επικαιροποίηση της γνώσης να είναι πλέον αναγκαία και ικανή συνθήκη. Η πρόσκληση συμμετοχής απευθύνεται σε όλες της βαθμίδες της ιατρικής εξέλιξης όπως ειδικευμένοι και ειδικευόμενοι\nγιατροί\, φοιτητές ιατρικής αλλά και επαγγελματίες υγείας όλων των ειδικοτήτων\, που ασχολούνται με τη φροντίδα ασθενών τόσο στην πρωτοβάθμια υγεία όσο και στο νοσοκομειακό περιβάλλον.\nΜερικά από τα θέματα που παραδοσιακά καλύπτονται στο Συνέδριό μας περιλαμβάνουν την πρακτική προσέγγιση καθημερινών κλινικών προβλημάτων και διλημμάτων μέσα από πραγματικές περιπτώσεις ασθενών\, την ανταλλαγή γνώσεων και εμπειρίας με άλλες ειδικότητες\, την κριτική παρουσίαση σύγχρονων διαγνωστικών και θεραπευτικών στρατηγικών σε σημαντικά κλινικά σενάρια\, τα εξειδικευμένα κλινικά φροντιστήρια με διαδραστικό χαρακτήρα βασισμένα σε ενδιαφέρουσες κλινικές περιπτώσεις\, οι οποίες προσεγγίζονται υπό το πρίσμα των σύγχρονων κατευθυντήριων οδηγιών. \nΈνα από τα πιο σημαντικά χαρακτηριστικά των “Ημερών Παθολογίας” είναι το γεγονός ότι το Συνέδριό μας δίνει βήμα από τη μια μεριά σε καταξιωμένους διεθνούς φήμης επιστήμονες που παρουσιάζουν επίκαιρα θέματα γενικής απήχησης αλλά\, από την άλλη\, προσφέρει και την ευκαιρία στους φοιτητές μας να παρουσιάσουν οι ίδιοι και να εκτεθούν έτσι για πρώτη φορά σε μια ακαδημαϊκή και επιστημονική δραστηριότητα που θα τους συνοδεύει σε όλη τη διάρκεια της καριέρας τους. \nΜε αυτά τα δεδομένα\, το Συνέδριο συνεχίζει τον δυναμικό του χαρακτήρα με συμμετοχή σημαντικών επιστημόνων από όλες τις ειδικότητες της Παθολογίας\, με στόχο την παρουσίαση των προκλήσεων που αντιμετωπίζει ο Παθολόγος στην καθημερινή κλινική πράξη\, και την ορθή διαγνωστική και θεραπευτική παρέμβαση\, στα πλαίσια των νεότερων εξελίξεων. \nΣας καλούμε να συμμετέχετε ενεργά στις εργασίες του Συνεδρίου και σας καλωσορίζουμε σε μία εποικοδομητική επιστημονική συνάντηση. \nΟι Πρόεδροι του Συνεδρίου\, \nΜελπομένη Πέππα                                            Κωνσταντίνος N. Συρίγος\nΚαθηγήτρια Ενδοκρινολογίας                        Καθηγητής Παθολογίας & Ογκολογίας\nΙατρικής Σχολής ΕΚΠΑ                                    Ιατρικής Σχολής ΕΚΠΑ \n\n 
URL:https://endo.gr/event/%ce%b7%ce%bc%ce%ad%cf%81%ce%b5%cf%82-%cf%80%ce%b1%ce%b8%ce%bf%ce%bb%ce%bf%ce%b3%ce%af%ce%b1%cf%82-2026-%ce%b4%ce%b9%ce%bb%ce%ae%ce%bc%ce%bc%ce%b1%cf%84%ce%b1-%cf%83%cf%84%ce%b7%ce%bd-%ce%ba%ce%bb/
LOCATION:Crowne Plaza Athens\, Μιχαλακοπούλου 50\, Αθήνα\, ATTIKI\, 11528\, Greece
CATEGORIES:Άλλων Εταιρειών
ATTACH;FMTTYPE=image/png:https://endo.gr/wp-content/uploads/2026/03/path.png
END:VEVENT
BEGIN:VEVENT
DTSTART;VALUE=DATE:20260402
DTEND;VALUE=DATE:20260405
DTSTAMP:20260423T010727
CREATED:20260319T122003Z
LAST-MODIFIED:20260331T093320Z
UID:26262-1775088000-1775347199@endo.gr
SUMMARY:52ο ΕΠΙΣ
DESCRIPTION:Σας προσκαλούμε στο 52ο Ετήσιο Πανελλήνιο Ιατρικό Συνέδριο (ΕΠΙΣ)\, που διοργανώνει η Ιατρική Εταιρεία Αθηνών\, στις 2-4 Απριλίου 2026\, στο Μέγαρο Διεθνές Συνεδριακό Κέντρο Αθηνών.
URL:https://endo.gr/event/52%ce%bf-%ce%b5%cf%80%ce%b9%cf%82/
LOCATION:Μέγαρο Μουσικής Αθηνών\, Βασ. Σοφίας και Κόκκαλη\, Αθήνα\, 11521\, Greece
CATEGORIES:Άλλων Εταιρειών
ATTACH;FMTTYPE=image/jpeg:https://endo.gr/wp-content/uploads/2026/03/52o-EPIS_Prok-Program_10.3_new-Extract1-conv-1.jpeg
END:VEVENT
BEGIN:VEVENT
DTSTART;VALUE=DATE:20260417
DTEND;VALUE=DATE:20260420
DTSTAMP:20260423T010727
CREATED:20251224T120616Z
LAST-MODIFIED:20251224T120738Z
UID:25773-1776384000-1776643199@endo.gr
SUMMARY:Η Πυρηνική Ιατρική στην Ογκολογία. Ενσωματώνοντας την διεπιστημονική συνέργεια
DESCRIPTION:Σας ενημερώνουμε για τη διοργάνωση του συνεδρίου: Η Πυρηνική Ιατρική στην Ογκολογία. Ενσωματώνοντας την διεπιστημονική συνέργεια\, το οποίο θα πραγματοποιηθεί 17 έως 19 Απριλίου 2026\, στο ξενοδοχείο Makedonia Palace\, στη Θεσσαλονίκη.
URL:https://endo.gr/event/%ce%b7-%cf%80%cf%85%cf%81%ce%b7%ce%bd%ce%b9%ce%ba%ce%ae-%ce%b9%ce%b1%cf%84%cf%81%ce%b9%ce%ba%ce%ae-%cf%83%cf%84%ce%b7%ce%bd-%ce%bf%ce%b3%ce%ba%ce%bf%ce%bb%ce%bf%ce%b3%ce%af%ce%b1-%ce%b5%ce%bd%cf%83/
LOCATION:Makedonia Palace\, Λεωφ. Μεγ. Αλεξάνδρου 2\, Θεσσαλονικη\, 54640
CATEGORIES:Άλλων Εταιρειών,Υπό την αιγίδα της Εταιρείας
ATTACH;FMTTYPE=image/jpeg:https://endo.gr/wp-content/uploads/2025/12/Αφίσα-συνεδρίου-Πυρηνικής-Ιατρικής-scaled.jpg
END:VEVENT
BEGIN:VEVENT
DTSTART;VALUE=DATE:20260425
DTEND;VALUE=DATE:20260426
DTSTAMP:20260423T010727
CREATED:20260311T074705Z
LAST-MODIFIED:20260311T074827Z
UID:26242-1777075200-1777161599@endo.gr
SUMMARY:11th Birmingham Pituitary Preceptorship International Meeting
DESCRIPTION:Η Ομάδα Υπόφυσης του Πανεπιστημίου του Birmingham και του Queen Elizabeth Hospital Birmingham οργανώνει το 11ο BIRMINGHAM PITUITARY PRECEPTORSHIP INTERNATIONAL MEETING\, στις 25 Απριλιου 2026. Το meeting περιλαμβάνει διαλέξεις και case-based learning πάνω στη διάγνωση και την αντιμετώπιση νοσημάτων της υπόφυσης και απευθύνεται σε ειδικευόμενους και ειδικευμένους ενδοκρινολόγους που ενδιαφέρονται για το αντικείμενο. Θεωρείται επίσης ως ένα από τα πιο πετυχημένα στον τομέα του σε Ευρωπαικό επίπεδο με αυξημένη ζήτηση και πλήρη κάλυψη των διαθέσιμων θέσεων. \nΤο κόστος εγγραφής είναι 45 λίρες Αγγλίας και τα έσοδα θα διατεθούν στο φιλανθρωπικό τμήμα του Queen Elizabeth Hospital Birmingham \nhttps://hospitalcharity.org/products/10th-birmingham-pituitary-preceptorship-international-meeting-2024?Title=Default+Title
URL:https://endo.gr/event/11th-birmingham-pituitary-preceptorship-international-meeting/
LOCATION:ATTIKI
CATEGORIES:Άλλων Εταιρειών,Διεθνείς Εκδηλώσεις
ATTACH;FMTTYPE=image/jpeg:https://endo.gr/wp-content/uploads/2026/03/Programme-11th-Birmingham-Pituitary-Preceptorship-International-Meeting-2026-Copy-1-conv-1.jpeg
END:VEVENT
END:VCALENDAR