BEGIN:VCALENDAR
VERSION:2.0
PRODID:-//ENDO - ECPv6.15.14//NONSGML v1.0//EN
CALSCALE:GREGORIAN
METHOD:PUBLISH
X-ORIGINAL-URL:https://endo.gr
X-WR-CALDESC:Events for ENDO
REFRESH-INTERVAL;VALUE=DURATION:PT1H
X-Robots-Tag:noindex
X-PUBLISHED-TTL:PT1H
BEGIN:VTIMEZONE
TZID:Europe/Athens
BEGIN:DAYLIGHT
TZOFFSETFROM:+0200
TZOFFSETTO:+0300
TZNAME:EEST
DTSTART:20230326T010000
END:DAYLIGHT
BEGIN:STANDARD
TZOFFSETFROM:+0300
TZOFFSETTO:+0200
TZNAME:EET
DTSTART:20231029T010000
END:STANDARD
BEGIN:DAYLIGHT
TZOFFSETFROM:+0200
TZOFFSETTO:+0300
TZNAME:EEST
DTSTART:20240331T010000
END:DAYLIGHT
BEGIN:STANDARD
TZOFFSETFROM:+0300
TZOFFSETTO:+0200
TZNAME:EET
DTSTART:20241027T010000
END:STANDARD
BEGIN:DAYLIGHT
TZOFFSETFROM:+0200
TZOFFSETTO:+0300
TZNAME:EEST
DTSTART:20250330T010000
END:DAYLIGHT
BEGIN:STANDARD
TZOFFSETFROM:+0300
TZOFFSETTO:+0200
TZNAME:EET
DTSTART:20251026T010000
END:STANDARD
END:VTIMEZONE
BEGIN:VEVENT
DTSTART;VALUE=DATE:20241121
DTEND;VALUE=DATE:20241125
DTSTAMP:20260422T190327
CREATED:20241027T234649Z
LAST-MODIFIED:20241124T205604Z
UID:17979-1732230000-1732489199@endo.gr
SUMMARY:38η Μετεκπαιδευτική Συνάντηση\, 22-24 Νοεμβρίου 2024\, Grand Serai Hotel\, Ιωάννινα
DESCRIPTION:  \nΠρόγραμμα 38ης Μετεκπαιδευτικής Συνάντησης\nΠρόγραμμα 38ης Μετεκπαιδευτικής Συνάντησης\n \n  \nΗ ΕΕΕ-ΠΕΕ διοργανώνει την 38η Μετεκπαιδευτική Συνάντηση\, από 22-24 Νοεμβρίου 2024\, στα Ιωάννινα\, στο Grand Serai Hotel. \nΚόστος εγγραφής:\nΕιδικευμένοι: 140€\nΕιδικευόμενοι: 100€\nΝοσηλευτές: Δωρεάν\nΦοιτητές: Δωρεάν \nΣτο Συνέδριο σύμφωνα με τα κριτήρια της UEMS – EACCME χορηγούνται μόρια Συνεχιζόμενης Ιατρικής Εκπαίδευσης (CME-CPD credits). \n 
URL:https://endo.gr/event/38%ce%b7-%ce%bc%ce%b5%cf%84%ce%b5%ce%ba%cf%80%ce%b1%ce%b9%ce%b4%ce%b5%cf%85%cf%84%ce%b9%ce%ba%ce%ae-%cf%83%cf%85%ce%bd%ce%ac%ce%bd%cf%84%ce%b7%cf%83%ce%b7-22-24-%ce%bd%ce%bf%ce%b5%ce%bc%ce%b2%cf%81/
LOCATION:Ιωάννινα\, Ιωάννινα\, Greece
CATEGORIES:Εκδηλώσεις E.E.E.,Μετεκπαιδευτικά Μαθήματα Ενδοκρινολογίας
ATTACH;FMTTYPE=image/webp:https://endo.gr/wp-content/uploads/2024/10/cover-2024-002-scaled-1.webp
END:VEVENT
END:VCALENDAR