BEGIN:VCALENDAR
VERSION:2.0
PRODID:-//ENDO - ECPv6.15.14//NONSGML v1.0//EN
CALSCALE:GREGORIAN
METHOD:PUBLISH
X-ORIGINAL-URL:https://endo.gr
X-WR-CALDESC:Events for ENDO
REFRESH-INTERVAL;VALUE=DURATION:PT1H
X-Robots-Tag:noindex
X-PUBLISHED-TTL:PT1H
BEGIN:VTIMEZONE
TZID:Europe/Athens
BEGIN:DAYLIGHT
TZOFFSETFROM:+0200
TZOFFSETTO:+0300
TZNAME:EEST
DTSTART:20210328T010000
END:DAYLIGHT
BEGIN:STANDARD
TZOFFSETFROM:+0300
TZOFFSETTO:+0200
TZNAME:EET
DTSTART:20211031T010000
END:STANDARD
BEGIN:DAYLIGHT
TZOFFSETFROM:+0200
TZOFFSETTO:+0300
TZNAME:EEST
DTSTART:20220327T010000
END:DAYLIGHT
BEGIN:STANDARD
TZOFFSETFROM:+0300
TZOFFSETTO:+0200
TZNAME:EET
DTSTART:20221030T010000
END:STANDARD
BEGIN:DAYLIGHT
TZOFFSETFROM:+0200
TZOFFSETTO:+0300
TZNAME:EEST
DTSTART:20230326T010000
END:DAYLIGHT
BEGIN:STANDARD
TZOFFSETFROM:+0300
TZOFFSETTO:+0200
TZNAME:EET
DTSTART:20231029T010000
END:STANDARD
END:VTIMEZONE
BEGIN:VEVENT
DTSTART;TZID=Europe/Athens:20221119T080000
DTEND;TZID=Europe/Athens:20221119T170000
DTSTAMP:20260424T095558
CREATED:20221119T122149Z
LAST-MODIFIED:20250120T122310Z
UID:21338-1668844800-1668877200@endo.gr
SUMMARY:Webinar 19/11/2022\, Παρουσίαση περιστατικών ΓΝΑ «ΕΥΑΓΓΕΛΙΣΜΟΣ»\, ΓΝΑ «Γ. ΓΕΝΝΗΜΑΤΑΣ»\, ΓΝΠ «ΑΓΙΟΣ ΠΑΝΤΕΛΕΗΜΩΝ»
DESCRIPTION:Αγαπητοί Συνάδελφοι\, \nΤο Σάββατο 19/11/2022 στις 11.00 π.μ. πραγματοποιείται το Webinar της Ελληνικής Ενδοκρινολογικής Εταιρείας\, στο πλαίσιο των μετεκπαιδευτικών της μαθημάτων μέσω διαδικτύου για το 2022. \n1ο Περιστατικό\, ΓΝΑ «ΕΥΑΓΓΕΛΙΣΜΟΣ» \nΤίτλος: Γυναίκα 69 ετών με καχεξία\, βαρειά καρδιακή ανεπάρκεια\, δερματικό εξάνθημα και όγκο του παγκρέατος \nΥπεύθυνος: Στυλιανός Τσαγκαράκης\, Συντονιστής Διευθυντής\, Ενδοκρινολογικής Κλινικής\, Διαβητολογικού Κέντρου και Κέντρου Εμπειρογνωμοσύνης Σπανίων Ενδοκρινικών νοσημάτων ΓΝΑ «Ο Ευαγγελισμός – Πολυκλινική». \nΠαρουσίαση: Β. Αντωνοπούλου\, ειδικευόμενη ιατρός τμήματος Ενδοκρινολογίας-Διαβητολογικού κέντρου ΓΝΑ «Ο Ευαγγελισμός»\nΓ. Κυριακόπουλος\, Επιμελητής Β\, Παθολογοανατομικό Τμήμα\, ΓΝΑ «Ο Ευαγγελισμός»\nΔήμητρα-Αργυρώ Βασιλειάδη\, Διευθύντρια Ενδοκρινολογικής Κλινικής\, Διαβητολογικού Κέντρου και Κέντρου Εμπειρογνωμοσύνης Σπανίων\nΕνδοκρινικών Νοσημάτων ΓΝΑ «Ο Ευαγγελισμός». \nΣχολιασμός: Κρυσταλλένια Αλεξανδράκη\, MD\, PhD\, MSc\, MSc\, Ενδοκρινολόγος\, Επιστημονικός Συνεργάτης Β’ Χειρουργικής Κλινικής\, Αρεταίειο Νοσοκομείο\, ΕΚΠΑ \n————————————————————————–\n2o Περιστατικό: ΓΝΑ «Γ. ΓΕΝΝΗΜΑΤΑΣ» \nΤίτλος: Υπονατριαιμία \nΗ υπονατριαιμία αποτελεί την πιο συχνή ηλεκτρολυτική διαταραχή που απαντάται στην κλινική πράξη. Παρατηρείται στο 30% των νοσηλευόμενων ασθενών και χαρακτηρίζεται από ένα ευρύ φάσμα κλινικών εκδηλώσεων\, οι οποίες μπορεί να είναι ήπιες έως και απειλητικές για τη ζωή του ασθενούς. Τα αίτια της υπονατριαιμίας είναι πολλαπλά\, έχουν διαφορετικούς παθοφυσιολικούς μηχανισμούς ενώ μπορούν και να συνυπάρχουν δυσχεραίνοντας τη θεραπευτική αντιμετώπιση της υπονατριαιμίας. Παρουσιάζουμε δύο περιπτώσεις νοσηλευόμενων ασθενών με υπονατριαιμία\, την διαγνωστική προσέγγιση των αιτιών της καθώς και τις προκλήσεις στην αντιμετώπιση της. \nΥπεύθυνη: Θεοδώρα Κουνάδη\, Ενδοκρινολόγος\, Διευθύντρια Ενδοκρινολογικής Μονάδας\, Μεταβολισμού & Κέντρου Διαβήτη ΓΝΑ “Γ. Γεννηματάς”.\nΠαρουσίαση: Καλιακάτσου Ειρήνη\, Ειδικευόμενη Ενδοκρινολογίας\nΚαλαντζή Αθανασία\, Ενδοκρινολόγος\, Επικουρική Επιμελήτρια \nΣχολιασμός: Σαριδάκη Αικατερίνη\, Ιατρός Ενδροκρινολόγος\, πρ. Διευθύντρια ΕΣΥ Ηράκλείο Κρήτης\, Διευθύντρια Β Ενδοκρινολογικού\, Σύμβουλος Ενδοκρινολόγος Γενικό Νοσοκομείο Ευρωκλινικής Αθηνών \n————————————————————————————–\n3ο Περιστατικό: ΓΝΠ «ΑΓΙΟΣ ΠΑΝΤΕΛΕΗΜΩΝ» \nΤίτλος: Μικτό καρκίνωμα θυρεοειδούς αδένα και μόρφωμα επινεφριδίου \nΠεριγράφουμε την περίπτωση ασθενούς\, ο οποίος προσήλθε προς αξιολόγηση υπερηχογραφήματος θυρεοειδούς\, που είχε κάνει στα πλαίσια γενικού ελέγχου.\nΣυγκεκριμένα\, αναφέρονται τα βήματα της διαγνωστικής προσέγγισης ασθενούς με οζώδη νόσο θυρεοειδούς\, καθώς και οι θεραπευτικές επιλογές σύμφωνα με τα αποτελέσματα\, τόσο του εργαστηριακού – απεικονιστικού ελέγχου\, όσο και του πορίσματος των ιστολογικών εξετάσεων.\nΑνεξάρτητα από το γεγονός\, ότι η συχνότητα του καρκίνου του θυρεοειδούς έχει αυξηθεί σημαντικά τα τελευταία χρόνια\, η ταυτόχρονη εμφάνιση πολλαπλών όγκων σε έναν θυρεοειδή αδένα είναι ακόμη ένα σπάνιο φαινόμενο.\nΈχουν προταθεί διάφορες θεωρίες ως αίτια σύγχρονης εκδήλωσης θηλώδους και μυελοειδούς καρκινώματος\, ωστόσο ο ακριβής μηχανισμός παραμένει αδιευκρίνιστος.\nΕπιπλέον\, η παρουσία μυελοειδούς καρκινώματος και μορφώματος επινεφριδίου σε έναν ασθενή\, χρήζει περαιτέρω ελέγχου\, στα πλαίσια διερεύνησης υποκείμενων γενετικών συνδρόμων. \nΥπεύθυνος: Χαράλαμπος Τσεντίδης\, Επιμελητής Α’ ΕΣΥ\, Επιστημονικά υπεύθυνος του τμήματος Ενδοκρινολογίας – Μεταβολισμού – Σακχαρώδη Διαβήτη του Γ.Ν.\nΝίκαιας-Πειραιώς «Άγιος Παντελεήμων» \nΠαρουσίαση: Λυμνιάτη Χριστίνα\, Ενδοκρινολόγος\, Επιμελήτρια Β΄ Ε.Σ.Υ. Γ. Ν. Νίκαιας Πειραιά «ΑΓ. Παντελεήμων» \nΣχολιασμός: Λαμπρινή Παπαναστασίου\, Ενδοκρινολόγος\, Διευθύντρια ΓΝΑ “Γ. Γεννηματάς” \nΠροκειμένου να παρακολουθήσετε ελεύθερα το webinar\, μπορείτε να προεγγραφείτε μέσω της διεύθυνσης:\nhttps://attendee.gotowebinar.com/register/2534121841252075024 \n(Webinar ID: 177-609-867) \nσυμπληρώνοντας το ονοματεπώνυμό σας και το email σας στη φόρμα εγγραφής\, ώστε να λάβετε αυτόματα ένα νέο e-mail που θα περιέχει τον σύνδεσμο (link) μέσω του οποίου θα μεταδοθεί το webinar. \nΠροσβλέποντας πάντα στην πολύτιμη ενεργό συμμετοχή σας. \nΓια την Ελληνική Ενδοκρινολογική Εταιρεία. \nΜε εκτίμηση\, \nΗ Πρόεδρος \nΑ. Βρυωνίδου
URL:https://endo.gr/event/webinar-19-11-2022-%cf%80%ce%b1%cf%81%ce%bf%cf%85%cf%83%ce%af%ce%b1%cf%83%ce%b7-%cf%80%ce%b5%cf%81%ce%b9%cf%83%cf%84%ce%b1%cf%84%ce%b9%ce%ba%cf%8e%ce%bd-%ce%b3%ce%bd%ce%b1-%ce%b5%cf%85%ce%b1/
LOCATION:Webinar Παρουσίαση περιστατικών
CATEGORIES:Webinars παρουσίασης περιστατικών,Εκδηλώσεις E.E.E.
END:VEVENT
END:VCALENDAR