BEGIN:VCALENDAR
VERSION:2.0
PRODID:-//ENDO - ECPv6.15.14//NONSGML v1.0//EN
CALSCALE:GREGORIAN
METHOD:PUBLISH
X-ORIGINAL-URL:https://endo.gr
X-WR-CALDESC:Events for ENDO
REFRESH-INTERVAL;VALUE=DURATION:PT1H
X-Robots-Tag:noindex
X-PUBLISHED-TTL:PT1H
BEGIN:VTIMEZONE
TZID:Europe/Athens
BEGIN:DAYLIGHT
TZOFFSETFROM:+0200
TZOFFSETTO:+0300
TZNAME:EEST
DTSTART:20220327T010000
END:DAYLIGHT
BEGIN:STANDARD
TZOFFSETFROM:+0300
TZOFFSETTO:+0200
TZNAME:EET
DTSTART:20221030T010000
END:STANDARD
BEGIN:DAYLIGHT
TZOFFSETFROM:+0200
TZOFFSETTO:+0300
TZNAME:EEST
DTSTART:20230326T010000
END:DAYLIGHT
BEGIN:STANDARD
TZOFFSETFROM:+0300
TZOFFSETTO:+0200
TZNAME:EET
DTSTART:20231029T010000
END:STANDARD
BEGIN:DAYLIGHT
TZOFFSETFROM:+0200
TZOFFSETTO:+0300
TZNAME:EEST
DTSTART:20240331T010000
END:DAYLIGHT
BEGIN:STANDARD
TZOFFSETFROM:+0300
TZOFFSETTO:+0200
TZNAME:EET
DTSTART:20241027T010000
END:STANDARD
END:VTIMEZONE
BEGIN:VEVENT
DTSTART;VALUE=DATE:20231216
DTEND;VALUE=DATE:20231217
DTSTAMP:20260423T140743
CREATED:20231216T115703Z
LAST-MODIFIED:20250115T115900Z
UID:20976-1702684800-1702771199@endo.gr
SUMMARY:Webinar 16/12/2023\, Παρουσίαση περιστατικών ΓΝΑ «ΑΛΕΞΑΝΔΡΑ»\, ΠΓΝ «ΑΤΤΙΚΟΝ»\, ΝΠΑ «Η ΑΓΙΑ ΣΟΦΙΑ» & ΓΝΠ «ΑΓΙΟΣ ΠΑΝΤΕΛΕΗΜΩΝ»
DESCRIPTION:Αγαπητοί Συνάδελφοι\, \nΤο Σάββατο 16/12/2023\, στις 10.00 π.μ. πραγματοποιείται το Webinar της Ελληνικής Ενδοκρινολογικής Εταιρείας\, στο πλαίσιο των μετεκπαιδευτικών της μαθημάτων μέσω διαδικτύου για το 2023. \n10:00 – 10:45: 1ο Περιστατικό: ΓΝΑ «ΑΛΕΞΑΝΔΡΑ» \nΤίτλος: Ασθενής με μεταγευματικές υπογλυκαιμίες \nΣύντομη εισαγωγή:\nΠαρουσίαση ασθενούς με επεισόδια μεταγευματικής υπογλυκαιμίας\, OGTT συμβατή με Σακχαρώδη Διαβήτη και ιδιαιτέρως υψηλές τιμές ινσουλίνης \nΥπεύθυνη: Βασιλική Βασιλείου\, Διευθύντρια Ενδοκρινολογικού τμήματος ΓΝ Αλεξάνδρα  \nΠαρουσίαση: Ευαγγελία – Ντανιέλλα Δημοπούλου\, Ειδικευόμενη Ενδοκρινολογίας – ΓΝ Αλεξάνδρα  \nΣχολιασμός: Μελπομένη Πέππα\, Καθηγήτρια Ενδοκρινολογίας\, Ιατρική Σχολή ΕΚΠΑ\, Υπεύθυνη Μονάδος Ενδοκρινολογίας\, Β’ Προπαιδευτική-Παθολογική Κλινική\, Π.Γ.Ν. «Αττικόν» \n————————————————————————–\n10:45 – 11:30: 2o Περιστατικό: ΠΓΝ «ΑΤΤΙΚΟΝ» \nΤίτλος: Διαταραχή ηπατικής βιοχημείας ως πρώτη εκδήλωση σ. Turner \nΣύντομη εισαγωγή: Ασθενής 21 ετών\, με διαταραχή της ηπατικής βιοχημείας από την ηλικία των 16 ετών. Η διαγνωστική προσέγγιση οδήγησε στον έλεγχο με καρυότυπο που έθεσε την διάγνωση του σ. Turner. \nΥπεύθυνη: Μελπομένη Πέππα\, Καθηγήτρια Ενδοκρινολογίας\, Ιατρική Σχολή ΕΚΠΑ\, Υπεύθυνη Μονάδος Ενδοκρινολογίας\, Β’ Προπαιδευτική-Παθολογική Κλινική\, Π.Γ.Ν. «Αττικόν» \nΠαρουσίαση: Αφροδίτη Ρούμπου\, Ειδικευόμενη Ενδοκρινολογίας\, Μονάδα Ενδοκρινολογίας και Μεταβολικών Παθήσεων των Οστών\, Β’ Προπαιδευτική Παθολογική Κλινική\, Π.Γ.Ν. «Αττικόν»\nΤηνιακού Ντίνα\, Καθηγήτρια\, Υπεύθυνη Παθολογοανατομικού Εργαστηρίου\, Αρεταίειο Νοσοκομείο\, Ιατρική Σχολή\, ΕΚΠΑ\nΕλένη Στούπη\, Ειδικευόμενη Παθολογοανατoμίας\, Παθολογοανατομικό Εργαστήριο\, Αρεταίειο Νοσοκομειο\, Ιατρική Σχολή\, ΕΚΠΑ\nΣιασιάκου Σοφία\, Παθολόγος-Ηπατολόγος\, Διευθύντρια ΕΣΥ\, Υπεύθυνη Ηπατολογικού Εργαστηρίου\, Γ’ Πανεπιστημιακή Παθολογική Κλινική\, Γ.Ν. «Σωτηρία» \nΣχολιασμός: Χριστίνα Κανακά-Gantenbein\, Καθηγήτρια Παιδιατρικής – Παιδιατρικής Ενδοκρινολογίας\, Διευθύντρια της Α’ Παιδιατρικής Κλινικής ΕΚΠΑ \n—————————————————————————————- \n11:30 – 12:15: 3o Περιστατικό: ΝΠΑ «Η ΑΓΙΑ ΣΟΦΙΑ» \nΤίτλος: Νεογνό με δυσμορφίες μέσης γραμμής και μικροπεϊσμό \nΥπεύθυνη: Χριστίνα Κανακά-Gantenbein\, Καθηγήτρια Παιδιατρικής – Παιδιατρικής Ενδοκρινολογίας\, Διευθύντρια της Α’ Παιδιατρικής Κλινικής ΕΚΠΑ \nΠαρουσίαση: Παναγιώτα Μαρκοπούλου Ειδικευόμενη Παιδιατρικής της Α’ Παιδιατρικής Κλινικής ΕΚΠΑ \nΣχολιασμός: Αμαλία Σερτεδάκη\, Εργαστηριακό Διδακτικό Προσωπικό (Ε.ΔΙ.Π.) Ιατρικής Σχολής Ε.Κ.Π.Α. Α’ Παιδιατρική Κλινική Παν/μίου Αθηνών\, Νοσοκομείο Παίδων «Η Αγία Σοφία». Γνωστικό αντικείμενο: «Μοριακή Ενδοκρινολογία». \n————————————————————————————————————– \n12:15 -13:00: 4o Περιστατικό: ΓΝΠ «ΑΓΙΟΣ ΠΑΝΤΕΛΕΗΜΩΝ» \nΤίτλος: Ινσουλίνωμα αγκιστροειδούς απόφυσης παγκρέατος \nΣύντομη εισαγωγή: “Αν και το ινσουλίνωμα είναι συχνό αίτιο υπερινσουλινικής υπογλυκαιμίας\, υπάρχουν πολλές φορές δυσκολίες στην βιοχημική του διάγνωση αλλά και στην ανατομική το εντόπιση. Σκοπός είναι η ασφαλής και επιτυχής εξαίρεση της υποπτης εστίας” \nΥπεύθυνος: Χαράλαμπος Τσεντίδης\, Επιμελητής Α’ ΕΣΥ\, Επιστημονικά υπεύθυνος του Τμήματος Ενδοκρινολογίας – Μεταβολισμού – Σακχαρώδη Διαβήτη του Γ.Ν. Νίκαιας-Πειραιώς «Άγιος Παντελεήμων» \nΠαρουσίαση: Θεοδώρα Πετροπούλου\, Ειδικευόμενη τμήματος \nΣχολιασμός: Βασιλική Βασιλείου\, Διευθύντρια Ενδοκρινολογικού τμήματος ΓΝ Αλεξάνδρα \nΠροκειμένου να παρακολουθήσετε ελεύθερα το webinar\, μπορείτε να προεγγραφείτε μέσω της διεύθυνσης:\nhttps://attendee.gotowebinar.com/register/2394408006974275929 \n(Webinar ID: 254-241-587) \nσυμπληρώνοντας το ονοματεπώνυμό σας και το email σας στη φόρμα εγγραφής\, ώστε να λάβετε αυτόματα ένα νέο e-mail που θα περιέχει τον σύνδεσμο (link) μέσω του οποίου θα μεταδοθεί το webinar. \nΠροσβλέποντας πάντα στην πολύτιμη ενεργό συμμετοχή σας. \nΓια την Ελληνική Ενδοκρινολογική Εταιρεία. \nΜε εκτίμηση\, \nΗ ΠΡΟΕΔΡΟΣ\nΑ. Βρυωνίδου \nΗ ΓΕΝ. ΓΡΑΜΜΑΤΕΑΣ\nΒ. Βασιλείου
URL:https://endo.gr/event/webinar-16-12-2023-%cf%80%ce%b1%cf%81%ce%bf%cf%85%cf%83%ce%af%ce%b1%cf%83%ce%b7-%cf%80%ce%b5%cf%81%ce%b9%cf%83%cf%84%ce%b1%cf%84%ce%b9%ce%ba%cf%8e%ce%bd-%ce%b3%ce%bd%ce%b1-%ce%b1%ce%bb%ce%b5/
LOCATION:Webinar Παρουσίαση περιστατικών
CATEGORIES:Webinars παρουσίασης περιστατικών,Εκδηλώσεις E.E.E.
END:VEVENT
END:VCALENDAR