BEGIN:VCALENDAR
VERSION:2.0
PRODID:-//ENDO - ECPv6.15.14//NONSGML v1.0//EN
CALSCALE:GREGORIAN
METHOD:PUBLISH
X-WR-CALNAME:ENDO
X-ORIGINAL-URL:https://endo.gr
X-WR-CALDESC:Events for ENDO
REFRESH-INTERVAL;VALUE=DURATION:PT1H
X-Robots-Tag:noindex
X-PUBLISHED-TTL:PT1H
BEGIN:VTIMEZONE
TZID:Europe/Athens
BEGIN:DAYLIGHT
TZOFFSETFROM:+0200
TZOFFSETTO:+0300
TZNAME:EEST
DTSTART:20240331T010000
END:DAYLIGHT
BEGIN:STANDARD
TZOFFSETFROM:+0300
TZOFFSETTO:+0200
TZNAME:EET
DTSTART:20241027T010000
END:STANDARD
BEGIN:DAYLIGHT
TZOFFSETFROM:+0200
TZOFFSETTO:+0300
TZNAME:EEST
DTSTART:20250330T010000
END:DAYLIGHT
BEGIN:STANDARD
TZOFFSETFROM:+0300
TZOFFSETTO:+0200
TZNAME:EET
DTSTART:20251026T010000
END:STANDARD
BEGIN:DAYLIGHT
TZOFFSETFROM:+0200
TZOFFSETTO:+0300
TZNAME:EEST
DTSTART:20260329T010000
END:DAYLIGHT
BEGIN:STANDARD
TZOFFSETFROM:+0300
TZOFFSETTO:+0200
TZNAME:EET
DTSTART:20261025T010000
END:STANDARD
BEGIN:DAYLIGHT
TZOFFSETFROM:+0200
TZOFFSETTO:+0300
TZNAME:EEST
DTSTART:20270328T010000
END:DAYLIGHT
BEGIN:STANDARD
TZOFFSETFROM:+0300
TZOFFSETTO:+0200
TZNAME:EET
DTSTART:20271031T010000
END:STANDARD
END:VTIMEZONE
BEGIN:VEVENT
DTSTART;TZID=Europe/Athens:20251018T100000
DTEND;TZID=Europe/Athens:20251018T123000
DTSTAMP:20260424T013528
CREATED:20251013T103304Z
LAST-MODIFIED:20251013T104239Z
UID:24894-1760781600-1760790600@endo.gr
SUMMARY:Webinar 18/10/2025\, Παρουσίαση περιστατικών ΤΜ. ΕΝΔΟΚΡΙΝΟΛΟΓΙΑΣ & ΣΔ\, ΟΜΙΛΟΥ ΥΓΕΙΑ\, ΓΝΑ ΚΟΡΓΙΑΛΕΝΕΙΟ –  ΜΠΕΝΑΚΕΙΟ Ε.Ε.Σ. & ΑΝΘ «ΘΕΑΓΕΝΕΙΟ»
DESCRIPTION:Αγαπητοί Συνάδελφοι\, \nΤο Σάββατο 18/10/2025\, στις 10.00 π.μ. πραγματοποιείται το Webinar της Ελληνικής Ενδοκρινολογικής Εταιρείας\, στο πλαίσιο των μετεκπαιδευτικών της μαθημάτων μέσω διαδικτύου για το 2025. \n1ο Περιστατικό: ΤΜ. ΕΝΔΟΚΡΙΝΟΛΟΓΙΑΣ & ΣΑΚΧΑΡΩΔΗ ΔΙΑΒΗΤΗ\, ΟΜΙΛΟΥ ΥΓΕΙΑ\, ΣΑΒΒΑTO 18/10/2025\, ΩΡΑ 10:00 – 10:45 \nΤίτλος: Υποφυσιακό Αδένωμα  “Φαντομάς” σε γυναίκα ασθενή 64 ετών με ψωριασική αρθρίτιδα \nΥπεύθυνη: Διαμάντη Κανδαράκη Ευανθία\, Ομότιμη Καθηγήτρια  – Διευθύντρια Τμήματος \nΠαρουσίαση: Παππάς Δημήτριος – Συνεργάτης τμήματος Ενδοκρινολογίας και Διαβήτη του Νοσοκομείου ΥΓΕΙΑ \nΣχολιασμός: Ζωή Α. Ευσταθιάδου\, Διευθύντρια ΕΣΥ\, Ενδοκρινολογικό Τμήμα “Ιπποκράτειο” ΓΝ Θεσσαλονίκης \n——————————————————————————————————– \n2o Περιστατικό: ΓΝΑ ΚΟΡΓΙΑΛΕΝΕΙΟ –  ΜΠΕΝΑΚΕΙΟ Ε.Ε.Σ\, ΣΑΒΒΑTO 18/10/2025\, ΩΡΑ 10:45 – 11:30 \nΤίτλος: Ασθενής με συγγενή υπερπλασία επινεφριδίων και ταυτόχρονη παρουσία  μορφωμάτων στα  επιινεφρίδια και στους όρχεις \nΥπεύθυνη:  Α. Βρυωνίδου-Μπομποτά\, Συντ. Διευθύντρια\, Τμήμα Ενδοκρινολογίας και Μεταβολισμού – Διαβητολογικό Κέντρο\, ΓΝΑ Κοργιαλένειο-Μπενάκειο. \nΠερίληψη: Άνδρας 57 ετών με συγγενή υπερπλασία επινεφριδίων λόγω ανεπάρκειας της 21ΟΗ-λάσης (αρρενοποιητική μορφή) διαγνωσθείσας σε ηλικία 2 ετών\, προσήλθε στο Τμήμα μας για διερεύνηση μεγάλου μορφώματος δεξιού επινεφριδίου\, το οποίο βρέθηκε σε CT θώρακος που διενεργήθηκε λόγω άλγους στο δεξιό υποχόνδριο από έτους. Ανέφερε λήψη αγωγής υποκατάστασης με υδροκορτιζόνη 20mg/ημ κάθε πρωί και ότι δεν είχε παρακολούθηση από ενδοκρινολόγο από της εφηβικής ηλικίας. Ο απεικονιστικός έλεγχος ανέδειξε α) MRI επινεφριδίων «μικτή βλάβη κυρίως συμπαγής στο ΔΕ με διαστάσεις 8χ5.5χ8.5cm και αύξηση διαστάσεων του ΑΕ με μικτή βλάβη 0.5cm» και β) Υπερηχογράφημα οσχέου «απεικονιστικά ευρήματα συμβατά με υπολείμματα επινεφριδιακού ιστού στους όρχεις (TARTs)» . Συζητείται η διαχείριση του ασθενούς. \nΠαρουσίαση:  Γιώτα Πανοπούλου: Ειδικευόμενη Τμήματος \nΛουκία Σπανού\, MD\,PhD\, Ενδοκρινολόγος\, Επιμελήτρια Β Τμήματος Ενδοκρινολογίας και Μεταβολισμού – Διαβητολογικό Κέντρο\, ΓΝΑ Κοργιαλένειο-Μπενάκειο. \nΣχολιασμός:  Χρύσης Διονύσης\, Καθηγητής Παιδιατρικής – Παιδιατρικής Ενδοκρινολογίας\, Πανεπιστήμιο Πατρών \n——————————————————————————————————————————————– \n3o Περιστατικό: ΑΝΘ «ΘΕΑΓΕΝΕΙΟ»\, ΣΑΒΒΑTO 18/10/2025\, ΩΡΑ 11:30- 12:15  \nΤίτλος: Αναπλαστικό καρκίνωμα θυρεοειδούς \nΥπεύθυνη: Αλεξάνδρα Χρυσουλίδου\, Διευθύντρια Ενδοκρινολογικού Τμήματος\, Αντικαρκινικό Νοσοκομείο Θεσσαλονίκης. \nΠαρουσίαση: Κων/να Φιλιππίδου\, Ειδικευόμενη Ενδοκρινολογίας \nΕλεάνα Ζησιμοπούλου\, Επιμελήτρια Β του Τμήματος \nΣχολιασμός: Μιχαλάκη Μαρίνα\, Επίκουρη Καθηγήτρια Παθολογίας – Ενδοκρινολογίας\, Ιατρικού Tμήματος Πανεπιστημίου Πατρών \nΠροκειμένου να παρακολουθήσετε ελεύθερα το webinar\, μπορείτε να προεγγραφείτε μέσω της διεύθυνσης: https://us06web.zoom.us/webinar/register/WN_1um7JSRrQl2J5jMdq10gQw \nσυμπληρώνοντας το ονοματεπώνυμό σας και το email σας στη φόρμα εγγραφής\, ώστε να λάβετε αυτόματα ένα νέο e-mail που θα περιέχει τον σύνδεσμο (link) μέσω του οποίου θα μεταδοθεί το webinar. \nΠροσβλέποντας πάντα στην πολύτιμη ενεργό συμμετοχή σας. \nΓια την Ελληνική Ενδοκρινολογική Εταιρεία. \nΜε εκτίμηση\, \nΟ ΠΡΟΕΔΡΟΣ\nΝ. Γεωργόπουλος \nΗ. ΓΕΝ. ΓΡΑΜΜΑΤΕΑΣ\nΜ. Γιαβροπούλου \n 
URL:https://endo.gr/event/webinar-18-10-2025-%cf%84%ce%bc-%ce%b5%ce%bd%ce%b4%ce%bf%ce%ba%cf%81%ce%b9%ce%bd%ce%bf%ce%bb%ce%bf%ce%b3%ce%b9%ce%b1%cf%82-%cf%83%ce%b4-%ce%bf%ce%bc%ce%b9%ce%bb%ce%bf%cf%85-%cf%85%ce%b3%ce%b5/
CATEGORIES:Webinars παρουσίασης περιστατικών,Εκδηλώσεις E.E.E.
ATTACH;FMTTYPE=image/jpeg:https://endo.gr/wp-content/uploads/2025/10/Endokrinologiki_logo_GR.jpg
END:VEVENT
BEGIN:VEVENT
DTSTART;TZID=Europe/Athens:20251115T100000
DTEND;TZID=Europe/Athens:20251115T130000
DTSTAMP:20260424T013528
CREATED:20251022T105537Z
LAST-MODIFIED:20251107T131526Z
UID:24940-1763200800-1763211600@endo.gr
SUMMARY:Webinar 15/11/2025\, Παρουσίαση περιστατικών ΓΝΑ «ΕΥΑΓΓΕΛΙΣΜΟΣ»\, ΓΝΑ «Γ. ΓΕΝΝΗΜΑΤΑΣ»\, ΓΝΠ «ΑΓΙΟΣ ΠΑΝΤΕΛΕΗΜΩΝ»\, ΓΝΘ ΠΑΠΑΓΕΩΡΓΙΟΥ
DESCRIPTION:Αγαπητοί Συνάδελφοι\, \nΤο Σάββατο 15/11/2025\, στις 10.00 π.μ. πραγματοποιείται το Webinar της Ελληνικής Ενδοκρινολογικής Εταιρείας\, στο πλαίσιο των μετεκπαιδευτικών της μαθημάτων μέσω διαδικτύου για το 2025. \n1ο Περιστατικό: ΓΝΑ «ΕΥΑΓΓΕΛΙΣΜΟΣ»\, ΣΑΒΒΑTO 15/11/2025\, ΩΡΑ 10:00 – 10:45 \nTίτλος: Εμμένουσα νόσος Cushing με όψιμη εκσεσημασμένη αύξηση ACTH παρά πλήρη δομική ύφεση \nΥπεύθυνη: Μ. Τζανέλα\, Διευθύντρια\, Ενδοκρινολογικό Τμήμα “Δ. Ικκος” ΓΝΑ Ευαγγελισμός Πολυκλινική \nΠερίληψη: Γυναίκα 46 ετών με προ 7ετίας διάγνωση  νόσου Cushing λόγω Crooke cell PitNET μ.δ. 5χιλ που αντιμετωπίσθηκε αρχικά με διασφηνοειδική αδενωματεκτομή. Μετεγχειρητικά διαπιστώθηκε βιοχημική εμμονή της νόσου\, με παρουσία υπολειμματικού ιστού 3 χιλ. Λόγω σύντομης αύξηση του μεγέθους του υπολείμματος (1\,2 εκ. σε 8 μήνες) ακολούθησε θεραπεία με  CyberKnife\, με σημαντική δομική ανταπόκριση\, χωρίς ωστόσο ανάλογη βιοχημική ύφεση\, παρουσιάζοντας εμμένουσα και δυσχερώς ελεγχόμενη υπερκορτιζολαιμία. Υπό αντιεπινεφριδική αγωγή 5 έτη μετεγχειρητικά ανέπτυξε έντονη μελάγχρωση δέρματος και διαπιστώθηκαν εκσεσημασμένα αυξημένα επίπεδα ACTH\, χωρίς ευρήματα δομικής υποτροπής από την υπόφυση. \nΠαρουσίαση: \n\nΜαρία Ζώτου\, Ειδικευόμενη Τμήματος\nΔήμητρα Α. Βασιλειάδη\, Ενδοκρινολόγος\, Διευθύντρια ΕΣΥ\, Ενδοκρινολογικό Τμήμα “Δ. Ικκος” ΓΝΑ Ευαγγελισμός Πολυκλινική\n\nΣχολιασμός: Γρηγόρης Καλτσάς\, Καθηγητής Παθολογίας- Ενδοκρινολογίας\, ΕΚΠΑ\, ΓΝΑ “Λαϊκό” \n——————————————————————————————————– \n2o Περιστατικό: ΓΝΑ «Γ. ΓΕΝΝΗΜΑΤΑΣ»\, ΣΑΒΒΑTO 15/11/2025\, ΩΡΑ 10:45 – 11:30 \nΤίτλος: «Διαβητική κετοξέωση μετά από χορήγηση Immune check point inhibitor–Avelumab ». \nΥπεύθυνη: Μάρκου Αθηνά\, Διευθύντρια Ενδοκρινολογικής Μονάδας και Διαβητολογικού Κέντρου  ΓΝΑ Γ. ΓΕΝΝΗΜΑΤΑ \nΠερίληψη: Ασθενής  65 ετών  εισήχθη στο τμήμα επειγόντων περιστατικών με αιφνίδια έναρξη διαβητικής κετοξέωσης\, κατά τη διάρκεια θεραπείας με Avelumab για μεταστατικό καρκίνωμα κυττάρων Merkel (MCC). Δεν είχε προσωπικό ή οικογενειακό ιστορικό σακχαρώδη διαβήτη (DM)\, \nΠαρουσίαση:   \n\nΚωστής Καραχάλιος \, Ειδικευόμενος Ενδοκρινολογίας\nΕιρήνη Γιαγουρτά\, PhD\, Επιμελήτρια Α’ ΕΣΥ Ενδοκρινολογίας\n\nΣχολιασμός: Αλεξάνδρα Μπαργιώτα\, Καθηγήτρια Παθολογίας-Ενδοκρινολογίας\, Τμήμα Ιατρικής\, Σχολή Επιστημών Υγείας\, Πανεπιστήμιο Θεσσαλίας\, Διευθύντρια Κλινικής Ενδοκρινολογίας και Μεταβολικών Νοσημάτων\, ΠΓΝ Λάρισας \n——————————————————————————————————————————————– \n3o Περιστατικό: ΓΝΠ «ΑΓΙΟΣ ΠΑΝΤΕΛΕΗΜΩΝ»\, ΣΑΒΒΑTO 15/11/2025\, ΩΡΑ 11:30- 12:15 \nΤίτλος: Διαγνωστική Διευρεύνηση και Αντιμετώπιση έφηβης με πρωτοπαθή αμηνόρροια σε επίπεδο πρωτοβάθμιας φροντίδας υγείας \nΥπεύθυνος:  Χαράλαμπος Τσεντίδης\, Επιμελητής Α’ ΕΣΥ\, Επιστημονικά υπεύθυνος του τμήματος Ενδοκρινολογίας – Μεταβολισμού – Σακχαρώδη Διαβήτη του Γ.Ν. Νίκαιας -Πειραιώς «Άγιος Παντελεήμων» \nΠαρουσίαση: Παπαδοπούλου Αικατερίνη-Κυδωνία\, Ειδικευόμενη Ενδοκρινολογίας \nΣχολιασμός: Ευαγγελία Χαρμανδάρη\, MD\, MSc\, PhD\, MRCP(UK)\, CCST(UK)\, Καθηγήτρια Παιδιατρικής – Παιδιατρικής Ενδοκρινολογίας\, Ιατρική Σχολή Εθνικού και Καποδιστριακού Πανεπιστημίου Αθηνών\, Διευθύντρια Προγράμματος Μεταπτυχιακών Σπουδών ‘Γενική και Εξειδικευμένη Παιδιατρική: Κλινική Πράξη και Έρευνα’\, Πρόεδρος Ελληνικής Εταιρείας Παιδιατρικής και Εφηβικής Ενδοκρινολογίας\, Μεταβολισμού και Σακχαρώδη Διαβήτη \n——————————————————————————————————————————————– \n4o Περιστατικό: ΓΝΘ ΠΑΠΑΓΕΩΡΓΙΟΥ\, ΣΑΒΒΑTO 15/11/2025\, ΩΡΑ 12:15 – 13:00 \nΤίτλος: Από το γονότυπο στο φαινότυπο: ένα πρόβλημα τριών γενεών \nΥπεύθυνος: Δημήτριος Γ. Γουλής\, MD\, PhD\, Καθηγητής Ενδοκρινολογίας Αναπαραγωγής\, Μονάδα Ενδοκρινολογίας Αναπαραγωγής \nΠεριστατικό: Mία έγκυος 29 ετών και η μητέρα της παρουσίαζαν φαινοτυπικά χαρακτηριστικά της κληρονομικής οστεοδυστροφίας του Albright\, όπως χαμηλό ανάστημα\, βραχυδακτυλία\, στρογγυλό πρόσωπο και παχυσαρκία. Η κύηση κατέληξε στη γέννηση ενός νεογνού με παρόμοιο φαινότυπο. Στο περιστατικό συζητούνται όλες οι γενετικές\, παθοφυσιολογικές\, διαγνωστικές και θεραπευτικές συνιστώσες του προβλήματος. \nΠαρουσίαση: Σταυρούλα Βενέτη (ειδικευόμενη Ενδοκρινολογίας)\, Ελευθερία Δεμερτζίδου (Μαιευτήρας-Γυναικολόγος) \nΣχολιασμοί: Χρήστος Τσαμέτης\, Ενδοκρινολόγος\, Κλινικός Ανδρολόγος (ΕΑΑ cert.) Διδάκτωρ Α.Π.Θ. Επιστημονικός Συνεργάτης Μονάδας Ενδοκρινολογίας Αναπαραγωγής\, \nΑ’ Μαιευτική και Γυναικολογική Κλινική Α.Π.Θ.\, ΓΝΘ «Παπαγεωργίου»\, Θεσσαλονίκη. \nΑθηνά Καπράρα\, Ενδοκρινολόγος\, Διδάκτωρ της Ιατρικής Σχολής ΔΠΘ \nΣυμεών Τουρνής\, Ενδοκρινολόγος\, ΕΕΠΜΣ ΕΚΠΑ\, Νοσοκομείο ΚΑΤ \nΑθηνά Βέρβερη\, Κλινική Γενετίστρια – Παιδίατρος \nΑθανάσιος Χριστοφορίδης\, Καθηγητής Παιδιατρικής – Παιδιατρικής Ενδοκρινολογίας \nΑλέξανδρος Σωτηριάδης\, Καθηγητής Μαιευτικής – Γυναικολογίας\, Εµβρυοµητρικής Ιατρικής ΑΠΘ \nΠροκειμένου να παρακολουθήσετε ελεύθερα το webinar\, μπορείτε να προεγγραφείτε μέσω της διεύθυνσης: https://us06web.zoom.us/webinar/register/WN_nDEsfA_qTwO9EXOV6diZew \nσυμπληρώνοντας το ονοματεπώνυμό σας και το email σας στη φόρμα εγγραφής\, ώστε να λάβετε αυτόματα ένα νέο e-mail που θα περιέχει τον σύνδεσμο (link) μέσω του οποίου θα μεταδοθεί το webinar. \nΠροσβλέποντας πάντα στην πολύτιμη ενεργό συμμετοχή σας. \nΓια την Ελληνική Ενδοκρινολογική Εταιρεία. \nΜε εκτίμηση\, \nΟ ΠΡΟΕΔΡΟΣ\nΝ. Γεωργόπουλος \nΗ. ΓΕΝ. ΓΡΑΜΜΑΤΕΑΣ\nΜ. Γιαβροπούλου
URL:https://endo.gr/event/webinar-15-11-2025-%cf%80%ce%b1%cf%81%ce%bf%cf%85%cf%83%ce%af%ce%b1%cf%83%ce%b7-%cf%80%ce%b5%cf%81%ce%b9%cf%83%cf%84%ce%b1%cf%84%ce%b9%ce%ba%cf%8e%ce%bd-%ce%b3%ce%bd%ce%b1-%ce%b5%cf%85%ce%b1/
CATEGORIES:Webinars παρουσίασης περιστατικών
ATTACH;FMTTYPE=image/jpeg:https://endo.gr/wp-content/uploads/2025/10/Endokrinologiki_logo_GR.jpg
END:VEVENT
BEGIN:VEVENT
DTSTART;TZID=Europe/Athens:20251213T100000
DTEND;TZID=Europe/Athens:20251213T140000
DTSTAMP:20260424T013528
CREATED:20251208T114932Z
LAST-MODIFIED:20251212T141726Z
UID:25680-1765620000-1765634400@endo.gr
SUMMARY:Webinar 13/12/2025\, Παρουσίαση περιστατικών ΠΓΝ «ΑΤΤΙΚΟΝ»\, ΝΠΑ «Η ΑΓΙΑ ΣΟΦΙΑ»\, ΓΝΑ «ΑΛΕΞΑΝΔΡΑ»\, ΠΝΑ «ΑΡΕΤΑΙΕΙΟΝ»
DESCRIPTION:Αγαπητοί Συνάδελφοι\, \nΤο Σάββατο 13/12/2025\, στις 10.00 π.μ. πραγματοποιείται το Webinar της Ελληνικής Ενδοκρινολογικής Εταιρείας\, στο πλαίσιο των μετεκπαιδευτικών της μαθημάτων μέσω διαδικτύου για το 2025. \n1ο Περιστατικό: ΠΓΝ «ΑΤΤΙΚΟΝ»\, ΣΑΒΒΑΤΟ 13/12/2025\, ΩΡΑ 10:00 – 10:45 \nΤίτλος: Νέος ασθενής με πολλαπλά αυτόματα σπονδυλικά κατάγματα \nΑσθενής 30 ετών με ελεύθερο ατομικό αναμνητικό παρουσιάζει κατάγματα Ο3 σπονδύλου έπειτα από άρση βάρους. Σε απεικονιστικό έλεγχο διαπιστώνεται ελάττωση του ύψους όλων των οσφυϊκών σπονδύλων και τίθεται η διάγνωση του πρωτοπαθούς υπερπαραθυρεοειδισμού. Υποβλήθηκε σε παραθυρεοειδεκτομή\, και λόγω επιπλοκών νοσηλεύθηκε παρατεταμένα στη ΜΕΘ. Παρουσιάζεται η διαγνωστική διερεύνηση και η θεραπευτική αντιμετώπιση. \nΥπεύθυνη: Μελπομένη Πέππα\, Καθηγήτρια Ενδοκρινολογίας\, Ιατρική Σχολή ΕΚΠΑ\, Υπεύθυνη Μονάδος Ενδοκρινολογίας και Μεταβολικών Παθήσεων των Οστών\, Β’ Προπαιδευτική Παθολογική Κλινική Π.Γ.Ν. «ΑΤΤΙΚΟΝ» & Γ’ Πανεπιστημιακή Παθολογική Κλινική Γ.Ν. «ΣΩΤΗΡΙΑ» \nΠαρουσίαση: Μαρία Γερογιάννη\, Ειδικευόμενη Ενδοκρινολογίας\, Β’ Προπαιδευτική Παθολογική Κλινική Π.Γ.Ν. «ΑΤΤΙΚΟΝ» \nΣχολιασμός: Σωτήριος Γ. Παπαγεωργίου\, Επίκουρος Καθηγητής Αιματολογίας\, Ιατρική Σχολή ΕΚΠΑ\, Μονάδα Αιματολογίας\, Β΄ Προπαιδευτική Παθολογική Κλινική Π.Γ.Ν «ΑΤΤΙΚΟΝ» \nΜιχαήλ Μακρής\, Αναπληρωτής Καθηγητής Αλλεργιολογίας\, Ιατρική Σχολή ΕΚΠΑ\, Υπεύθυνος Μονάδας Αλλεργιολογίας «Δημήτριος Καλογερομήτρος»\, Β’ Πανεπιστημιακή Δερματολογική Κλινική Π.Γ.Ν «ΑΤΤΙΚΟΝ» \n—————————————————————————————————- \n2o Περιστατικό: ΝΠΑ «Η ΑΓΙΑ ΣΟΦΙΑ»\, ΣΑΒΒΑΤΟ 13/12/2025\, ΩΡΑ 10:45 – 11:30 \nΤίτλος:Παιδί με Ραιβά πόδια- μια διάγνωση που δεν πρέπει να διαλάθει \nΥπεύθυνη : Δρ. Χριστίνα Κανακά- Gantenbein \, MD \, PhD \, FMH ( CH ) Καθηγήτρια Παιδιατρικής-Παιδιατρικής Ενδοκρινολογίας Διευθύντρια Α’ Παιδιατρικής Κλινικής και Χωρεμείου Ερευνητικού Εργαστηρίου Ιατρικής Σχολής Εθνικού και Καποδιστριακού Πανεπιστημίου Αθηνών Επιστημονική Υπεύθυνη του Διαβητολογικού Κέντρου και της Μονάδας Ενδοκρινολογίας\, Μεταβολισμού και Διαβήτη της Α’ Παιδιατρικής Κλινικής Ιατρικής Σχολής Εθνικού και Καποδιστριακού Πανεπιστημίου Αθηνών Νοσοκομείο Παίδων “Η Αγία Σοφία”\, Πρόεδρος Ινστιτούτου Υγείας του παιδιού Endo – ERN Αντιπρόσωπος Παίδων Αγίας Σοφίας \nΠερίληψη: Πρόκειται για την περιγραφή ενός περιστατικού με φυλοσύνδετη υποφωσφαταιμική ραχίτιδα με καθυστερημένη διάγνωση. \nΠαρουσίαση: Σοφία Σακκά\, MD \, PhD \, Παιδοενδοκρινολόγος- Παιδοδιαβητολόγος\, Εξειδικευμένη σε Μεταβολισμό Οστών- Παιδική Οστεοπόρωση\, Επίκουρη Καθηγήτρια Παιδιατρικής Α ‘ Παιδιατρική Κλινική Πανεπιστημίου Αθηνών \, τ. Σύμβουλος Παιδιατρικής Ενδοκρινολογίας\, Διαβήτη και Οστών Νοσοκομείο Παίδων Evelina London\, Επίτιμη Επίκουρη Καθηγήτρια\, King’s College London \nΣχολιασμός: Συμεών Τουρνής\, Ενδοκρινολόγος\, ΕΕΠΜΣ ΕΚΠΑ\, Νοσοκομείο ΚΑΤ \n—————————————————————————————————- \n3o Περιστατικό: ΓΝΑ «ΑΛΕΞΑΝΔΡΑ»\, ΣΑΒΒΑΤΟ 13/12/2025\, ΩΡΑ 11:30- 12:15 \nΤίτλος:  Υπογλυκαιμίες μετά βαριατρικού χειρουργείου σε ασθενή στην κύηση \nΥπεύθυνη: Βασιλική Βασιλείου\, Διευθύντρια ΕΣΥ\, Ενδοκρινολογικό Τμήμα ΓΝΑ Αλεξάνδρα \nΠερίληψη:  Έγκυος στην 16w + 3η ημέρα παραπέμπεται από θεράποντα γυναικολόγο για παρακολούθηση και αντιμετώπιση υπογλυκαιμιών στην κύηση. Ο ασθενής είχε υποβληθεί σε βαριατρικό χειρουργείο γαστρικού μανικιού προ 3ετίας\, με από 2ετίας εμφάνισης συχνών υπογλυκαιμικών επεισοδίων. Παρουσιάζεται η πορεία της καθ’ όλο το υπόλοιπο διάστημα κύησης\, έως και την γέννηση IUGR νεογνού. \nΠαρουσίαση Περιστατικού:  Πάνος Εμμανουηλίδης\, Ειδικευόμενος Ενδοκρινολογίας\, ΓΝΑ Αλεξάνδρα \nΣυντονισμός : Φωτεινή Κανούτα\, Επιμελήτρια Β’\, Ενδοκρινολόγος\, ΓΝΑ Αλεξάνδρα \nΣχολιασμός: Ευτυχία Κούκκου\, MD\, PhD\, Ενδοκρινολόγος\, Συντονίστρια Διευθύντρια τμήματος Ενδοκρινολογίας\, Διαβήτη και Μεταβολισμού\, Γενικό Νοσοκομείο-Μαιευτήριο “Έλενα Βενιζέλου” \n—————————————————————————————————- \n4o Περιστατικό: ΕΚΠΑ\,  ΠΝΑ “ΑΡΕΤΑΙΕΙΟΝ”\,  ΣΑΒΒΑΤΟ 13/12/2025\, ΩΡΑ 12:15 – 13:30  \nΤίτλος: Άνδρας 36 ετών με αμφοτερόπλευρο\, πολυεστιακό\, διηθητικό\, θηλώδες μικροκαρκίνωμα θυρεοειδούς αδένα \nΥπεύθυνος : Γεώργιος Μαστοράκος\, Καθηγητής Ενδοκρινολογίας\, ΕΚΠΑ\, ΠΝΑ “ΑΡΕΤΑΙΕΙΟΝ”\, Αθήνα. \nΠαρουσίαση: Οδυσσέας Βιολέτης \, Μεταπτυχιακός Φοιτητής\, ΕΚΠΑ\, ΠΝΑ “ΑΡΕΤΑΙΕΙΟΝ”\, Αθήνα. \nΣυντονισμός: Κρυσταλλένια Αλεξανδράκη \, Επιστημονικός Συνεργάτης\,   ΕΚΠΑ\, ΠΝΑ “ΑΡΕΤΑΙΕΙΟΝ”\, Αθήνα. \nΣχολιασμός: Γεώργιος Σημαιάκης\, MD\, PhD\, Ενδοκρινολόγος – Στρατιωτικός Ιατρός Διδάκτωρ Ιατρικής Σχολής ΕΚΠΑ \nΓεώργιος Κυριακόπουλος\, Παθολόγος\, Επιμελητής ΓΝΑ Ευαγγελισμός \nΠροκειμένου να παρακολουθήσετε ελεύθερα το webinar\, μπορείτε να προεγγραφείτε μέσω της διεύθυνσης: https://us06web.zoom.us/webinar/register/WN_WMYV3mwGRhOMXP9FQTpfFQ \nσυμπληρώνοντας το ονοματεπώνυμό σας και το email σας στη φόρμα εγγραφής\, ώστε να λάβετε αυτόματα ένα νέο e-mail που θα περιέχει τον σύνδεσμο (link) μέσω του οποίου θα μεταδοθεί το webinar. \nΠροσβλέποντας πάντα στην πολύτιμη ενεργό συμμετοχή σας. \nΓια την Ελληνική Ενδοκρινολογική Εταιρεία. \nΜε εκτίμηση\, \nΟ ΠΡΟΕΔΡΟΣ\nΝ. Γεωργόπουλος \nΗ. ΓΕΝ. ΓΡΑΜΜΑΤΕΑΣ\nΜ. Γιαβροπούλου
URL:https://endo.gr/event/webinar-13-12-2025-%cf%80%ce%b1%cf%81%ce%bf%cf%85%cf%83%ce%af%ce%b1%cf%83%ce%b7-%cf%80%ce%b5%cf%81%ce%b9%cf%83%cf%84%ce%b1%cf%84%ce%b9%ce%ba%cf%8e%ce%bd-%cf%80%ce%b3%ce%bd-%ce%b1%cf%84%cf%84/
CATEGORIES:Webinars παρουσίασης περιστατικών,Εκδηλώσεις E.E.E.
ATTACH;FMTTYPE=image/jpeg:https://endo.gr/wp-content/uploads/2025/10/Endokrinologiki_logo_GR.jpg
END:VEVENT
BEGIN:VEVENT
DTSTART;VALUE=DATE:20260101
DTEND;VALUE=DATE:20261214
DTSTAMP:20260424T013528
CREATED:20251215T134836Z
LAST-MODIFIED:20251216T065315Z
UID:25734-1767225600-1797206399@endo.gr
SUMMARY:Πρόγραμμα WEBINARS 2026
DESCRIPTION:
URL:https://endo.gr/event/%cf%80%cf%81%cf%8c%ce%b3%cf%81%ce%b1%ce%bc%ce%bc%ce%b1-webinars-2026/
LOCATION:Γραφεία ΕΕΕ-ΠΕΕ
CATEGORIES:Webinars παρουσίασης περιστατικών,Εκδηλώσεις E.E.E.
END:VEVENT
BEGIN:VEVENT
DTSTART;VALUE=DATE:20260207
DTEND;VALUE=DATE:20260208
DTSTAMP:20260424T013528
CREATED:20260129T110718Z
LAST-MODIFIED:20260202T130503Z
UID:26074-1770422400-1770508799@endo.gr
SUMMARY:Παρουσιάσεις Περιστατικών 7/2/2026: ΝΠΑ «ΠΑΝΑΓΙΩΤΗ ΚΑΙ ΑΓΛΑΪΑΣ ΚΥΡΙΑΚΟΥ»\, ΕΕΠΜΣ - ΝΟΣΟΚΟΜΕΙΟ ΚΑΤ\, ΓΝΘ «ΙΠΠΟΚΡΑΤΕΙΟ»
DESCRIPTION:Αγαπητοί Συνάδελφοι\, \nΤο Σάββατο 7/2/2026\, στις 10.00 π.μ.\, στα Γραφεία της ΕΕΕ-ΠΕΕ και μέσω διαδικτύου (υβριδική εκδήλωση)\, πραγματοποιούνται οι Παρουσιάσεις Περιστατικών της Ελληνικής Ενδοκρινολογικής Εταιρείας\, στο πλαίσιο των μετεκπαιδευτικών της μαθημάτων για το 2026. \n1ο Περιστατικό: ΝΠΑ «ΠΑΝΑΓΙΩΤΗ ΚΑΙ ΑΓΛΑΪΑΣ ΚΥΡΙΑΚΟΥ»\, ΣΑΒΒΑTO 7/2/2026\, ΩΡΑ 10:00 – 10:45 \nΤίτλος: Σοβαρή υπονατριαιμία σε νεογνό λόγω “ήπιας ανεπάρκειας” CYP11Β2 συνθετάσης της αλδοστερόνης \nΥπεύθυνη: Ελπίς Αθηνά Βλαχοπαπαδοπούλου\, Παιδίατρος-Ενδοκρινολόγος\, Συντονίστρια Διευθύντρια\nΠαρουσίαση: Πωλίνα Παυλή\, ειδικευόμενη Ενδοκρινολογίας\nΥπεύθυνη περιστατικού: κ Σοφία Λέκα Εμίρη MD\, MSc\, PhD\, DIU Paris VIΙ University\, Παιδοενδοκρινολόγος\, Επιμελήτρια A’\nΤμ. Ενδοκρινολογικό-Αύξησης κι Ανάπτυξης Νοσοκομείο Παίδων “Π. & Α. Κυριακού” \nΣχολιασμός: Χριστίνα Κανακά Gantenbein\, Καθηγήτρια Παιδιατρικής-Παιδιατρικής Ενδοκρινολογίας Διευθύντρια Α’ Παιδιατρικής Κλινικής Ιατρικής Σχολής ΕΚΠΑ Επιστημονική Υπεύθυνη Κέντρου Εμπειρογνωμοσύνης Σπάνιων Ενδοκρινικών Νοσημάτων Παίδων Νοσοκομείο Παίδων «Η Αγία Σοφία»\, Αθήνα \n——————————————————————————————————– \n2o Περιστατικό: ΕΕΠΜΣ – ΝΟΣΟΚΟΜΕΙΟ ΚΑΤ\, ΣΑΒΒΑTO 7/2/2026\, ΩΡΑ 10:45 – 11:30 \nΤίτλος: Άνδρας 55 ετών με ομόζυγη β-μεσογειακή αναιμία και εγκατεστημένη οστεοπόρωση. Θεραπευτικοί χειρισμοί. \nΥπεύθυνος: Συμεών Τουρνής\, Ενδοκρινολόγος\, ΕΕΠΜΣ ΕΚΠΑ\, Νοσοκομείο ΚΑΤ \nΆνδρας 55 ετών με ομόζυγη β-μεσογειακή αναιμία προσέρχεται λόγω πρόσφατου κατάγματος Θ8 σπονδύλου. Η μέτρηση οστικής πυκνότητας στην ΟΜΣΣ είναι συμβατή με οστεοπόρωση. [Ο1-Ο2: 0\,81 gr/cm2 (t-score=-3.0)]. Ο ασθενής λαμβάνει αγωγή με Deferoxamine\, Deferiprone\, υποκατάσταση με Τεστοστερόνη\, Θυροξίνη\, ενώ παράλληλα λαμβάνει αγωγή με Αμιοδαρόνη\, β-αναστολέα\, Επλερενόνη\, Rivaroxaban\, και SGLT2 αναστολέα. Διαγνωστική και θεραπευτική προσέγγιση. \nΠαρουσίαση: Καρλάφτη Ευθυμία\, Ειδικευόμενη Ενδοκρινολογίας\, Ενδοκρινολογική Κλινική\, Νοσοκομείο Έλενα Βενιζέλου \nΣχολιασμός: Γεώργιος Τροβάς\, Ενδοκρινολόγος\, ΕΕΠΜΣ ΕΚΠΑ\, Νοσοκομείο ΚΑΤ\n——————————————————————————————————————————————– \n3o Περιστατικό: ΓΝΘ «ΙΠΠΟΚΡΑΤΕΙΟ»\, ΣΑΒΒΑTO 7/2/2026\, ΩΡΑ 11:30- 12:15\, ΔΙΑΔΙΚΤΥΑΚΑ \nΤίτλος: Ασθενής 32 ετών με ινσουλίνωμα \nΥπεύθυνη: Μαρίνα Κήτα\, Διευθύντρια Ενδοκρινολογικής Κλινικής “Ιπποκράτειο” ΓΝ Θεσσαλονίκης \nΠαρουσίαση: Γεώργιος Τίκος\, Ειδικευόμενος Ενδοκρινολογικής Κλινικής “Ιπποκράτειο” ΓΝ Θεσσαλονίκης\nΑθανάσιος Παναγιώτου\, Διευθυντής Ε.Σ.Υ Ενδοκρινολογικής Κλινικής “Ιπποκράτειο” ΓΝ Θεσσαλονίκης \nΣχολιασμός:  Μαρία Παναγάκη\, Επικουρικός ιατρός Ενδοκρινολόγος\,  ΓΝΑ Λαϊκό \nΠροκειμένου να παρακολουθήσετε ελεύθερα την εκδήλωση online\, μπορείτε να προεγγραφείτε μέσω της διεύθυνσης: https://us06web.zoom.us/webinar/register/WN_rpuEXDRCSoOecyjKcGMOXQ \nσυμπληρώνοντας το ονοματεπώνυμό σας και το email σας στη φόρμα εγγραφής\, ώστε να λάβετε αυτόματα ένα νέο e-mail που θα περιέχει τον σύνδεσμο (link) μέσω του οποίου θα μεταδοθεί η εκδήλωση. \nΠροσβλέποντας πάντα στην πολύτιμη ενεργό συμμετοχή σας. \nΓια την Ελληνική Ενδοκρινολογική Εταιρεία. \nΜε εκτίμηση\, \nΟ ΠΡΟΕΔΡΟΣ\nΝ. Γεωργόπουλος \nΗ. ΓΕΝ. ΓΡΑΜΜΑΤΕΑΣ\nΜ. Γιαβροπούλου
URL:https://endo.gr/event/%cf%80%ce%b1%cf%81%ce%bf%cf%85%cf%83%ce%b9%ce%ac%cf%83%ce%b5%ce%b9%cf%82-%cf%80%ce%b5%cf%81%ce%b9%cf%83%cf%84%ce%b1%cf%84%ce%b9%ce%ba%cf%8e%ce%bd-7-2-2026-%ce%bd%cf%80%ce%b1-%cf%80%ce%b1%ce%bd/
LOCATION:Γραφεία ΕΕΕ-ΠΕΕ
CATEGORIES:Webinars παρουσίασης περιστατικών,Εκδηλώσεις E.E.E.
ATTACH;FMTTYPE=image/jpeg:https://endo.gr/wp-content/uploads/2025/10/Endokrinologiki_logo_GR.jpg
END:VEVENT
BEGIN:VEVENT
DTSTART;TZID=Europe/Athens:20260314T113000
DTEND;TZID=Europe/Athens:20260314T130000
DTSTAMP:20260424T013528
CREATED:20260309T090929Z
LAST-MODIFIED:20260309T135012Z
UID:26220-1773487800-1773493200@endo.gr
SUMMARY:Παρουσιάσεις Περιστατικών 14/3/2026: Γ.Ν.Α  ΣΙΣΜΑΝΟΓΛΕΙΟ-ΑΜΑΛΙΑ ΦΛΕΜΙΝΓΚ
DESCRIPTION:Αγαπητοί Συνάδελφοι\, \nΤο Σάββατο 14/3/2026\, στις 11.45 π.μ.\, μέσω διαδικτύου\, πραγματοποιούνται οι Παρουσιάσεις Περιστατικών της Ελληνικής Ενδοκρινολογικής Εταιρείας\, στο πλαίσιο των μετεκπαιδευτικών της μαθημάτων για το 2026. \n1ο Περιστατικό: Γ.Ν.Α  ΣΙΣΜΑΝΟΓΛΕΙΟ-ΑΜΑΛΙΑ ΦΛΕΜΙΝΓΚ \, ΣΑΒΒΑTO 14/3/2026\, ΩΡΑ 11:45 – 12:30\,  διαδικτυακά \nΤίτλος:  «Γυναίκα με υπερπλασία κυττάρων πύλης ωοθηκών ως σπάνια αιτία υπερανδρογοναιμίας στην εμμηνόπαυση» \nΠερίληψη: Πρόκειται για ασθενή\, ηλικίας 72 ετών\, η οποία προσήλθε λόγω σημαντικής υπερτρίχωσης\, ανδρογενούς τύπου αλωπεκία και κλειτοριδομεγαλία\, με προοδευτική επιδείνωση κατά το τελευταίο έτος. Τέθηκε η διάγνωση υπερπλασίας κυττάρων πύλης ωοθηκών. Ακολούθησε αρχικά αγωγή με αγωνιστή GnRH και στην συνέχεια υποβλήθηκε σε ολική υστερεκτομή με ύφεση των συμπτωμάτων και αποκατάσταση εντός φυσιολογικών ορίων των ανδρογόνων της. Παρουσίαση διαγνωστικής και θεραπευτικής προσέγγισης καθώς και ανασκόπησης βιβλιογραφίας. \nΠαρουσίαση: Ντενίζ Γκιούντογκντου\, Eιδικευόμενη Eνδοκρινολογίας \nΕπιμέλεια: Δημήτριος Ιωαννίδης\, Δ/ντης Eνδοκρινολογίας \nΣχολιαστής: Νεοκλής Γεωργόπουλος\, Καθηγητής Ενδοκρινολογίας\, Τμήμα Ενδοκρινολογίας\, Ενδοκρινολογίας Αναπαραγωγής Παθολογικής Κλινικής\, Ιατρικής Σχολής Πανεπιστημίου Πατρών \nΠροκειμένου να παρακολουθήσετε ελεύθερα την εκδήλωση online\, μπορείτε να προεγγραφείτε μέσω της διεύθυνσης: https://us06web.zoom.us/webinar/register/WN_5vdvkdOSR8CPCqWFvB385g \nσυμπληρώνοντας το ονοματεπώνυμό σας και το email σας στη φόρμα εγγραφής\, ώστε να λάβετε αυτόματα ένα νέο e-mail που θα περιέχει τον σύνδεσμο (link) μέσω του οποίου θα μεταδοθεί η εκδήλωση. \nΠροσβλέποντας πάντα στην πολύτιμη ενεργό συμμετοχή σας. \nΓια την Ελληνική Ενδοκρινολογική Εταιρεία. \nΜε εκτίμηση\, \nΟ ΠΡΟΕΔΡΟΣ\nΝ. Γεωργόπουλος \nΗ. ΓΕΝ. ΓΡΑΜΜΑΤΕΑΣ\nΜ. Γιαβροπούλου
URL:https://endo.gr/event/%cf%80%ce%b1%cf%81%ce%bf%cf%85%cf%83%ce%b9%ce%ac%cf%83%ce%b5%ce%b9%cf%82-%cf%80%ce%b5%cf%81%ce%b9%cf%83%cf%84%ce%b1%cf%84%ce%b9%ce%ba%cf%8e%ce%bd-14-3-2026-%ce%b3-%ce%bd-%ce%b1-%cf%83%ce%b9%cf%83/
CATEGORIES:Webinars παρουσίασης περιστατικών,Εκδηλώσεις E.E.E.
ATTACH;FMTTYPE=image/jpeg:https://endo.gr/wp-content/uploads/2025/10/Endokrinologiki_logo_GR.jpg
END:VEVENT
BEGIN:VEVENT
DTSTART;TZID=Europe/Athens:20260418T100000
DTEND;TZID=Europe/Athens:20260418T130000
DTSTAMP:20260424T013528
CREATED:20260409T143100Z
LAST-MODIFIED:20260416T142532Z
UID:26377-1776506400-1776517200@endo.gr
SUMMARY:Παρουσιάσεις Περιστατικών 18/4/2026: ΕΝΔ. ΤΜ.  Ά ΠΑΘΟΛΟΓΙΚΗΣ ΚΛΙΝΙΚΗΣ ΓΝΑ ΛΑΙΚΟ & ΝΑΥΤΙΚΟ ΝΟΣΟΚΟΜΕΙΟ ΑΘΗΝΩΝ - (ΝΝΑ)
DESCRIPTION:Αγαπητές και Αγαπητοί Συνάδελφοι\, \nΤο Σάββατο 18/4/2026\, στις 10.00 π.μ.\, σας περιμένουμε στα Γραφεία της ΕΕΕ-ΠΕΕ για τις Παρουσιάσεις Περιστατικών της Ελληνικής Ενδοκρινολογικής Εταιρείας\, στο πλαίσιο των μετεκπαιδευτικών μαθημάτων της για το 2026. Για τα μέλη μας που βρίσκονται εκτός Αθηνών ή δεν έχουν τη δυνατότητα να παρευρεθούν δια ζώσης\, θα παρέχεται και δυνατότητα διαδικτυακής παρακολούθησης (υβριδική εκδήλωση). \n1ο Περιστατικό:  ΕΝΔ. ΤΜ.  Ά ΠΑΘΟΛΟΓΙΚΗΣ ΚΛΙΝΙΚΗΣ ΓΝΑ ΛΑΙΚΟ \, ΣΑΒΒΑTO 18/4/2026\, ΩΡΑ 10:00 – 10:45\,  ΣΤΑ ΓΡΑΦΕΙΑ ΤΗΣ ΕΕΕ  \nΤίτλος:  Κυκλικό Cushing μια σπάνια αλλά υπαρκτή αιτία υπερκορτιζολαιμίας \nΥπεύθυνη: Αγγελούση Άννα\, Αναπλ. Καθηγήτρια Παθολογίας-Ενδοκρινολογίας\, ΕΚΠΑ \nΠαρουσίαση: Χαλμαντζή Βαρβάρα\, Ειδικευόμενη Ά Παθολογική κλινική ΓΝΑ ΛΑΙΚΟ \nΣχολιασμός: Κωνσταντίνος Μπάρκας\, Διευθυντής Ε.Σ.Υ. Νευροχειρουργός\, Τμήμα Νευροχειρουργικής\, Γ.Ν.Νίκαιας (βιντεοσκοπημένος σχολιασμός) \n——————————————————————————————————– \n2o Περιστατικό: ΝΑΥΤΙΚΟ ΝΟΣΟΚΟΜΕΙΟ ΑΘΗΝΩΝ – (ΝΝΑ)\, ΩΡΑ 10:45 – 11:30\, ΣΤΑ ΓΡΑΦΕΙΑ ΤΗΣ ΕΕΕ  \nΤίτλος: Φαιοχρωμοκύττωμα – Ο μεγάλος μιμητής \nΥπεύθυνος: Σιαμάτρας Δ. Θωμάς\, MD\, PDip\, MSc\, PhD(c)\, Διευθυντής Τμήματος Ενδοκρινολογίας\, Διαβητολογίας και Μεταβολικών Παθήσεων Ναυτικού Νοσοκ. Αθηνών \nΠαρουσίαση:  Αγλαΐα Παπαχρήστου\, Επιμελήτρια Ναυτ. Νοσοκ. Αθηνών\, Ενδοκρινολογική κλινική \nΣχολιασμός: Παρασκευή Ξεκούκη\, διευθύντρια Ενδοκρινολογικής κλινικής ΠΕ.ΠΑ.ΓΝΗ \nΠροκειμένου να παρακολουθήσετε ελεύθερα την εκδήλωση online\, μπορείτε να προεγγραφείτε μέσω της διεύθυνσης: https://us06web.zoom.us/webinar/register/WN_rMEgZGAIQP2zAPEDzzmrzQ \nσυμπληρώνοντας το ονοματεπώνυμό σας και το email σας στη φόρμα εγγραφής\, ώστε να λάβετε αυτόματα ένα νέο e-mail που θα περιέχει τον σύνδεσμο (link) μέσω του οποίου θα μεταδοθεί η εκδήλωση. \nΠροσβλέποντας πάντα στην πολύτιμη ενεργό συμμετοχή σας. \nΓια την Ελληνική Ενδοκρινολογική Εταιρεία. \nΜε εκτίμηση\, \nΟ ΠΡΟΕΔΡΟΣ\nΝ. Γεωργόπουλος \nΟ ΓΕΝ. ΓΡΑΜΜΑΤΕΑΣ\nΓρ. Ευφραιμίδης
URL:https://endo.gr/event/%cf%80%ce%b1%cf%81%ce%bf%cf%85%cf%83%ce%b9%ce%ac%cf%83%ce%b5%ce%b9%cf%82-%cf%80%ce%b5%cf%81%ce%b9%cf%83%cf%84%ce%b1%cf%84%ce%b9%ce%ba%cf%8e%ce%bd-18-4-2026-%ce%b5%ce%bd%ce%b4-%cf%84%ce%bc/
LOCATION:Γραφεία ΕΕΕ-ΠΕΕ
CATEGORIES:Webinars παρουσίασης περιστατικών,Εκδηλώσεις E.E.E.
ATTACH;FMTTYPE=image/jpeg:https://endo.gr/wp-content/uploads/2024/10/Endokrinologiki_logo_GR.jpg
END:VEVENT
END:VCALENDAR