BEGIN:VCALENDAR
VERSION:2.0
PRODID:-//ENDO - ECPv6.15.14//NONSGML v1.0//EN
CALSCALE:GREGORIAN
METHOD:PUBLISH
X-ORIGINAL-URL:https://endo.gr
X-WR-CALDESC:Events for ENDO
REFRESH-INTERVAL;VALUE=DURATION:PT1H
X-Robots-Tag:noindex
X-PUBLISHED-TTL:PT1H
BEGIN:VTIMEZONE
TZID:Europe/Athens
BEGIN:DAYLIGHT
TZOFFSETFROM:+0200
TZOFFSETTO:+0300
TZNAME:EEST
DTSTART:20210328T010000
END:DAYLIGHT
BEGIN:STANDARD
TZOFFSETFROM:+0300
TZOFFSETTO:+0200
TZNAME:EET
DTSTART:20211031T010000
END:STANDARD
BEGIN:DAYLIGHT
TZOFFSETFROM:+0200
TZOFFSETTO:+0300
TZNAME:EEST
DTSTART:20220327T010000
END:DAYLIGHT
BEGIN:STANDARD
TZOFFSETFROM:+0300
TZOFFSETTO:+0200
TZNAME:EET
DTSTART:20221030T010000
END:STANDARD
BEGIN:DAYLIGHT
TZOFFSETFROM:+0200
TZOFFSETTO:+0300
TZNAME:EEST
DTSTART:20230326T010000
END:DAYLIGHT
BEGIN:STANDARD
TZOFFSETFROM:+0300
TZOFFSETTO:+0200
TZNAME:EET
DTSTART:20231029T010000
END:STANDARD
END:VTIMEZONE
BEGIN:VEVENT
DTSTART;VALUE=DATE:20220303
DTEND;VALUE=DATE:20220304
DTSTAMP:20260424T195420
CREATED:20220303T112148Z
LAST-MODIFIED:20250121T112319Z
UID:21506-1646265600-1646351999@endo.gr
SUMMARY:Spotlight on Science masterclass for 2022
DESCRIPTION:Join us for our first Spotlight on Science masterclass for 2022! \nWe will be holding our first Spotlight on Science masterclass of 2022 on Thursday 3  March 2022\, (18:00 – 19:30 CET)! \nOur first topic will explore COVID-19\, Endocrine and Metabolic Diseases as we hear from our former President Andrea Giustina (Italy) and renowned endocrinologist Bulent Yildiz (Turkey). \nSession Chairs: \n\nStavroula Paschou (Greece)\nPierre Val (France)\n\nThese sessions are a fantastic opportunity to discover the latest developments in endocrine research and to share your own perspectives during a 30-minute open discussion between presenters and attendees. \nSession topics\nCarefully curated the Spotlight on Science masterclass will cover the following topics: \nPrognosis of COVID-19 in patients with known endocrine and metabolic diseases\nAggravation of pre-existing endocrine and metabolic diseases by COVID-19\nNew early and late endocrine and metabolic complications of COVID-19\nMolecular and pathophysiological mechanisms of the above\nAreas to be covered: obesity\, glucose metabolism\, hypothalamus and pituitary\, thyroid\, adrenals\, testes\, ovaries\, calcium and vitamin D
URL:https://endo.gr/event/spotlight-on-science-masterclass-for-2022/
LOCATION:Spotlight on Science masterclass
CATEGORIES:Διεθνείς Εκδηλώσεις,Εκδηλώσεις E.E.E.
ATTACH;FMTTYPE=image/jpeg:https://endo.gr/wp-content/uploads/2025/01/w660_8593_ese_logo_aw_rgb-300x82-1.jpg
END:VEVENT
BEGIN:VEVENT
DTSTART;VALUE=DATE:20220310
DTEND;VALUE=DATE:20220311
DTSTAMP:20260424T195420
CREATED:20220310T112008Z
LAST-MODIFIED:20250121T112141Z
UID:21503-1646870400-1646956799@endo.gr
SUMMARY:Webinar 10/3/3022 – Παγκόσμια Ημέρα κατά της Παχυσαρκίας
DESCRIPTION:Με αφορμή την Παγκόσμια Ημέρα κατά της Παχυσαρκίας\, η Ελληνική Ενδοκρινολογική Εταιρεία διοργανώνει ενημερωτικό Webinar για το κοινό\, που θα πραγματοποιηθεί την Πέμπτη 10 Μαρτίου 2022\, στις 18:30. \nΔείτε παρακάτω το πρόγραμμα της εκδήλωσης \n  \nΠροεδρείο: Γ. Κάσση\, Α. Θωμόπουλος \n18:30-19:00 Τα αίτια της παχυσαρκίας\nΜιχαλάκης Κωνσταντίνος\nΕνδοκρινολόγος\, MD\, PhD\,\nSCOPE international Fellow in Obesity \n19:00-19:30 Διατροφή: Υγεία & νόσος\nΠέππα Μελπομένη\nΚαθηγήτρια Ενδοκρινολογίας\, ΕΚΠΑ\nΥπεύθυνη Μονάδος Ενδοκρινολογίας και Μεταβολικών Παθήσεων των Οστών\,\nΒ’ Προπαιδευτική Παθολογική Κλινική\, Π.Γ.Ν. “ΑΤΤΙΚΟΝ” \n19:30-20:00 Παρόν και μέλλον στη διαιτητική θεραπεία της παχυσαρκίας\nΚιόρτσης Δημήτριος\nΕνδοκρινολόγος\,\nΚαθηγητής Ιατρικής Σχολής Πανεπιστημίου Ιωαννίνων \n20:00-20:30 Παχυσαρκία στην εγκυμοσύνη: Επιπτώσεις για τη μητέρα και τη μακροχρόνια υγεία του παιδιού της\nΜεντζελοπούλου Παρασκευή\nΕνδοκρινολόγος-Διαβητολόγος\nΔιπλωματούχος American Board of Endocrinology Diabetes and Metabolism \n_________________________________________________________________ \nΠροκειμένου να παρακολουθήσετε ελεύθερα το webinar\, μπορείτε να προεγγραφείτε μέσω της διεύθυνσης: \nhttps://attendee.gotowebinar.com/register/8966684871715470351 \nσυμπληρώνοντας το ονοματεπώνυμό σας και το email σας στη φόρμα εγγραφής\, ώστε να λάβετε αυτόματα ένα νέο e-mail που θα περιέχει τον σύνδεσμο (link) μέσω του οποίου θα μεταδοθεί το webinar. \nΠροσβλέποντας πάντα στην πολύτιμη ενεργό συμμετοχή σας. \nΓια την Ελληνική Ενδοκρινολογική Εταιρεία. \nΜε εκτίμηση\, \n \n\n  \n\nΑΝΑΛΥΤΙΚΕΣ ΟΔΗΓΙΕΣ ΣΥΝΔΕΣΗΣ\nΤην ημέρα και ώρα διεξαγωγής του webinar\, για να συνδεθείτε\, θα πατήσετε στον παραπάνω σύνδεσμο  και αφού συμπληρώσετε πάλι το Ονοματεπώνυμο και το email σας (εικόνα 1 πιο κάτω)\, θα πατήσετε στο κουμπί “Join Webinar in Progress” στο κάτω μέρος της φόρμας. Στη συνέχεια (εικόνα 2) θα δεχθείτε να “κατέβει” και “εγκατασταθεί” (ή “εκτελεστεί”) στον browser σας\, ένα μικρό πρόγραμμα με το όνομα GoToWebinar Opener (εικόνα 3)\, το οποίο είναι απαραίτητο για να δημιουργήσει στον Η/Υ σας το περιβάλλον παρακολούθησης και υποβολής ερωτημάτων (εικόνα 4). \n(εικόνα 1)\n \n(εικόνα 2)\n \n(εικόνα 3)\n \n(εικόνα 4)\n \nΜπορείτε να παρακολουθήσετε τα webinars είτε από σταθερό ή φορητό υπολογιστή είτε από άλλη κινητή συσκευή (tablet\, κινητό τηλέφωνο)\, κατεβάζοντας και εγκαθιστώντας την αντίστοιχη εφαρμογή για iOS ή για Android λειτουργικό. \nMπορείτε να υποβάλλετε τις ερωτήσεις σας στους εισηγητές\, είτε προφορικά (ενδείκνυται)\, πατώντας πρώτα το κουμπί με την παλάμη\, \n \nώστε ο τεχνικός συντονιστής να σας δώσει τον λόγο και να ανοίξει το μικρόφωνό σας για να σας ακούσουν όλοι οι συμμετέχοντες\, είτε γραπτά\, πληκτρολογώντας την ερώτησή σας στο πλαίσιο με τίτλο Question και στη συνέχεια πατώντας Send για να την παραλάβει ο τεχνικός συντονιστής και να την προωθήσει στον ομιλητή.
URL:https://endo.gr/event/webinar-10-3-3022-%cf%80%ce%b1%ce%b3%ce%ba%cf%8c%cf%83%ce%bc%ce%b9%ce%b1-%ce%b7%ce%bc%ce%ad%cf%81%ce%b1-%ce%ba%ce%b1%cf%84%ce%ac-%cf%84%ce%b7%cf%82-%cf%80%ce%b1%cf%87%cf%85%cf%83%ce%b1%cf%81/
CATEGORIES:Εκδηλώσεις E.E.E.
ATTACH;FMTTYPE=image/png:https://endo.gr/wp-content/uploads/2025/01/world-obesity-logo-150x150-1.png
END:VEVENT
BEGIN:VEVENT
DTSTART;VALUE=DATE:20220311
DTEND;VALUE=DATE:20220314
DTSTAMP:20260424T195420
CREATED:20220311T111642Z
LAST-MODIFIED:20250121T111944Z
UID:21498-1646956800-1647215999@endo.gr
SUMMARY:25ος Κύκλος Εντατικής Εκπαίδευσης στην Ενδοκρινολογία (Αναπαραγωγική Ενδοκρινολογία-Παιδιατρική Ενδοκρινολογία)\, 11-13 Μαρτίου 2022
DESCRIPTION:Δείτε εδώ το πρόγραμμα \nΣας ενημερώνουμε ότι ο 25ος Κύκλος Εντατικής Εκπαίδευσης στην Ενδοκρινολογία με θέμα: “Αναπαραγωγική Ενδοκρινολογία-Παιδιατρική Ενδοκρινολογία”\, θα πραγματοποιηθεί υβριδικά στις 11-13 Μαρτίου 2022\, στο Ξενοδοχείο Royal Olympic. \nΤο link της ιστοσελίδας του Συνεδρίου είναι το παρακάτω:\nhttps://25endo2022.frei.gr/ \nΣύμφωνα με τα κριτήρια της UEMS – EACCME χορηγούνται 16 μόρια Συνεχιζόμενης Ιατρικής Εκπαίδευσης (CME-CPD credits).
URL:https://endo.gr/event/25%ce%bf%cf%82-%ce%ba%cf%8d%ce%ba%ce%bb%ce%bf%cf%82-%ce%b5%ce%bd%cf%84%ce%b1%cf%84%ce%b9%ce%ba%ce%ae%cf%82-%ce%b5%ce%ba%cf%80%ce%b1%ce%af%ce%b4%ce%b5%cf%85%cf%83%ce%b7%cf%82-%cf%83%cf%84%ce%b7%ce%bd/
LOCATION:25ος Κύκλος Εντατικής Εκπαίδευσης στην Ενδοκρινολογία
CATEGORIES:Εκδηλώσεις E.E.E.
ATTACH;FMTTYPE=image/jpeg:https://endo.gr/wp-content/uploads/2025/01/25ENDO2022_F-212x300-1.jpg
END:VEVENT
BEGIN:VEVENT
DTSTART;VALUE=DATE:20220317
DTEND;VALUE=DATE:20220320
DTSTAMP:20260424T195420
CREATED:20220317T111437Z
LAST-MODIFIED:20250121T111632Z
UID:21494-1647475200-1647734399@endo.gr
SUMMARY:16ο Πανελλήνιο Ιατρικό Συνέδριο Παχυσαρκίας
DESCRIPTION:Για περισσότερες πληροφορίες δείτε εδώ \nΣας ενημερώνουμε για το 16ο Πανελλήνιο Ιατρικό Συνέδριο Παχυσαρκίας το οποίο θα διεξαχθεί με διαδικτυακή παρακολούθηση από την Πέμπτη 17 Μαρτίου έως και το Σάββατο 19 Μαρτίου 2022.
URL:https://endo.gr/event/16%ce%bf-%cf%80%ce%b1%ce%bd%ce%b5%ce%bb%ce%bb%ce%ae%ce%bd%ce%b9%ce%bf-%ce%b9%ce%b1%cf%84%cf%81%ce%b9%ce%ba%cf%8c-%cf%83%cf%85%ce%bd%ce%ad%ce%b4%cf%81%ce%b9%ce%bf-%cf%80%ce%b1%cf%87%cf%85%cf%83%ce%b1/
LOCATION:16ο Πανελλήνιο Ιατρικό Συνέδριο Παχυσαρκίας
CATEGORIES:Εκδηλώσεις E.E.E.
ATTACH;FMTTYPE=image/jpeg:https://endo.gr/wp-content/uploads/2025/01/16o-Paxysarkias_Poster-002-200x300-1.jpg
END:VEVENT
BEGIN:VEVENT
DTSTART;TZID=Europe/Athens:20220319T090000
DTEND;TZID=Europe/Athens:20220319T193000
DTSTAMP:20260424T195420
CREATED:02020319T111503Z
LAST-MODIFIED:20250121T105126Z
UID:21475-1647680400-1647718200@endo.gr
SUMMARY:Σύγχρονη Προσέγγιση του Καρκίνου του Θυρεοειδούς
DESCRIPTION:Δείτε εδώ το πρόγραμμα \nΤίτλος Επιστημονικής Εκδήλωσης: Σύγχρονη Προσέγγιση του Καρκίνου του Θυρεοειδούς \nΧώρος Διεξαγωγής: Αίθουσα Εκδηλώσεων ΙΑΣΩ \nΤρόπος διεξαγωγής: Υβριδικά \nΗμερομηνίες Διεξαγωγής: 19 Μαρτίου 2022  \nΏρα Διεξαγωγής:  Σάββατο 19 Μαρτίου 9.00 – 19.30 \nΔιοργάνωση: Τμήμα Χειρουργικής Θυρεοειδούς και Παραθυρεοειδών\, ΙΑΣΩ Γενική Κλινική \nΕπίσημη ιστοσελίδα: ΙΑΣΩ \nΙστοσελίδα Εκδήλωσης: Σύγχρονη Προσέγγιση του Καρκίνου του Θυρεοειδούς
URL:https://endo.gr/event/%cf%83%cf%8d%ce%b3%cf%87%cf%81%ce%bf%ce%bd%ce%b7-%cf%80%cf%81%ce%bf%cf%83%ce%ad%ce%b3%ce%b3%ce%b9%cf%83%ce%b7-%cf%84%ce%bf%cf%85-%ce%ba%ce%b1%cf%81%ce%ba%ce%af%ce%bd%ce%bf%cf%85-%cf%84%ce%bf%cf%85/
LOCATION:Σύγχρονη Προσέγγιση του Καρκίνου του Θυρεοειδούς
CATEGORIES:Εκδηλώσεις E.E.E.
END:VEVENT
BEGIN:VEVENT
DTSTART;TZID=Europe/Athens:20220319T110000
DTEND;TZID=Europe/Athens:20220319T233000
DTSTAMP:20260424T195420
CREATED:20250121T105256Z
LAST-MODIFIED:20250128T123558Z
UID:21479-1647687600-1647732600@endo.gr
SUMMARY:Webinar 19/3/2022\, Παρουσίαση περιστατικών ΓΝΑ ΕΛΕΝΑ ΒΕΝΙΖΕΛΟΥ\, ΠΝΑ «ΑΡΕΤΑΙΕΙΟΝ»\, ΝΑΥΤΙΚΟ ΝΟΣΟΚΟΜΕΙΟ ΑΘΗΝΩΝ – (ΝΝΑ)
DESCRIPTION:Αγαπητοί Συνάδελφοι\, \nΤο Σάββατο 19/3/2022 στις 11.00 π.μ. πραγματοποιείται το 3ο Webinar της Ελληνικής Ενδοκρινολογικής Εταιρείας\, στο πλαίσιο των μετεκπαιδευτικών της μαθημάτων μέσω διαδικτύου για το 2022. \n1ο ΠΕΡΙΣΤΑΤΙΚΟ: ΓΝΑ ΕΛΕΝΑ ΒΕΝΙΖΕΛΟΥ \nΤίτλος: Άποιος διαβήτης στην κύηση και διαφορική διάγνωσή του \nΘα παρουσιαστούν δύο περιστατικά. Το πρώτο αφορά σε γυναίκα με εγκατεστημένο κεντρικό άποιο διαβήτη\, υπό αγωγή με δεσμοπρεσσίνη\, η οποία παρακολουθήθηκε στο τμήμα μας κατά την εγκυμοσύνη της.\nΤο δεύτερο αναφέρεται σε έγκυο με αιφνίδια εγκατεστημένη πολυουρία και πολυδιψία από την 26η εβδομάδα της κύησης. Διερευνήθηκαν οι πιθανές αιτίες αυτής της κλινικής εικόνας\, που περιλάμβαναν και τον παροδικό άποιο διαβήτη της κύησης. \nΠαρουσίαση: Βασιλική Παπαδοπούλου\, MD\, MSc\, ειδικευόμενη Ενδοκρινολογίας\, Τμήμα Ενδοκρινολογίας\, Διαβήτη και Μεταβολισμού\, Γενικό Νοσοκομείο-\nΜαιευτήριο “Έλενα Βενιζέλου”\nΙωάννης Ηλίας\, MD\, PhD\, Ενδοκρινολόγος\, Διευθυντής ΕΣΥ\, τμήμα Ενδοκρινολογίας\, Διαβήτη και Μεταβολισμού\, Γενικό Νοσοκομείο-Μαιευτήριο\n“Έλενα Βενιζέλου” \nΥπεύθυνη: Ευτυχία Κούκκου\, MD\, PhD\, Ενδοκρινολόγος\, Συντονίστρια Διευθύντρια τμήματος Ενδοκρινολογίας\, Διαβήτη και Μεταβολισμού\, Γενικό Νοσοκομείο-Μαιευτήριο\n“Έλενα Βενιζέλου” \nΣχολιάστρια: Βασιλική Βασιλείου\, Ενδοκρινολόγος\, Διευθύντρια ΕΣΥ\, ΓΝΑ ΑΛΕΞΑΝΔΡΑ \n———————————————————–\n2ο ΠΕΡΙΣΤΑΤΙΚΟ: ΠΝΑ «ΑΡΕΤΑΙΕΙΟΝ» \nΤίτλος: Περίπτωση Αντίστασης στα Ανδρογόνα \nΚορίτσι 16 ετών\, παραπέμφθηκε από γυναικολόγο λόγω πρωτοπαθούς αμηνόρροιας χωρίς παθολογικά ευρήματα κατά τον αρχικό γυναικολογικό έλεγχο έξω και έσω γεννητικών οργάνων. Κατά την κλινική εξέταση διαπιστώθηκε διόγκωση μαστών (Tanner III) και τρίχωση εφηβαίου (Tanner ΙΙ-ΙΙΙ) χωρίς σημεία αρρενοποίησης. Κατά τον εργαστηριακό έλεγχο βρέθηκαν υψηλές τιμές τεστοστερόνης και ωχρινοτρόπου ορμόνης και καρυότυπος περιφερικού αίματος 46\,ΧΧ ενώ στον απεικονιστικό έλεγχο δεν κατέστη δυνατό να βρεθούν δομές έσω γεννητικών οργάνων. Παρουσιάζεται η διερεύνηση που οδήγησε στη διάγνωση του συνδρόμου πλήρους αντίστασης στα ανδρογόνα καθώς και η αντιμετώπιση. \nΠαρουσίαση: Κατερίνα Καπαμά\, φοιτήτρια του Μεταπτυχιακού Προγράμματος Σπουδών “Έρευνα στη γυναικεία στην αναπαραγωγή”\, υποψήφια ειδικευόμενη ενδοκρινολογίας υπό την καθοδήγηση της κυρίας Παπαγιάννη Μαρίας (Επ. Καθηγήτρια\, Παν/μιο Θεσσαλίας) και του Γ. Μαστοράκου\, Καθηγητή Ενδοκρινολογίας ΕΚΠΑ. \nΣχολιασμός: Παπαγιάννη Μαρία\, Επίκ. Καθηγήτρια Παιδιατρικής Ενδοκρινολογίας\, Μεταβολισμού και Διατροφής στο Παιδί και στον Έφηβο\, Πανεπιστήμιο Θεσσαλίας \n——————————————————————-\n3ο ΠΕΡΙΣΤΑΤΙΚΟ: ΝΑΥΤΙΚΟ ΝΟΣΟΚΟΜΕΙΟ ΑΘΗΝΩΝ – (ΝΝΑ) \nΤίτλος: Διερεύνηση γυναίκας με νεφρολιθίαση \nΠρόκειται για ασθενή 37 ετών που παραπέμφθηκε στο εξωτερικό ιατρείο της Ενδοκρινολογικής Κλινικής του ΝΝΑ τον 11/19 για διερεύνηση νεφρολιθίασης. Από τον έλεγχο διαπιστώθηκαν αυξημένες τιμές παραθορμόνης\, ασβεστίου αίματος και ούρων\, συμβατές με 1οπαθή υπερπαραθυρεοειδισμό. Ο εντοπιστικός έλεγχος με σπινθηρογράφημα (sestamibi) αποκάλυψε αυξημένη πρόσληψη στην πύλη του Δε πνεύμονα\, που αντιστοιχούσε σε άτυπο καρκινοειδές 3.9cm. \nΠαρουσίαση: Φωτεινή Θανασούλα\, Ειδικευόμενη Παθολογίας στο Ναυτικό Νοσοκομείο Αθηνών (εν αναμονή ειδικότητας Ενδοκρινολογίας)\nΚομνηνός Ιωάννης\, Διευθυντής Ενδοκρινολογικής Κλινικής Ναυτικού Νοσοκομείου Αθηνών \nΣχολιασμός: Συμεών Τουρνής\, Ενδοκρινολόγος\, ΕΕΠΜΣ\, ΕΚΠΑ\, Νοσοκομείο ΚΑΤ.
URL:https://endo.gr/event/webinar-19-3-2022-%cf%80%ce%b1%cf%81%ce%bf%cf%85%cf%83%ce%af%ce%b1%cf%83%ce%b7-%cf%80%ce%b5%cf%81%ce%b9%cf%83%cf%84%ce%b1%cf%84%ce%b9%ce%ba%cf%8e%ce%bd-%ce%b3%ce%bd%ce%b1-%ce%b5%ce%bb%ce%b5%ce%bd/
LOCATION:Webinar Παρουσίαση περιστατικών
CATEGORIES:Webinars παρουσίασης περιστατικών,Εκδηλώσεις E.E.E.
END:VEVENT
BEGIN:VEVENT
DTSTART;VALUE=DATE:20220324
DTEND;VALUE=DATE:20220325
DTSTAMP:20260424T195420
CREATED:20220324T104745Z
LAST-MODIFIED:20250121T104927Z
UID:21470-1648080000-1648166399@endo.gr
SUMMARY:Κύκλος διαδικτυακών μαθημάτων «Υγεία και Θρησκεία»: π. Φιλώτας Ταλίδης\, “Η βιολογία της ψυχής”\, 24/3/2022
DESCRIPTION:Για περισσότερες πληροφορίες δείτε εδώ \nΚύκλος διαδικτυακών μαθημάτων\n«Υγεία και Θρησκεία»: \n24 Μαρτίου 2022\, 15:00 – 16:00\nΟμιλητής: π. Φιλώτας Ταλίδης\, Ενδοκρινολόγος \nΤην Πέμπτη 24 Μαρτίου 2022 και ώρα 15:00 – 16:00\, θα πραγματοποιηθεί η 13η ομιλία του κύκλου διαδικτυακών μαθημάτων «Υγεία και Θρησκεία»\, τα οποία επιμελείται και συντονίζει ο Ομ. Καθηγητής της Χειρουργικής π. Δημήτρης Λινός. \nΗ ομιλία με θέμα “Η βιολογία της ψυχής” θα πραγματοποιηθεί από τον π. Φιλώτα Ταλίδη\, Ενδοκρινολόγο\, Εφημέριο και Μέλος Διοικητικού Συμβουλίου του Ιατρικού Συλλόγου Καστοριάς. \nΟ κύκλος των μαθημάτων διοργανώνεται από το Ινστιτούτο Prolepsis\, σε συνεργασία με την Επιστημονική Εταιρεία Φοιτητών Ιατρικής Ελλάδος και τελεί υπό την Αιγίδα της Ιατρικής Σχολής Αθηνών. \nΕνημερωθείτε για την πρωτοβουλία και παρακολουθήστε ζωντανά τις ομιλίες στο www.healthandreligion.gr
URL:https://endo.gr/event/%ce%ba%cf%8d%ce%ba%ce%bb%ce%bf%cf%82-%ce%b4%ce%b9%ce%b1%ce%b4%ce%b9%ce%ba%cf%84%cf%85%ce%b1%ce%ba%cf%8e%ce%bd-%ce%bc%ce%b1%ce%b8%ce%b7%ce%bc%ce%ac%cf%84%cf%89%ce%bd-%cf%85%ce%b3%ce%b5%ce%af/
LOCATION:Κύκλος διαδικτυακών μαθημάτων «Υγεία και Θρησκεία»
CATEGORIES:Εκδηλώσεις E.E.E.
ATTACH;FMTTYPE=image/png:https://endo.gr/wp-content/uploads/2025/01/prolepsis-300x100-1.png
END:VEVENT
END:VCALENDAR