BEGIN:VCALENDAR
VERSION:2.0
PRODID:-//ENDO - ECPv6.15.14//NONSGML v1.0//EN
CALSCALE:GREGORIAN
METHOD:PUBLISH
X-ORIGINAL-URL:https://endo.gr
X-WR-CALDESC:Events for ENDO
REFRESH-INTERVAL;VALUE=DURATION:PT1H
X-Robots-Tag:noindex
X-PUBLISHED-TTL:PT1H
BEGIN:VTIMEZONE
TZID:Europe/Athens
BEGIN:DAYLIGHT
TZOFFSETFROM:+0200
TZOFFSETTO:+0300
TZNAME:EEST
DTSTART:20210328T010000
END:DAYLIGHT
BEGIN:STANDARD
TZOFFSETFROM:+0300
TZOFFSETTO:+0200
TZNAME:EET
DTSTART:20211031T010000
END:STANDARD
BEGIN:DAYLIGHT
TZOFFSETFROM:+0200
TZOFFSETTO:+0300
TZNAME:EEST
DTSTART:20220327T010000
END:DAYLIGHT
BEGIN:STANDARD
TZOFFSETFROM:+0300
TZOFFSETTO:+0200
TZNAME:EET
DTSTART:20221030T010000
END:STANDARD
BEGIN:DAYLIGHT
TZOFFSETFROM:+0200
TZOFFSETTO:+0300
TZNAME:EEST
DTSTART:20230326T010000
END:DAYLIGHT
BEGIN:STANDARD
TZOFFSETFROM:+0300
TZOFFSETTO:+0200
TZNAME:EET
DTSTART:20231029T010000
END:STANDARD
END:VTIMEZONE
BEGIN:VEVENT
DTSTART;VALUE=DATE:20220401
DTEND;VALUE=DATE:20220403
DTSTAMP:20260424T183455
CREATED:20220401T094426Z
LAST-MODIFIED:20250121T104724Z
UID:21462-1648771200-1648943999@endo.gr
SUMMARY:4o Σεμινάριο Τεχνολογίας στο Σακχαρώδη Διαβήτη\, 1-2/4/2022\, Γραφεία ΕΕΕ-ΠΕΕ
DESCRIPTION:Δείτε εδώ το πρόγραμμα \nH Ελληνική Ενδοκρινολογική Εταιρεία – Πανελλήνια Ένωση Ενδοκρινολόγων διοργανώνει το 4ο Σεμινάριο Τεχνολογίας στο Σακχαρώδη Διαβήτη\, στις 1 και 2 Απριλίου 2022\, στα γραφεία της ΕΕΕ-ΠΕΕ. \nΣύμφωνα με τα κριτήρια της UEMS – EACCME θα χορηγηθούν 9 μόρια Συνεχιζόμενης Ιατρικής Εκπαίδευσης (CME-CPD credits).
URL:https://endo.gr/event/4o-%cf%83%ce%b5%ce%bc%ce%b9%ce%bd%ce%ac%cf%81%ce%b9%ce%bf-%cf%84%ce%b5%cf%87%ce%bd%ce%bf%ce%bb%ce%bf%ce%b3%ce%af%ce%b1%cf%82-%cf%83%cf%84%ce%bf-%cf%83%ce%b1%ce%ba%cf%87%ce%b1%cf%81%cf%8e%ce%b4%ce%b7/
LOCATION:Γραφεία ΕΕΕ-ΠΕΕ
CATEGORIES:Εκδηλώσεις E.E.E.
ATTACH;FMTTYPE=image/png:https://endo.gr/wp-content/uploads/2025/01/eee-300x146-3.png
END:VEVENT
BEGIN:VEVENT
DTSTART;VALUE=DATE:20220403
DTEND;VALUE=DATE:20220408
DTSTAMP:20260424T183455
CREATED:20220403T094303Z
LAST-MODIFIED:20250121T104419Z
UID:21458-1648944000-1649375999@endo.gr
SUMMARY:EASD Robert Turner Course\, 3 – 7 April 2022 in Oxford\, UK
DESCRIPTION:EASD Robert Turner Course\, 3 – 7 April 2022 in Oxford\, UK \nThe interactive and highly successful EASD Robert Turner Course returns to the face-to-face format in 2022 and is hosted again by Oxford University’s Clinical Departments. It is open to clinically qualified doctors with an interest in research in endocrinology and diabetes. \nhttps://www.easd.org/rtc-2022.html
URL:https://endo.gr/event/easd-robert-turner-course-3-7-april-2022-in-oxford-uk/
LOCATION:Oxford\, UK
CATEGORIES:Διεθνείς Εκδηλώσεις,Εκδηλώσεις E.E.E.
ATTACH;FMTTYPE=image/jpeg:https://endo.gr/wp-content/uploads/2025/01/IMG_9358.jpg
END:VEVENT
BEGIN:VEVENT
DTSTART;VALUE=DATE:20220428
DTEND;VALUE=DATE:20220501
DTSTAMP:20260424T183455
CREATED:20220428T094113Z
LAST-MODIFIED:20250213T082921Z
UID:21455-1651104000-1651363199@endo.gr
SUMMARY:49ο Πανελλήνιο Συνέδριο Ενδοκρινολογίας\, Μεταβολισμού & Σακχαρώδη Διαβήτη\, Αθήνα\, 28-30 Απριλίου 2022\, Divani Caravel
DESCRIPTION:Δείτε εδώ το πρόγραμμα \nΔείτε εδώ το Abstract Book \nΓια περισσότερες πληροφορίες δείτε εδώ. \nΑγαπητοί Συνάδελφοι\, \nΤο ΔΣ της Ελληνικής Ενδοκρινολογικής Εταιρείας – Πανελλήνιας Ένωσης Ενδοκρινολόγων (ΕΕΕ-ΠΕΕ) σας προσκαλεί με ιδιαίτερη χαρά στο 49ο Πανελλήνιο Συνέδριο Ενδοκρινολογίας\, Μεταβολισμού και Σακχαρώδη Διαβήτη που θα πραγματοποιηθεί 28-30 Απριλίου 2022\, στο ξενοδοχείο Divani Caravel\, στην Αθήνα. Το συνέδριο θα είναι με φυσική παρακολούθηση τηρώντας όλα τα ισχύοντα πρωτόκολλα.\nΣτο πλαίσιο της συνεχιζόμενης ιατρικής εκπαίδευσης και ενημέρωσης\, το συνέδριο περιλαμβάνει διαλέξεις\, συμπόσια\, συναντήσεις με τον ειδικό (meet the expert)\, παρουσίαση προφορικών ανακοινώσεων και ηλεκτρονικά αναρτημένες ανακοινώσεις (e-posters) καθώς και δορυφορικά συμπόσια και δορυφορικές διαλέξεις. Φέτος\, θα υπάρχουν για πρώτη φορά και Κλινικά Φροντιστήρια (workshops) σε τρία σημαντικά πεδία της ειδικότητας\, τον σακχαρώδη διαβήτη\, την παχυσαρκία και τη χρήση των υπερήχων.\nΘέματα του Συνεδρίου θα αναπτυχθούν από διακεκριμένους Έλληνες και ξένους επιστήμονες διεθνούς εμβέλειας με βαθιά γνώση του αντικειμένου τους. Στα συμπόσια θα συμμετέχουν και συνάδελφοι άλλων ειδικοτήτων αποδεικνύοντας έτσι την εξωστρέφεια της Εταιρείας για συνεργασίες\, με γνώμονα πάντα το όφελος για τους γιατρούς και τους ασθενείς.\nΗ Ελληνική Ενδοκρινολογική Εταιρεία – Πανελλήνια Ένωση Ενδοκρινολόγων δίνει ιδιαίτερη έμφαση στο ρόλο που διαδραματίζει ο Ενδοκρινολόγος στην αντιμετώπιση σοβαρών παθήσεων\, οι οποίες στις μέρες μας πλήττουν τεράστιο αριθμό ανθρώπων σε ολόκληρο τον κόσμο\, όπως ο Σακχαρώδης Διαβήτης\, η Παχυσαρκία\, οι παθήσεις του Θυρεοειδούς και οι επιπλοκές τους\, όπως αυτό έγινε έκδηλο στην πανδημία του Covid-19. Ακόμα\, θα συζητηθούν τα νεότερα δεδομένα και θα παρουσιαστούν σύγχρονες θεραπείες\, σημαντικές διαγνωστικές και θεραπευτικές προσεγγίσεις και άλλα θέματα που μας απασχολούν στην καθημερινή κλινική πρακτική.\nΗ συνέχιση του ανοίγματος προς τους νεότερους ενδοκρινολόγους με την παρουσίαση των ερευνητικών δραστηριοτήτων τους και την ενεργό συμμετοχή στο πρόγραμμα του συνεδρίου εξακολουθεί να έχει σημαντική βαρύτητα στην εξέλιξη της Εταιρείας μας. Το ίδιο σημαντική θεωρούμε και την επιβράβευση ιστορικών μορφών της Εταιρείας μας με ομιλίες και συμπόσια σχετικά με την επιστημονική τους ιστορία.\nΕλπίζοντας ότι φέτος θα μπορέσουμε να ανταμώσουμε από κοντά\, σας προσκαλούμε να συμμετάσχετε ενεργά στο συνέδριο ώστε να μοιραστούμε τη σύγχρονη\, διεθνή γνώση και να ανταλλάξουμε απόψεις. \nΜε φιλικούς χαιρετισμούς \nΓια την Ελληνική Ενδοκρινολογική Εταιρεία – Πανελλήνια Ένωση Ενδοκρινολόγων \nH Πρόεδρος \nΑνδρομάχη Βρυωνίδου-Μπομποτά \n  \nΤο Συνέδριο θα μοριοδοτηθεί με 20 Μόρια Συνεχιζόμενης Ιατρικής Εκπαίδευσης (C.M.E. credits) αναγνωρισμένα από τον ΠΙΣ. \nΤα poster θα αναρτηθούν ηλεκτρονικά. \nΓραφείο Διοργάνωσης \nWELCOME TRAVEL\nΔιεύθυνση\n25ης Μαρτίου 11\, 15232\, Χαλάνδρι\nΣτοιχεία επικοινωνίας\nE: info@welcometravel.gr\nΤ: +302112105553
URL:https://endo.gr/event/49%ce%bf-%cf%80%ce%b1%ce%bd%ce%b5%ce%bb%ce%bb%ce%ae%ce%bd%ce%b9%ce%bf-%cf%83%cf%85%ce%bd%ce%ad%ce%b4%cf%81%ce%b9%ce%bf-%ce%b5%ce%bd%ce%b4%ce%bf%ce%ba%cf%81%ce%b9%ce%bd%ce%bf%ce%bb%ce%bf%ce%b3%ce%af/
LOCATION:Αθήνα
CATEGORIES:Εκδηλώσεις E.E.E.,Πανελλήνια Ενδοκρινολογικά Συνέδρια
ATTACH;FMTTYPE=image/jpeg:https://endo.gr/wp-content/uploads/2025/01/49th-endo-poster-212x300-1.jpg
END:VEVENT
END:VCALENDAR