BEGIN:VCALENDAR
VERSION:2.0
PRODID:-//ENDO - ECPv6.15.14//NONSGML v1.0//EN
CALSCALE:GREGORIAN
METHOD:PUBLISH
X-ORIGINAL-URL:https://endo.gr
X-WR-CALDESC:Events for ENDO
REFRESH-INTERVAL;VALUE=DURATION:PT1H
X-Robots-Tag:noindex
X-PUBLISHED-TTL:PT1H
BEGIN:VTIMEZONE
TZID:Europe/Athens
BEGIN:DAYLIGHT
TZOFFSETFROM:+0200
TZOFFSETTO:+0300
TZNAME:EEST
DTSTART:20220327T010000
END:DAYLIGHT
BEGIN:STANDARD
TZOFFSETFROM:+0300
TZOFFSETTO:+0200
TZNAME:EET
DTSTART:20221030T010000
END:STANDARD
BEGIN:DAYLIGHT
TZOFFSETFROM:+0200
TZOFFSETTO:+0300
TZNAME:EEST
DTSTART:20230326T010000
END:DAYLIGHT
BEGIN:STANDARD
TZOFFSETFROM:+0300
TZOFFSETTO:+0200
TZNAME:EET
DTSTART:20231029T010000
END:STANDARD
BEGIN:DAYLIGHT
TZOFFSETFROM:+0200
TZOFFSETTO:+0300
TZNAME:EEST
DTSTART:20240331T010000
END:DAYLIGHT
BEGIN:STANDARD
TZOFFSETFROM:+0300
TZOFFSETTO:+0200
TZNAME:EET
DTSTART:20241027T010000
END:STANDARD
END:VTIMEZONE
BEGIN:VEVENT
DTSTART;VALUE=DATE:20230121
DTEND;VALUE=DATE:20230618
DTSTAMP:20260423T155329
CREATED:20230120T220008Z
LAST-MODIFIED:20250117T093123Z
UID:20845-1674259200-1687046399@endo.gr
SUMMARY:Mαθήματα Εργαστηριακής Ανδρολογίας
DESCRIPTION:Μετά την διακοπή στις εκπαιδευτικές διαδικασίες που επέβαλε ο Covid\, το εργαστήριο Ιστολογίας-Εμβρυολογίας της Ιατρικής Σχολής του ΕΚΠΑ διοργανώνει για 8η χρονιά τα μαθήματα Εργαστηριακής Ανδρολογίας. \n1. Πρόγραμμα μαθ.1 21-1-2023 \n2. Πρόγραμμα μαθ. 2 11-2-2023 \n3. Πρόγραμμα μαθ. 3 18-3-2023 \n4. Πρόγραμμα μαθ. 4 8-4-2023 \n5. Πρόγραμμα μαθ. 5 6-5-2023 \n6. Πρόγραμμα μαθ. 6 17-6-2023 \n 
URL:https://endo.gr/event/m%ce%b1%ce%b8%ce%ae%ce%bc%ce%b1%cf%84%ce%b1-%ce%b5%cf%81%ce%b3%ce%b1%cf%83%cf%84%ce%b7%cf%81%ce%b9%ce%b1%ce%ba%ce%ae%cf%82-%ce%b1%ce%bd%ce%b4%cf%81%ce%bf%ce%bb%ce%bf%ce%b3%ce%af%ce%b1%cf%82/
LOCATION:Mαθήματα Εργαστηριακής Ανδρολογίας
CATEGORIES:Εκδηλώσεις E.E.E.,Υπό την αιγίδα της Εταιρείας
ATTACH;FMTTYPE=image/jpeg:https://endo.gr/wp-content/uploads/2025/01/Untitled-1-206x300-1.jpg
END:VEVENT
BEGIN:VEVENT
DTSTART;VALUE=DATE:20230503
DTEND;VALUE=DATE:20230507
DTSTAMP:20260423T155329
CREATED:20230502T210005Z
LAST-MODIFIED:20250116T120416Z
UID:20875-1683072000-1683417599@endo.gr
SUMMARY:21ο SIS WORLD CONGRESS ON BREAST CANCER AND BREAST HEALTHCARE
DESCRIPTION:Θα θέλαμε να σας ενημερώσουμε για το 21ο SIS WORLD CONGRESS ON BREAST CANCER AND BREAST HEALTHCARE το οποίο θα πραγματοποιηθεί 3-6 Μαΐου 2023 στο Διεθνές Συνεδριακό Κέντρο του Ξενοδοχείου RODOS PALACE στη Ρόδο. \nΤο συνέδριο αποτελεί ένα σημαντικό γεγονός για την παγκόσμια επιστημονική κοινότητα και αναμένεται να το παρακολουθήσουν δια ζώσης μεγάλος αριθμός Συνέδρων\, μέλη από 47 εθνικές εταιρείες Μαστολογίας από όλο τον κόσμο. \nΠερισσότερες πληροφορίες για το Συνέδριο\, εγγραφές και υποβολή περιλήψεων θα βρείτε στην ιστοσελίδα του Συνεδρίου www.21stsisbreastcongress.com.
URL:https://endo.gr/event/21%ce%bf-sis-world-congress-on-breast-cancer-and-breast-healthcare/
LOCATION:21ο SIS WORLD CONGRESS
CATEGORIES:Εκδηλώσεις E.E.E.
ATTACH;FMTTYPE=image/png:https://endo.gr/wp-content/uploads/2025/01/Picture2-217x300-1.png
END:VEVENT
BEGIN:VEVENT
DTSTART;VALUE=DATE:20230504
DTEND;VALUE=DATE:20230507
DTSTAMP:20260423T155329
CREATED:20230503T210048Z
LAST-MODIFIED:20250319T114134Z
UID:20878-1683158400-1683417599@endo.gr
SUMMARY:50o Πανελλήνιο Συνέδριο Ενδοκρινολογίας\, Μεταβολισμού και Σακχαρώδη Διαβήτη\, 4-6 Μαΐου 2023\, Θεσσαλονίκη
DESCRIPTION:Δείτε το πρόγραμμα \nΔείτε εδώ το Abstract Book \nΣας ενημερώνουμε ότι στις 4-6 Μαΐου 2023\, η Ελληνική Ενδοκρινολογική Εταιρεία διοργανώνει στη Θεσσαλονίκη\, τo 50o Πανελλήνιο Συνέδριο Ενδοκρινολογίας\, Μεταβολισμού και Σακχαρώδη Διαβήτη\, στο Ξενοδοχείο Makedonia Palace\, στη Θεσσαλονίκη. \nΤο Συνέδριο θα μοριοδοτηθεί με 21 Μόρια Συνεχιζόμενης Ιατρικής Εκπαίδευσης (C.M.E. credits) αναγνωρισμένα από τον ΠΙΣ. \nΤα poster θα αναρτηθούν ηλεκτρονικά. \nΜπορείτε να υποβάλετε τις εργασίες σας μέχρι την και την 5η Μαρτίου 2023 \n  \nΔείτε εδώ υπόδειγμα εργασίας με οδηγίες για σωστή υποβολή. \n(Η εργασία που παρουσιάζεται σαν υπόδειγμα έχει υποβληθεί στο 37ο ΠΕΣ και η επιλογή της είναι τυχαία) \nΟΔΗΓΙΕΣ ΓΙΑ ΤΗΝ ΥΠΟΒΟΛΗ ΥΠΟΨΗΦΙΟΤΗΤΩΝ ΓΙΑ ΤΑ  ΒΡΑΒΕΙΑ σε εργασίες που δημοσιεύθηκαν το 2022 σε περιοδικό που αναφέρεται στο PubMed με IMPACT FACTOR\n1. Οι εργασίες πρέπει να έχουν σχεδιασθεί και εκτελεσθεί εξ ολοκλήρου στην Ελλάδα.\n2. Κάθε εργασία υποβάλλεται στην  πλήρη δημοσιευμένη της μορφή (PDF) από το αντίστοιχο επιστημονικό περιοδικό \n\nΚάθε εργασία υποβάλλεται για ένα μόνο βραβείο\, το οποίο καθορίζεται από τον υποψήφιο.\nΓια κάθε βραβείο μπορεί να υποβληθεί μία μόνο εργασία με τον ίδιο συγγραφέα.\n\nΤα Βραβεία είναι: \n\nΒραβείο Δ. Ίκκου 1500€\nΑπονέμεται στην καλύτερη κλινική εργασία στην Ενδοκρινολογία. Ο πρώτος συγγραφέας πρέπει να είναι είτε τακτικό ή δόκιμο μέλος της ΕΕΕ-ΠΕΕ είτε Παιδοενδοκρινολόγος – πάρεδρο μέλος.\nΒραβείο Κ. Χλουβεράκη 1500€\nΑπονέμεται στην καλύτερη κλινική εργασία με θέμα το σακχαρώδη σιαβήτη. Ο πρώτος συγγραφέας πρέπει να είναι είτε τακτικό ή δόκιμο μέλος της ΕΕΕ-ΠΕΕ είτε Παιδοενδοκρινολόγος – πάρεδρο μέλος.\nΒραβείο Δ. Κούτρα 1500€\nΑπονέμεται στην καλύτερη εργασία με\, κατά προτίμηση\, κλινικό θέμα στο θυρεοειδή αδένα και\, εν ελλείψει του\, με εργαστηριακό ή πειραματικό θέμα στο θυρεοειδή (όχι ανασκόπηση). Ο πρώτος συγγραφέας πρέπει να είναι ιατρός\, τακτικό\, ή δόκιμο μέλος της ΕΕΕ-ΠΕΕ.\nΒραβείο Γ. Τόλη 1500€\nΑπονέμεται στην καλύτερη εργασία με έμφαση στη βασική έρευνα στην Eνδοκρινολογία. Ο πρώτος ή ο τελευταίος συγγραφέας θα πρέπει να είναι τακτικό\, πάρεδρο ή δόκιμο μέλος της ΕΕΕ-ΠΕΕ.\n\nΕπιπλέον στην τελετή λήξεως του Πανελληνίου Συνεδρίου Ενδοκρινολογίας\, Μεταβολισμού & Σακχαρώδη Διαβήτη απονέμονται τα παρακάτω βραβεία: \n\nΒραβείο I. Αλιβιζάτου 1500€\nΑπονέμεται στην καλύτερη εργασία του Συνεδρίου με θέμα τον σακχαρώδη διαβήτη.\n\n\nΒραβείο Ι. Γιαννάτου 1500€\nΑπονέμεται στην καλύτερη εργασία του Συνεδρίου με θέμα την κλινική Ενδοκρινολογία.\n\n\nΒραβείο Ν. Θαλασσινού 1500€\nΑπονέμεται στην καλύτερη εργασία του Συνεδρίου απότοκο συνεργασίας ενδοκρινολόγου με άλλες ειδικότητες.\n\n\nΒραβείο Σ. Πιτούλη 1500€\nΑπονέμεται στην καλύτερη εργασία του Συνεδρίου με θέμα την εργαστηριακή Ενδοκρινολογία\n\n\nΒραβείο A. Φαρμακιώτη 1500€\nΑπονέμεται στην καλύτερη αναρτημένη ανακοίνωση του Συνεδρίου\n\nΓια τα βραβεία αυτά δεν χρειάζεται υποβολή υποψηφιότητας από τους συγγραφείς. \nΕυχαριστούμε και ελπίζουμε στη συμμετοχή σας \nΓια την Ελληνική Ενδοκρινολογική Εταιρεία \nΗ  Πρόεδρος                               Ο Γεν. Γραμματέας \nΑ. Βρυωνίδου-Μπομποτά         Φ. Ταλίδης
URL:https://endo.gr/event/50o-%cf%80%ce%b1%ce%bd%ce%b5%ce%bb%ce%bb%ce%ae%ce%bd%ce%b9%ce%bf-%cf%83%cf%85%ce%bd%ce%ad%ce%b4%cf%81%ce%b9%ce%bf-%ce%b5%ce%bd%ce%b4%ce%bf%ce%ba%cf%81%ce%b9%ce%bd%ce%bf%ce%bb%ce%bf%ce%b3%ce%af%ce%b1/
CATEGORIES:Εκδηλώσεις E.E.E.,Πανελλήνια Ενδοκρινολογικά Συνέδρια
ATTACH;FMTTYPE=image/jpeg:https://endo.gr/wp-content/uploads/2025/01/FINAL-AFISA-217x300-1.jpg
END:VEVENT
BEGIN:VEVENT
DTSTART;TZID=Europe/Athens:20230520T100000
DTEND;TZID=Europe/Athens:20230520T114500
DTSTAMP:20260423T155329
CREATED:20230520T070025Z
LAST-MODIFIED:20250116T120909Z
UID:20881-1684576800-1684583100@endo.gr
SUMMARY:Webinar 20/5/2023\, Παρουσίαση περιστατικών ΓΝΑ «ΜΕΤΑΞΑ»\, ΠΓΝ ΗΡΑΚΛΕΙΟΥ
DESCRIPTION:Αγαπητοί Συνάδελφοι\, \nΤο Σάββατο 20/5/2023 στις 10.00 π.μ. πραγματοποιείται το Webinar της Ελληνικής Ενδοκρινολογικής Εταιρείας\, στο πλαίσιο των μετεκπαιδευτικών της μαθημάτων μέσω διαδικτύου για το 2023. \nΩΡΑ ΕΝΑΡΞΗΣ 10:00 – 10:45 – ΣΑΒΒΑΤΟ 20.05.2023 \n1. ΠΕΡΙΣΤΑΤΙΚΟ ΓΝΑ «ΜΕΤΑΞΑ» \nΤίτλος: Θερμοκαυτηρίαση με ραδιοσυχνότητες ως εναλλακτική θεραπεία στον πρωτοπαθή υπερπαραθυρεοειδισμό \nΥπεύθυνη: Ειρήνη Βένιου\, Δ/ντρια Ενδοκρινολογικού Τμήματος\, ΓΝA ΜΕΤΑΞΑ \nΠαρουσίαση: Νησωτάκη Μαρία Ειδικευόμενη Ενδοκρινολογίας\, ΓΝΑ ΜΕΤΑΞΑ\nΔρόσου Ασπασία Επιμελήτρια Β’\, Ενδοκρινολογικό τμήμα\, ΓΝΑ ΜΕΤΑΞΑ \nΣχολιασμός: Γκέλη Μυρσίνη\, Επιστημονικά Υπεύθυνη\, Διευθύντρια Ακτινοδιαγνωστικού τμήματος\, Ογκολογικό Αντικαρκινικό Νοσοκομείο Αθηνών Ο Άγιος Σάββας \nΩΡΑ ΕΝΑΡΞΗΣ 11:00 – 11:45 ΣΑΒΒΑΤΟ 20.05.2023 \n2. ΠΕΡΙΣΤΑΤΙΚΟ ΠΓΝ ΗΡΑΚΛΕΙΟΥ \nΤίτλος: Σπάνια περίπτωση υποφυσιακής ανεπάρκειας\, διαταραχών ανάπτυξης και δυσμορφιών. \nΥπεύθυνη: Παρασκευή Ξεκούκη\, Επίκουρη Καθηγήτρια Ενδοκρινολογίας Ιατρικής Σχολής Πανεπιστημίου Κρήτης\, Διευθύντρια της Ενδοκρινολογικής & Διαβητολογικής Κλινικής\, Πανεπιστημιακού Γενικού Νοσοκομείου Ηρακλείου \nΠαρουσίαση: Ροδάνθη Βαμβουκάκη\, Ειδικευόμενη Ενδοκρινολογίας\, Υποψήφια Διδάκτορας\, Ιατρικής Σχολής Πανεπιστημίου Κρήτης \nΣχολιασμός: Δ/ντής Γενετικής & Ιατρικής Ακριβείας\, ΙΤΕ & Νοσοκομείο Ντυνάν Επίτιμος Ερευνητής\, ΝΙΗ\, ΗΠΑ & Πρόεδρος Επιστημ. Συμβουλίου ΕΛΠΕΝ\, Καθηγητής Ιατρικής Ευρ. Παν/μιο Κύπρου. \n  \nΠροκειμένου να παρακολουθήσετε ελεύθερα το webinar\, μπορείτε να προεγγραφείτε μέσω της διεύθυνσης:\nhttps://attendee.gotowebinar.com/register/357225161848421211 \n(Webinar ID: 319-257-043) \nσυμπληρώνοντας το ονοματεπώνυμό σας και το email σας στη φόρμα εγγραφής\, ώστε να λάβετε αυτόματα ένα νέο e-mail που θα περιέχει τον σύνδεσμο (link) μέσω του οποίου θα μεταδοθεί το webinar. \nΠροσβλέποντας πάντα στην πολύτιμη ενεργό συμμετοχή σας. \nΓια την Ελληνική Ενδοκρινολογική Εταιρεία. \nΜε εκτίμηση\, \nΗ ΠΡΟΕΔΡΟΣ                  Η ΓΕΝ. ΓΡΑΜΜΑΤΕΑΣ\nΑ. Βρυωνίδου                    Β. Βασιλείου
URL:https://endo.gr/event/webinar-20-5-2023-%cf%80%ce%b1%cf%81%ce%bf%cf%85%cf%83%ce%af%ce%b1%cf%83%ce%b7-%cf%80%ce%b5%cf%81%ce%b9%cf%83%cf%84%ce%b1%cf%84%ce%b9%ce%ba%cf%8e%ce%bd-%ce%b3%ce%bd%ce%b1-%ce%bc%ce%b5%cf%84/
LOCATION:Webinar Παρουσίαση περιστατικών
CATEGORIES:Webinars παρουσίασης περιστατικών,Εκδηλώσεις E.E.E.
END:VEVENT
BEGIN:VEVENT
DTSTART;VALUE=DATE:20230527
DTEND;VALUE=DATE:20230528
DTSTAMP:20260423T155329
CREATED:20230526T210029Z
LAST-MODIFIED:20250116T121054Z
UID:20883-1685145600-1685231999@endo.gr
SUMMARY:Διαδικτυακή Ημερίδα Καρκίνος του Μαστού σήμερα: Διλήμματα και Θεραπευτικές Προοπτικές
DESCRIPTION:Πληροφορίες Συνεδρίου εδώ \nΈναρξη: 27 ΜΑΙΟΥ 2023\nΛήξη: 27 ΜΑΙΟΥ 2023\nΔείτε εδώ το πρόγραμμα \n 
URL:https://endo.gr/event/%ce%b4%ce%b9%ce%b1%ce%b4%ce%b9%ce%ba%cf%84%cf%85%ce%b1%ce%ba%ce%ae-%ce%b7%ce%bc%ce%b5%cf%81%ce%af%ce%b4%ce%b1-%ce%ba%ce%b1%cf%81%ce%ba%ce%af%ce%bd%ce%bf%cf%82-%cf%84%ce%bf%cf%85-%ce%bc%ce%b1%cf%83/
LOCATION:Διαδικτυακή Ημερίδα Καρκίνος του Μαστού
CATEGORIES:Εκδηλώσεις E.E.E.
ATTACH;FMTTYPE=image/jpeg:https://endo.gr/wp-content/uploads/2025/01/ca9456ad89fef6c66a71b99b32dfe05e_XL-212x300-1.jpg
END:VEVENT
END:VCALENDAR