BEGIN:VCALENDAR
VERSION:2.0
PRODID:-//ENDO - ECPv6.15.14//NONSGML v1.0//EN
CALSCALE:GREGORIAN
METHOD:PUBLISH
X-WR-CALNAME:ENDO
X-ORIGINAL-URL:https://endo.gr
X-WR-CALDESC:Events for ENDO
REFRESH-INTERVAL;VALUE=DURATION:PT1H
X-Robots-Tag:noindex
X-PUBLISHED-TTL:PT1H
BEGIN:VTIMEZONE
TZID:Europe/Athens
BEGIN:DAYLIGHT
TZOFFSETFROM:+0200
TZOFFSETTO:+0300
TZNAME:EEST
DTSTART:20220327T010000
END:DAYLIGHT
BEGIN:STANDARD
TZOFFSETFROM:+0300
TZOFFSETTO:+0200
TZNAME:EET
DTSTART:20221030T010000
END:STANDARD
BEGIN:DAYLIGHT
TZOFFSETFROM:+0200
TZOFFSETTO:+0300
TZNAME:EEST
DTSTART:20230326T010000
END:DAYLIGHT
BEGIN:STANDARD
TZOFFSETFROM:+0300
TZOFFSETTO:+0200
TZNAME:EET
DTSTART:20231029T010000
END:STANDARD
BEGIN:DAYLIGHT
TZOFFSETFROM:+0200
TZOFFSETTO:+0300
TZNAME:EEST
DTSTART:20240331T010000
END:DAYLIGHT
BEGIN:STANDARD
TZOFFSETFROM:+0300
TZOFFSETTO:+0200
TZNAME:EET
DTSTART:20241027T010000
END:STANDARD
END:VTIMEZONE
BEGIN:VEVENT
DTSTART;VALUE=DATE:20230731
DTEND;VALUE=DATE:20230808
DTSTAMP:20260423T191704
CREATED:20230730T210006Z
LAST-MODIFIED:20250116T121602Z
UID:20897-1690761600-1691452799@endo.gr
SUMMARY:Διενέργεια 4ης Κατασκηνωτικής Εβδομάδας ΔΙΑΝΑ
DESCRIPTION:Αγαπητοί\, \nκαι φέτος προετοιμαζόμαστε για την 4η κατασκηνωτική εβδομάδα για παιδιά με Σακχαρώδη Διαβήτη που διοργανώνει το ΔΙΑΝΑ\, το ΠαιδοΔιαβητολογικό Εξωτερικό Ιατρείο της Α΄ Παιδιατρικής Κλινικής Α.Π.Θ. του Ιπποκράτειου Νοσοκομείου Θεσσαλονίκης. Είμαστε εφοδιασμένοι με την εμπειρία των 3 προηγούμενων διοργανώσεων\, την ανάγκη και λαχτάρα για διακοπές. \nΠερισσότερες πληροφορίες αλλά και την φάρμα εκδήλωσης ενδιαφέροντος μπορείτε να βρείτε στον παρακάτω σύνδεσμο: \nhttps://www.dianadiabetes.gr/node/110 \nΣας ευχαριστώ για το χρόνο σας. \nΔιαβητολογικό Ιατρείο Α΄ Παιδιατρική Νέων Α.Π.Θ. \nΥπεύθυνος: Αν. Καθ. Αθανάσιος Χριστοφορίδης \nΙπποκράτειο Νοσοκομείο Θεσσαλονίκης \nΚωνσταντινουπόλεως 49 \n54642 – Θεσσαλονίκη \nΤηλέφωνο: 2310892491 \nhttps://www.dianadiabetes.gr/
URL:https://endo.gr/event/%ce%b4%ce%b9%ce%b5%ce%bd%ce%ad%cf%81%ce%b3%ce%b5%ce%b9%ce%b1-4%ce%b7%cf%82-%ce%ba%ce%b1%cf%84%ce%b1%cf%83%ce%ba%ce%b7%ce%bd%cf%89%cf%84%ce%b9%ce%ba%ce%ae%cf%82-%ce%b5%ce%b2%ce%b4%ce%bf%ce%bc%ce%ac/
LOCATION:Διενέργεια 4ης Κατασκηνωτικής Εβδομάδας ΔΙΑΝΑ
CATEGORIES:Εκδηλώσεις E.E.E.
ATTACH;FMTTYPE=image/png:https://endo.gr/wp-content/uploads/2025/01/diana-diabetes_0_0-300x140-1.png
END:VEVENT
END:VCALENDAR