BEGIN:VCALENDAR
VERSION:2.0
PRODID:-//ENDO - ECPv6.15.14//NONSGML v1.0//EN
CALSCALE:GREGORIAN
METHOD:PUBLISH
X-ORIGINAL-URL:https://endo.gr
X-WR-CALDESC:Events for ENDO
REFRESH-INTERVAL;VALUE=DURATION:PT1H
X-Robots-Tag:noindex
X-PUBLISHED-TTL:PT1H
BEGIN:VTIMEZONE
TZID:Europe/Athens
BEGIN:DAYLIGHT
TZOFFSETFROM:+0200
TZOFFSETTO:+0300
TZNAME:EEST
DTSTART:20230326T010000
END:DAYLIGHT
BEGIN:STANDARD
TZOFFSETFROM:+0300
TZOFFSETTO:+0200
TZNAME:EET
DTSTART:20231029T010000
END:STANDARD
BEGIN:DAYLIGHT
TZOFFSETFROM:+0200
TZOFFSETTO:+0300
TZNAME:EEST
DTSTART:20240331T010000
END:DAYLIGHT
BEGIN:STANDARD
TZOFFSETFROM:+0300
TZOFFSETTO:+0200
TZNAME:EET
DTSTART:20241027T010000
END:STANDARD
BEGIN:DAYLIGHT
TZOFFSETFROM:+0200
TZOFFSETTO:+0300
TZNAME:EEST
DTSTART:20250330T010000
END:DAYLIGHT
BEGIN:STANDARD
TZOFFSETFROM:+0300
TZOFFSETTO:+0200
TZNAME:EET
DTSTART:20251026T010000
END:STANDARD
END:VTIMEZONE
BEGIN:VEVENT
DTSTART;VALUE=DATE:20240410
DTEND;VALUE=DATE:20240414
DTSTAMP:20260423T065909
CREATED:20240410T073308Z
LAST-MODIFIED:20250319T115602Z
UID:22661-1712707200-1713052799@endo.gr
SUMMARY:51o Πανελλήνιο Συνέδριο Ενδοκρινολογίας\, Μεταβολισμού και Σακχαρώδη Διαβήτη\, 10-13 Απριλίου 2024\, Ζάππειο Μέγαρο\, Αθήνα
DESCRIPTION:Σας ενημερώνουμε ότι στις 10-13 Απριλίου 2024\, η Ελληνική Ενδοκρινολογική Εταιρεία διοργανώνει στην Αθήνα\, τo 51o Πανελλήνιο Συνέδριο Ενδοκρινολογίας\, Μεταβολισμού και Σακχαρώδη Διαβήτη\, στο Ζάππειο Μέγαρο. \nΓια περισσότερες πληροφορίες δείτε εδώ \nΔείτε εδώ το πρόγραμμα \nΔείτε εδώ το Abstract Book \nΚΟΣΤΟΣ ΕΓΓΡΑΦΗΣ\nΕιδικοί / Ειδικευόμενοι ιατροί:  140€Άλλοι Επαγγελματίες Υγείας – Νοσηλευτές/τριες:  70€\nΦοιτητές/τριες*: Δωρεάν \n*Αφορά σε προπτυχιακούς φοιτητές με την επίδειξη της φοιτητικής τους ταυτότητας. Δεν ισχύει για τους μεταπτυχιακούς φοιτητές. \n\nΣυνέδρια\, Εκδηλώσεις\, Ταξίδια Κινήτρων & Επαγγελματικά\, Τουρισμός Αναψυχής\n Ασκληπιού 17\, 10680\, Αθήνα\n +30 210.36.34.944\n +30 210.36.31.690\n info@era.gr\n www.era.gr \nΤο Συνέδριο θα μοριοδοτηθεί με Μόρια Συνεχιζόμενης Ιατρικής Εκπαίδευσης (C.M.E. credits) αναγνωρισμένα από τον ΠΙΣ. \nΤα poster θα αναρτηθούν ηλεκτρονικά. \nΜπορείτε να υποβάλετε τις εργασίες σας επιλέγοντας τον παρακάτω σύνδεσμο: \nΚαταληκτική ημερομηνία υποβολής εργασιών: 17 Φεβρουαρίου 2024. \nΔείτε εδώ υπόδειγμα εργασίας με οδηγίες για σωστή υποβολή. \n(Η εργασία που παρουσιάζεται σαν υπόδειγμα έχει υποβληθεί στο 37ο ΠΕΣ και η επιλογή της είναι τυχαία) \nΟΔΗΓΙΕΣ ΓΙΑ ΤΗΝ ΥΠΟΒΟΛΗ ΥΠΟΨΗΦΙΟΤΗΤΩΝ ΓΙΑ ΤΑ  ΒΡΑΒΕΙΑ σε εργασίες που δημοσιεύθηκαν το 2023 σε περιοδικό που αναφέρεται στο PubMed με IMPACT FACTOR\n1. Οι εργασίες πρέπει να έχουν σχεδιασθεί και εκτελεσθεί εξ ολοκλήρου στην Ελλάδα.\n2. Κάθε εργασία υποβάλλεται στην  πλήρη δημοσιευμένη της μορφή (PDF) από το αντίστοιχο επιστημονικό περιοδικό \n\nΚάθε εργασία υποβάλλεται για ένα μόνο βραβείο\, το οποίο καθορίζεται από τον υποψήφιο.\nΓια κάθε βραβείο μπορεί να υποβληθεί μία μόνο εργασία με τον ίδιο συγγραφέα.\n\nΤα Βραβεία είναι: \n\nΒραβείο Δ. Ίκκου 1500€\nΑπονέμεται στην καλύτερη κλινική εργασία στην Ενδοκρινολογία. Ο πρώτος συγγραφέας πρέπει να είναι είτε τακτικό ή δόκιμο μέλος της ΕΕΕ-ΠΕΕ είτε Παιδοενδοκρινολόγος – πάρεδρο μέλος.\nΒραβείο Κ. Χλουβεράκη 1500€\nΑπονέμεται στην καλύτερη κλινική εργασία με θέμα το σακχαρώδη σιαβήτη. Ο πρώτος συγγραφέας πρέπει να είναι είτε τακτικό ή δόκιμο μέλος της ΕΕΕ-ΠΕΕ είτε Παιδοενδοκρινολόγος – πάρεδρο μέλος.\nΒραβείο Δ. Κούτρα 1500€\nΑπονέμεται στην καλύτερη εργασία με\, κατά προτίμηση\, κλινικό θέμα στο θυρεοειδή αδένα και\, εν ελλείψει του\, με εργαστηριακό ή πειραματικό θέμα στο θυρεοειδή (όχι ανασκόπηση). Ο πρώτος συγγραφέας πρέπει να είναι ιατρός\, τακτικό\, ή δόκιμο μέλος της ΕΕΕ-ΠΕΕ.\nΒραβείο Γ. Τόλη 1500€\nΑπονέμεται στην καλύτερη εργασία με έμφαση στη βασική έρευνα στην Eνδοκρινολογία. Ο πρώτος ή ο τελευταίος συγγραφέας θα πρέπει να είναι τακτικό\, πάρεδρο ή δόκιμο μέλος της ΕΕΕ-ΠΕΕ.\nΒραβείο Ε. Σπανού 1500€\nΑπονέμεται στην καλύτερη εργασία με θέμα την Εργαστηριακή Ενδοκρινολογία. Ο πρώτος ή ο τελευταίος συγγραφέας πρέπει να είναι τακτικό\, δόκιμο ή πάρεδρο μέλος της ΕΕΕ-ΠΕΕ.\n\nΕπιπλέον στην τελετή λήξεως του Πανελληνίου Συνεδρίου Ενδοκρινολογίας\, Μεταβολισμού & Σακχαρώδη Διαβήτη απονέμονται τα παρακάτω βραβεία: \n\nΒραβείο I. Αλιβιζάτου 1500€: στην καλύτερη εργασία του συνεδρίου στον Σακχαρώδη Διαβήτη\nΒραβείο Ι. Γιαννάτου 1500€: στην καλύτερη εργασία του συνεδρίου στην κλινική Ενδοκρινολογία\nΒραβείο Ν. Θαλασσινού1500€: στην καλύτερη εργασία του συνεδρίου απότοκο συνεργασίας Ενδοκρινολόγου με άλλες ειδικότητες\nΒραβείο Σ. Πιτούλη 1500€: στην καλύτερη εργασία του συνεδρίου με θέμα τη εργαστηριακή Ενδοκρινολογία\nΒραβείο A. Φαρμακιώτη 1500€: στην καλύτερη αναρτημένη ανακοίνωση\n\nΓια τα βραβεία αυτά δεν χρειάζεται υποβολή υποψηφιότητας από τους συγγραφείς. \nΕυχαριστούμε και ελπίζουμε στη συμμετοχή σας \nΓια την Ελληνική Ενδοκρινολογική Εταιρεία \nΗ  Πρόεδρος                               Η Γεν. Γραμματέας \nΑ. Βρυωνίδου-Μπομποτά         Β. Βασιλείου
URL:https://endo.gr/event/51o-%cf%80%ce%b1%ce%bd%ce%b5%ce%bb%ce%bb%ce%ae%ce%bd%ce%b9%ce%bf-%cf%83%cf%85%ce%bd%ce%ad%ce%b4%cf%81%ce%b9%ce%bf-%ce%b5%ce%bd%ce%b4%ce%bf%ce%ba%cf%81%ce%b9%ce%bd%ce%bf%ce%bb%ce%bf%ce%b3%ce%af%ce%b1/
LOCATION:51o Πανελλήνιο Συνέδριο Ενδοκρινολογίας
CATEGORIES:Εκδηλώσεις E.E.E.,Πανελλήνια Ενδοκρινολογικά Συνέδρια
ATTACH;FMTTYPE=image/jpeg:https://endo.gr/wp-content/uploads/2025/02/51-ENDOKRINOLOGIKO-SYNEDRIO_POSTER-FIN-212x300-1.jpg
END:VEVENT
END:VCALENDAR