BEGIN:VCALENDAR
VERSION:2.0
PRODID:-//ENDO - ECPv6.15.14//NONSGML v1.0//EN
CALSCALE:GREGORIAN
METHOD:PUBLISH
X-WR-CALNAME:ENDO
X-ORIGINAL-URL:https://endo.gr
X-WR-CALDESC:Events for ENDO
REFRESH-INTERVAL;VALUE=DURATION:PT1H
X-Robots-Tag:noindex
X-PUBLISHED-TTL:PT1H
BEGIN:VTIMEZONE
TZID:Europe/Athens
BEGIN:DAYLIGHT
TZOFFSETFROM:+0200
TZOFFSETTO:+0300
TZNAME:EEST
DTSTART:20230326T010000
END:DAYLIGHT
BEGIN:STANDARD
TZOFFSETFROM:+0300
TZOFFSETTO:+0200
TZNAME:EET
DTSTART:20231029T010000
END:STANDARD
BEGIN:DAYLIGHT
TZOFFSETFROM:+0200
TZOFFSETTO:+0300
TZNAME:EEST
DTSTART:20240331T010000
END:DAYLIGHT
BEGIN:STANDARD
TZOFFSETFROM:+0300
TZOFFSETTO:+0200
TZNAME:EET
DTSTART:20241027T010000
END:STANDARD
BEGIN:DAYLIGHT
TZOFFSETFROM:+0200
TZOFFSETTO:+0300
TZNAME:EEST
DTSTART:20250330T010000
END:DAYLIGHT
BEGIN:STANDARD
TZOFFSETFROM:+0300
TZOFFSETTO:+0200
TZNAME:EET
DTSTART:20251026T010000
END:STANDARD
END:VTIMEZONE
BEGIN:VEVENT
DTSTART;TZID=Europe/Athens:20241028T070000
DTEND;TZID=Europe/Athens:20241028T160000
DTSTAMP:20260422T204843
CREATED:20241027T234535Z
LAST-MODIFIED:20241117T123527Z
UID:17977-1730098800-1730131200@endo.gr
SUMMARY:Εκδήλωση Ενημέρωσης Κοινού «Διαβήτης και Ευζωία»\, Δευτέρα 11 Νοεμβρίου 2024\, Κεντρική Αίθουσα Τελετών Πανεπιστημίου Αθηνών
DESCRIPTION:Οι Επιστημονικοί Φορείς Ελληνική Διαβητολογική Εταιρεία (Ε.Δ.Ε.) και Ελληνική Ενδοκρινολογική Εταιρεία (Ε.Ε.Ε.) με τη συνεργασία της Ελληνικής Ομοσπονδίας για τον Διαβήτη (ΕΛ.Ο.ΔΙ.)\, της Πανελλήνιας Ένωσης Αγώνος κατά του Νεανικού Διαβήτη (Π.Ε.Α.Ν.Δ.) και της Πανελλήνιας Ομοσπονδίας Σωματείων – Συλλόγων Ατόμων με Σακχαρώδη Διαβήτη (ΠΟΣΣΑΣΔΙΑ) ενώνουν τις δυνάμεις τους για την Εκδήλωση Ενημέρωσης Κοινού με τίτλο «Διαβήτης και Ευζωία» στο πλαίσιο της ΠΑΓΚΟΣΜΙΑΣ ΗΜΕΡΑΣ ΔΙΑΒΗΤΗ 2024.\nΗ Εκδήλωση θα πραγματοποιηθεί την Δευτέρα 11 Νοεμβρίου 2024 και ώρα 18.00 έως 20.30 στην Κεντρική Αίθουσα Τελετών του Πανεπιστημίου Αθηνών (Πανεπιστημίου 30\, 106 79 Αθήνα). \nΠροσβέπουμε στην παρουσία σας και σας ευχαριστούμε εκ των προτέρων.
URL:https://endo.gr/event/%ce%b5%ce%ba%ce%b4%ce%ae%ce%bb%cf%89%cf%83%ce%b7-%ce%b5%ce%bd%ce%b7%ce%bc%ce%ad%cf%81%cf%89%cf%83%ce%b7%cf%82-%ce%ba%ce%bf%ce%b9%ce%bd%ce%bf%cf%8d-%ce%b4%ce%b9%ce%b1%ce%b2%ce%ae%cf%84%ce%b7/
CATEGORIES:Εκδηλώσεις E.E.E.
END:VEVENT
END:VCALENDAR